From mboxrd@z Thu Jan 1 00:00:00 1970 Return-Path: Received: from mails.dpdk.org (mails.dpdk.org [217.70.189.124]) by inbox.dpdk.org (Postfix) with ESMTP id AE54048A07 for ; Tue, 28 Oct 2025 21:24:49 +0100 (CET) Received: from mails.dpdk.org (localhost [127.0.0.1]) by mails.dpdk.org (Postfix) with ESMTP id A7F934021E; Tue, 28 Oct 2025 21:24:49 +0100 (CET) Received: from mail-yw1-f227.google.com (mail-yw1-f227.google.com [209.85.128.227]) by mails.dpdk.org (Postfix) with ESMTP id 798CE4021E for ; Tue, 28 Oct 2025 21:24:48 +0100 (CET) Received: by mail-yw1-f227.google.com with SMTP id 00721157ae682-7861978aca2so4898707b3.1 for ; Tue, 28 Oct 2025 13:24:48 -0700 (PDT) DKIM-Signature: v=1; a=rsa-sha256; c=relaxed/relaxed; d=iol.unh.edu; s=unh-iol; t=1761683088; x=1762287888; darn=dpdk.org; h=references:in-reply-to:cc:to:from:subject:message-id:date:from:to :cc:subject:date:message-id:reply-to; bh=vEblAEK328hxrQrvre+8uANdQcLin30YTQ9GhVHz5c0=; b=BMucEBkw3wXfvfZFhZw0OVFGqHoOBAfwp+bxhlDt+Hv9Dxv3lsTffS+YddM4R0l4Jt jEZb5oL4+DRTC/RueIfo2OTCbIFf/zc8UWarYa/bBLsbYI0jHDxgRzAKtp+LZdyIuKGo EtLC7u0c7xFl8PgAmFXQJNWacj/bvEt5I7Tpw= X-Google-DKIM-Signature: v=1; a=rsa-sha256; c=relaxed/relaxed; d=1e100.net; s=20230601; t=1761683088; x=1762287888; h=references:in-reply-to:cc:to:from:subject:message-id:date :x-gm-message-state:from:to:cc:subject:date:message-id:reply-to; bh=vEblAEK328hxrQrvre+8uANdQcLin30YTQ9GhVHz5c0=; b=Cvhg/MZHkS/ELj5T+SlNFPYBLCF/DawfYAoVnUvqmiosP+E0h0WtrcyEC/mo+HZamh joXalpQv1UPFQBfToMLuz4k+sTNzA9ChMOey7HMO0kyfvcCVgC3KaA4mePmyM+fHIs4q tRDVZ7YBMjW5NWrsKMjwJu0Aa3bUHyBj0mXBzBSCRifURWDSOYNnCcYeFQ5G3qeNGx34 gDw7pBd69B5PV+85z8Y6Jzn8yLTt3oat5KKXgU71J7Yu/xOSykTOP0rzn1RX6VDEvMtJ uJoc0DDOL0wlufdiMKlTUwsiQqfO4Ci8lQeNj5/L3vpRo0kM7X2yfGEwfjMh1K2eNgIy QlqQ== X-Gm-Message-State: AOJu0Yy5pDqZdRjHRfpiYFEXJV+XBAXaC9YrFGUfDsvIXoIhNGAw1rj3 CHgiDyHblXAIaXQ6FwKBItEPVPpEryKsEKxXxJXJK1ChsVrg60qS04MK/Al2m91R3wpf39wp2eJ fdRbUa+Jovpscz1VwucOOBoZkX0R5iHnV8pUjGYCbvUbB/aZOUJ14Rvzol2D4 X-Gm-Gg: ASbGncsXeKyQAGRFdi5SAZq5ACKF2PLbVHalUOnoXd1EoHxZEw7OxVDuRyHfNAxFFw2 wXTlSsDrtQo7cNm1KogdzopsaxyO9JFeYSx7cjxLzz33RW5qmwEw0pMDP0sPyS1h34GBMLWYTME +WVveLs4Y6/c/1UIxXhYPhpb/NvEtmMs08gIPDz5XFvu+THZG5fzzaBign0J77G+VZKYu9TiRHF 22HqfmgBbgqtrPPy3ls+OWjycYNB+hPpTo95uWWV8adO7e2fyfOicAZG97vnFH6HXGFg2x1wDNI tsFxz8sCiFdCCTQRukHLRiONiBlsdLftsv8SpskozqB6ZlJC5WhUp/fwS2fm8CK/vc3A+Fg2wWL BN/dtJYv9 X-Google-Smtp-Source: AGHT+IEOLUHeANlBNxVZBFA0nsfDTsTVB00EFnYH+Mlz/5MEL4gEMT4bKNo7vmvF9y2zWaHBZNMYXt9rP2CV X-Received: by 2002:a05:690c:26c2:b0:74c:72c5:fda with SMTP id 00721157ae682-7861915e1cdmr39204197b3.16.1761683087842; Tue, 28 Oct 2025 13:24:47 -0700 (PDT) Received: from postal.iol.unh.edu (postal.iol.unh.edu. [2606:4100:3880:1234::84]) by smtp-relay.gmail.com with ESMTPS id 00721157ae682-785ed17a5e8sm8086397b3.11.2025.10.28.13.24.47 (version=TLS1_2 cipher=ECDHE-ECDSA-AES128-GCM-SHA256 bits=128/128); Tue, 28 Oct 2025 13:24:47 -0700 (PDT) X-Relaying-Domain: iol.unh.edu Date: Tue, 28 Oct 2025 13:24:47 -0700 (PDT) Message-ID: <6901268f.050a0220.b2a0.497cSMTPIN_ADDED_MISSING@mx.google.com> Received: from [172.21.0.2] (unknown [172.18.0.240]) by postal.iol.unh.edu (Postfix) with ESMTP id 862F16050A61; Tue, 28 Oct 2025 16:24:47 -0400 (EDT) Subject: |SUCCESS| pw158188 [PATCH] vhost: fix external buffer in VDUSE From: dpdklab@iol.unh.edu To: Test Report Cc: dpdk-test-reports@iol.unh.edu, Chenbo Xia , Maxime Coquelin In-Reply-To: <20251028123453.4127525-1-david.marchand@redhat.com> References: <20251028123453.4127525-1-david.marchand@redhat.com> Content-Type: text/plain X-BeenThere: test-report@dpdk.org X-Mailman-Version: 2.1.29 Precedence: list List-Id: automatic DPDK test reports List-Unsubscribe: , List-Archive: List-Post: List-Help: List-Subscribe: , Errors-To: test-report-bounces@dpdk.org Test-Label: iol-unit-amd64-testing Test-Status: SUCCESS http://dpdk.org/patch/158188 _Testing PASS_ Submitter: David Marchand Date: Tuesday, October 28 2025 12:34:53 DPDK git baseline: Repo:dpdk-next-virtio Branch: master CommitID:a62b0fbf8e367c88d28d78210db1b28c8eac4b1b 158188 --> testing pass Upstream job id: Generic-VM-Unit-Test-DPDK#32125 Test environment and result as below: +-------------------------------+----------------+ | Environment | dpdk_unit_test | +===============================+================+ | CentOS Stream 9 | PASS | +-------------------------------+----------------+ | Debian GNU/Linux 12 | PASS | +-------------------------------+----------------+ | CentOS Stream 10 | PASS | +-------------------------------+----------------+ | Fedora Linux 40 | PASS | +-------------------------------+----------------+ | Fedora Linux 41 | PASS | +-------------------------------+----------------+ | Fedora Linux 42 | PASS | +-------------------------------+----------------+ | Ubuntu 22.04 | PASS | +-------------------------------+----------------+ | Ubuntu 20.04 | PASS | +-------------------------------+----------------+ | Red Hat Enterprise Linux 9.5 | PASS | +-------------------------------+----------------+ | Red Hat Enterprise Linux 8.10 | PASS | +-------------------------------+----------------+ | Ubuntu 24.04 | PASS | +-------------------------------+----------------+ | Windows Server 2022 | PASS | +-------------------------------+----------------+ CentOS Stream 9 Kernel: 5.15 Compiler: gcc gcc (GCC) 11.5.0 20240719 (Red Hat 11.5.0-11) Debian GNU/Linux 12 Kernel: 5.15 Compiler: gcc gcc (Debian 12.2.0-14+deb12u1) 12.2.0 CentOS Stream 10 Kernel: 5.15 Compiler: gcc gcc (GCC) 14.2.1 20250110 (Red Hat 14.2.1-8) Fedora Linux 40 Kernel: 5.15 Compiler: gcc gcc (GCC) 14.2.1 20240912 (Red Hat 14.2.1-3) Fedora Linux 41 Kernel: 5.15 Compiler: gcc gcc (GCC) 14.3.1 20250523 (Red Hat 14.3.1-1) Fedora Linux 42 Kernel: 5.15 Compiler: gcc gcc (GCC) 15.2.1 20250808 (Red Hat 15.2.1-1) Ubuntu 22.04 Kernel: 5.15 Compiler: gcc gcc (Ubuntu 11.4.0-1ubuntu1~22.04) 11.4.0 Ubuntu 20.04 Kernel: 5.15 Compiler: gcc gcc (Ubuntu 9.4.0-1ubuntu1~20.04.2) 9.4.0 Red Hat Enterprise Linux 9.5 Kernel: 5.15 Compiler: gcc gcc (GCC) 11.5.0 20240719 (Red Hat 11.5.0-2) Red Hat Enterprise Linux 8.10 Kernel: 5.15 Compiler: gcc gcc (GCC) 8.5.0 20210514 (Red Hat 8.5.0-22) Ubuntu 24.04 Kernel: 5.15 Compiler: gcc gcc (Ubuntu 13.3.0-6ubuntu2~24.04) 13.3.0 Windows Server 2022 Kernel: 10.0.20348.2031 Compiler: clang 15.0.7, gcc 14.1.0 (MinGW), and MSVC VS 19.39.33521 To view detailed results, visit: https://lab.dpdk.org/results/dashboard/patchsets/34402/ UNH-IOL DPDK Community Lab To manage your email subscriptions, visit: https://lab.dpdk.org/results/dashboard/preferences/subscriptions/