From: dpdklab@iol.unh.edu
To: Test Report <test-report@dpdk.org>
Cc: dpdk-test-reports@iol.unh.edu
Subject: |WARNING| pw158193 [PATCH] trace: fix build with clang 21
Date: Tue, 28 Oct 2025 13:27:58 -0700 (PDT) [thread overview]
Message-ID: <6901274e.050a0220.14e014.a221SMTPIN_ADDED_MISSING@mx.google.com> (raw)
In-Reply-To: <20251028143952.4160487-1-david.marchand@redhat.com>
Test-Label: iol-sample-apps-testing
Test-Status: WARNING
http://dpdk.org/patch/158193
_Testing issues_
Submitter: David Marchand <david.marchand@redhat.com>
Date: Tuesday, October 28 2025 14:39:52
DPDK git baseline: Repo:dpdk
Branch: master
CommitID:39b54f2dcf44ad1f91eabc7080cd5dea763607fd
158193 --> testing issues
Upstream job id: Template-DTS-Pipeline#251758
Test environment and result as below:
+--------------+----------------------+----------------------+
| Environment | compressdev_zlib_pmd | dpdk_fips_validation |
+==============+======================+======================+
| Ubuntu 22.04 | PASS | SKIPPED |
+--------------+----------------------+----------------------+
| Ubuntu 20.04 | SKIPPED | WARN |
+--------------+----------------------+----------------------+
==== 20 line log output for Ubuntu 20.04 (dpdk_fips_validation): ====
Traceback (most recent call last):
File "/dpdk-ci/tools/acvp/acvp_tool.py", line 368, in <module>
main(
File "/dpdk-ci/tools/acvp/acvp_tool.py", line 314, in main
with open(response_path, 'r') as upload_file:
FileNotFoundError: [Errno 2] No such file or directory: '/root/workspace/ACVP-FIPS-testing/out/hmac-sha-1-answers.rsp'
INFO:root:Using response file...
Traceback (most recent call last):
File "/dpdk-ci/tools/acvp/acvp_tool.py", line 368, in <module>
main(
File "/dpdk-ci/tools/acvp/acvp_tool.py", line 314, in main
with open(response_path, 'r') as upload_file:
FileNotFoundError: [Errno 2] No such file or directory: '/root/workspace/ACVP-FIPS-testing/out/acvp-tdes-cbc-answers.rsp'
INFO:root:Using response file...
Traceback (most recent call last):
File "/dpdk-ci/tools/acvp/acvp_tool.py", line 368, in <module>
main(
File "/dpdk-ci/tools/acvp/acvp_tool.py", line 314, in main
with open(response_path, 'r') as upload_file:
FileNotFoundError: [Errno 2] No such file or directory: '/root/workspace/ACVP-FIPS-testing/out/acvp-aes-ctr-answers.rsp'
==== End log output ====
Ubuntu 22.04
Kernel: 5.15
Compiler: gcc gcc (Ubuntu 11.4.0-1ubuntu1~22.04.2) 11.4.0
Ubuntu 20.04
Kernel: 5.15
Compiler: gcc gcc (Ubuntu 9.4.0-1ubuntu1~20.04.2) 9.4.0
To view detailed results, visit:
https://lab.dpdk.org/results/dashboard/patchsets/34405/
UNH-IOL DPDK Community Lab
To manage your email subscriptions, visit:
https://lab.dpdk.org/results/dashboard/preferences/subscriptions/
next prev parent reply other threads:[~2025-10-28 20:28 UTC|newest]
Thread overview: 30+ messages / expand[flat|nested] mbox.gz Atom feed top
[not found] <20251028143952.4160487-1-david.marchand@redhat.com>
2025-10-28 14:13 ` |SUCCESS| " qemudev
2025-10-28 14:18 ` qemudev
2025-10-28 14:40 ` |WARNING| " checkpatch
2025-10-28 15:29 ` |SUCCESS| " dpdklab
2025-10-28 15:34 ` dpdklab
2025-10-28 15:34 ` dpdklab
2025-10-28 15:38 ` dpdklab
2025-10-28 15:53 ` dpdklab
2025-10-28 15:55 ` dpdklab
2025-10-28 16:01 ` dpdklab
2025-10-28 16:07 ` dpdklab
2025-10-28 16:07 ` dpdklab
2025-10-28 16:11 ` |PENDING| " dpdklab
2025-10-28 16:24 ` |SUCCESS| " 0-day Robot
2025-10-28 16:24 ` 0-day Robot
2025-10-28 19:59 ` |PENDING| " dpdklab
2025-10-28 20:00 ` |WARNING| " dpdklab
2025-10-28 20:15 ` dpdklab
2025-10-28 20:27 ` dpdklab [this message]
2025-10-28 21:02 ` |PENDING| " dpdklab
2025-10-28 21:30 ` |WARNING| " dpdklab
2025-10-28 21:48 ` |SUCCESS| " dpdklab
2025-10-28 22:06 ` dpdklab
2025-10-28 22:26 ` dpdklab
2025-10-28 22:29 ` dpdklab
2025-10-28 22:47 ` dpdklab
2025-10-28 23:09 ` |WARNING| " dpdklab
2025-10-28 23:10 ` dpdklab
2025-10-29 2:06 ` |SUCCESS| " dpdklab
2025-10-29 9:26 ` dpdklab
Reply instructions:
You may reply publicly to this message via plain-text email
using any one of the following methods:
* Save the following mbox file, import it into your mail client,
and reply-to-all from there: mbox
Avoid top-posting and favor interleaved quoting:
https://en.wikipedia.org/wiki/Posting_style#Interleaved_style
* Reply using the --to, --cc, and --in-reply-to
switches of git-send-email(1):
git send-email \
--in-reply-to=6901274e.050a0220.14e014.a221SMTPIN_ADDED_MISSING@mx.google.com \
--to=dpdklab@iol.unh.edu \
--cc=dpdk-test-reports@iol.unh.edu \
--cc=test-report@dpdk.org \
/path/to/YOUR_REPLY
https://kernel.org/pub/software/scm/git/docs/git-send-email.html
* If your mail client supports setting the In-Reply-To header
via mailto: links, try the mailto: link
Be sure your reply has a Subject: header at the top and a blank line
before the message body.
This is a public inbox, see mirroring instructions
for how to clone and mirror all data and code used for this inbox;
as well as URLs for NNTP newsgroup(s).