From mboxrd@z Thu Jan 1 00:00:00 1970 Return-Path: Received: from mails.dpdk.org (mails.dpdk.org [217.70.189.124]) by inbox.dpdk.org (Postfix) with ESMTP id A297448A05 for ; Tue, 28 Oct 2025 21:31:40 +0100 (CET) Received: from mails.dpdk.org (localhost [127.0.0.1]) by mails.dpdk.org (Postfix) with ESMTP id 9AEF24021E; Tue, 28 Oct 2025 21:31:40 +0100 (CET) Received: from mail-vs1-f99.google.com (mail-vs1-f99.google.com [209.85.217.99]) by mails.dpdk.org (Postfix) with ESMTP id BF1424021E for ; Tue, 28 Oct 2025 21:31:39 +0100 (CET) Received: by mail-vs1-f99.google.com with SMTP id ada2fe7eead31-5db4006eb0fso3659783137.2 for ; Tue, 28 Oct 2025 13:31:39 -0700 (PDT) DKIM-Signature: v=1; a=rsa-sha256; c=relaxed/relaxed; d=iol.unh.edu; s=unh-iol; t=1761683499; x=1762288299; darn=dpdk.org; h=references:in-reply-to:cc:to:from:subject:message-id:date:from:to :cc:subject:date:message-id:reply-to; bh=zi4dFeEb5wBQdAqdO1hHpfH34Og1F+/MTAv/t0Actvg=; b=H/KYHKTpLOpiOIX/+RqmXurldpZTHT2i7nbSVfSkX1Pes3MwbUBnupKolEYyghF8en NvDJezGtxrm1OpFb/L4es7Bnr+wBDt6hS0ZsaYj97kKg2vTOIRjE/9Uj2Eoq1x4Zwy4h GG9nIx3nOPD/rDQvFHWDcj2flILD2VbgMogfk= X-Google-DKIM-Signature: v=1; a=rsa-sha256; c=relaxed/relaxed; d=1e100.net; s=20230601; t=1761683499; x=1762288299; h=references:in-reply-to:cc:to:from:subject:message-id:date :x-gm-message-state:from:to:cc:subject:date:message-id:reply-to; bh=zi4dFeEb5wBQdAqdO1hHpfH34Og1F+/MTAv/t0Actvg=; b=pyIte7FFySWUgiqrEkw52eqLgjcFzfVbkw18viXMTsT3W5S2oUMsVUurceyABx7FPS vFsUQHEivj/XYL7FCmnwG3SQlWP24LvtuiEFWYJ0zUkFQpgu3Mtj4MFtMTAjif9QMlkm ENrzw8FKxeLBfzHhy+BCDsuTS34fkAtBa2zsulm0ytwwxJfHxifBcqzoWP49goPj3U7u FcrbrcMG+YZpLOTobm/lK5tkxmhfooT8a2YSwCdjYC1zig6imxZRzsGjgf3a0fdddZke lY2BV5I/o/qv4JcxHKKUDsoHAWCbW/3amHgGudU2sObVnQzskbuusw5VNEnwA/SZDfVb KnMQ== X-Gm-Message-State: AOJu0Ywc7irwwuf8FLmLGlSrPwIOGHjkXSK6B0/XEZFKTb8Os64AAA6+ pImqqT5Cu+DDqgmTgrOFpaj7JwnxGkZ0x+nUxRqd7xT5UIIQ0wVzo+YJWi6Qoc7yDnXWmdWLp/D M10mIrQxd/k96ZRJBGMsFlZoO24/EX9qmJZ44tA8u/iyE X-Gm-Gg: ASbGncujlZADRjqSDiaY73F5wx6vqvCaZ9w3xQsvT7HQ6NT3l30OVewr+QKHzLEYrV9 WC8trSVp+nh5TCL/+oLPj588USuHc45Dd67Rdpj6K7dZW0CS9TxOrXqqfpPcnf7MwawlUE6mNI1 Yzi6KoBCLMEPIeiBJEBRdFZ81rwpegXj9FD0K9462qIm8V0NpFnqN3IU4ALwjDvPJdNhoSaaHxA hvPeT4GIBsA3SSXspXHGX7+ocfsJW7JJPGkgO8Zvw2m0AOZmlf9Ues1ps/Jhfr96SKKeQAG+5Z7 mGfcnpuU8rXAGg16kwiF3wGrX33St9/yXm5fxWCcY/ldet9DWQPIr9yZE0YQLjZUr0uRcjjOcEK Z0trjntkgecL5bkgQfmmpStcRrLGx/TU= X-Google-Smtp-Source: AGHT+IHsauKQXZ7QyJChUlC6ICw43//MIqCjuVZqCff5+kpGVtaLxVJzPxeXf6LLTQMgQqzPVm0DS9O2Of1S X-Received: by 2002:a05:6102:149c:b0:521:57e7:3b19 with SMTP id ada2fe7eead31-5db90661052mr150857137.25.1761683499133; Tue, 28 Oct 2025 13:31:39 -0700 (PDT) Received: from postal.iol.unh.edu (postal.iol.unh.edu. [132.177.123.84]) by smtp-relay.gmail.com with ESMTPS id ada2fe7eead31-5db4e5b9a1fsm1317562137.2.2025.10.28.13.31.39 (version=TLS1_2 cipher=ECDHE-ECDSA-AES128-GCM-SHA256 bits=128/128); Tue, 28 Oct 2025 13:31:39 -0700 (PDT) X-Relaying-Domain: iol.unh.edu Date: Tue, 28 Oct 2025 13:31:39 -0700 (PDT) Message-ID: <6901282b.050a0220.3820ff.db18SMTPIN_ADDED_MISSING@mx.google.com> Received: from [172.21.0.2] (unknown [172.18.0.240]) by postal.iol.unh.edu (Postfix) with ESMTP id C923A6050A61; Tue, 28 Oct 2025 16:31:38 -0400 (EDT) Subject: |SUCCESS| pw158189 [PATCH] doc: fix doxygen errors with v1.15.0 From: dpdklab@iol.unh.edu To: Test Report Cc: dpdk-test-reports@iol.unh.edu In-Reply-To: <20251028141159.177727-1-jerinj@marvell.com> References: <20251028141159.177727-1-jerinj@marvell.com> Content-Type: text/plain X-BeenThere: test-report@dpdk.org X-Mailman-Version: 2.1.29 Precedence: list List-Id: automatic DPDK test reports List-Unsubscribe: , List-Archive: List-Post: List-Help: List-Subscribe: , Errors-To: test-report-bounces@dpdk.org Test-Label: iol-unit-amd64-testing Test-Status: SUCCESS http://dpdk.org/patch/158189 _Testing PASS_ Submitter: Jerin Jacob Date: Tuesday, October 28 2025 14:11:59 DPDK git baseline: Repo:dpdk Branch: master CommitID:39b54f2dcf44ad1f91eabc7080cd5dea763607fd 158189 --> testing pass Upstream job id: Generic-Unit-Test-DPDK#386222 Test environment and result as below: +-------------------------------+----------------+ | Environment | dpdk_unit_test | +===============================+================+ | CentOS Stream 9 | PASS | +-------------------------------+----------------+ | CentOS Stream 10 | PASS | +-------------------------------+----------------+ | Debian GNU/Linux 12 | PASS | +-------------------------------+----------------+ | Fedora Linux 41 | PASS | +-------------------------------+----------------+ | Fedora Linux 40 | PASS | +-------------------------------+----------------+ | Red Hat Enterprise Linux 8.10 | PASS | +-------------------------------+----------------+ | Red Hat Enterprise Linux 9.5 | PASS | +-------------------------------+----------------+ | Ubuntu 22.04 | PASS | +-------------------------------+----------------+ | Fedora Linux 42 | PASS | +-------------------------------+----------------+ | Ubuntu 20.04 | PASS | +-------------------------------+----------------+ | Ubuntu 24.04 | PASS | +-------------------------------+----------------+ CentOS Stream 9 Kernel: 5.15 Compiler: gcc gcc (GCC) 11.5.0 20240719 (Red Hat 11.5.0-11) CentOS Stream 10 Kernel: 5.15 Compiler: gcc gcc (GCC) 14.2.1 20250110 (Red Hat 14.2.1-8) Debian GNU/Linux 12 Kernel: 5.15 Compiler: gcc gcc (Debian 12.2.0-14+deb12u1) 12.2.0 Fedora Linux 41 Kernel: 5.15 Compiler: gcc gcc (GCC) 14.3.1 20250523 (Red Hat 14.3.1-1) Fedora Linux 40 Kernel: 5.15 Compiler: clang gcc (GCC) 14.2.1 20240912 (Red Hat 14.2.1-3) Red Hat Enterprise Linux 8.10 Kernel: 5.15 Compiler: gcc gcc (GCC) 8.5.0 20210514 (Red Hat 8.5.0-22) Red Hat Enterprise Linux 9.5 Kernel: 5.15 Compiler: gcc gcc (GCC) 11.5.0 20240719 (Red Hat 11.5.0-2) Ubuntu 22.04 Kernel: 5.15 Compiler: gcc gcc (Ubuntu 11.4.0-1ubuntu1~22.04) 11.4.0 Fedora Linux 42 Kernel: 5.15 Compiler: clang gcc (GCC) 15.2.1 20250808 (Red Hat 15.2.1-1) Ubuntu 20.04 Kernel: 5.15 Compiler: gcc gcc (Ubuntu 9.4.0-1ubuntu1~20.04.2) 9.4.0 Ubuntu 24.04 Kernel: 5.15 Compiler: gcc gcc (Ubuntu 13.3.0-6ubuntu2~24.04) 13.3.0 To view detailed results, visit: https://lab.dpdk.org/results/dashboard/patchsets/34403/ UNH-IOL DPDK Community Lab To manage your email subscriptions, visit: https://lab.dpdk.org/results/dashboard/preferences/subscriptions/