From mboxrd@z Thu Jan 1 00:00:00 1970 Return-Path: Received: from mails.dpdk.org (mails.dpdk.org [217.70.189.124]) by inbox.dpdk.org (Postfix) with ESMTP id B4E2F48A05 for ; Tue, 28 Oct 2025 21:42:00 +0100 (CET) Received: from mails.dpdk.org (localhost [127.0.0.1]) by mails.dpdk.org (Postfix) with ESMTP id 9D4A74021E; Tue, 28 Oct 2025 21:42:00 +0100 (CET) Received: from mail-pg1-f227.google.com (mail-pg1-f227.google.com [209.85.215.227]) by mails.dpdk.org (Postfix) with ESMTP id 051AA4021E for ; Tue, 28 Oct 2025 21:41:58 +0100 (CET) Received: by mail-pg1-f227.google.com with SMTP id 41be03b00d2f7-b6cea7c527bso6283174a12.3 for ; Tue, 28 Oct 2025 13:41:58 -0700 (PDT) DKIM-Signature: v=1; a=rsa-sha256; c=relaxed/relaxed; d=iol.unh.edu; s=unh-iol; t=1761684118; x=1762288918; darn=dpdk.org; h=references:in-reply-to:cc:to:from:subject:message-id:date:from:to :cc:subject:date:message-id:reply-to; bh=R/Atev18ykZ+FwM5LpxcE6DgCB2EtKZbx92rsrFjEDQ=; b=Hzfjfn8pz9MAHSCXIJ6yD4IzW+d0Eb7RJFSS1iYfhiZP7Ws38zL2oRxCYZ+Bh0wMLg puB7ptCb1q5aBpSoVmgnHSzQViSQfGe4HrDiYtesN0xhH0o2GjUoJQXRn9wDS0+VPTn6 0E3I/p7+PlOpCSBKNHAkWmQogUJGqI9o/wEFw= X-Google-DKIM-Signature: v=1; a=rsa-sha256; c=relaxed/relaxed; d=1e100.net; s=20230601; t=1761684118; x=1762288918; h=references:in-reply-to:cc:to:from:subject:message-id:date :x-gm-message-state:from:to:cc:subject:date:message-id:reply-to; bh=R/Atev18ykZ+FwM5LpxcE6DgCB2EtKZbx92rsrFjEDQ=; b=WZtc/g2n/a2FfTxPqaI7HoW9uJTCZ2zz5SzWzgKjMdoWxL2vADyFeNGozPT8KQLds+ 0r5kaqHX5Na9oAghW8VDmVy6RLPA1bTCrsvkSF7GjZm0tu0nHJWGWCsYXRjdHlT3+22r 9+NhxmY5Be6o6hS9azXvaQH6/4UYdDSptuhIAzX66WNEwulMygGoR7zqM/QhkiyqNmzf 3F+AN9MmIdOCbC3WtvF/YxVI1LF7sFoKPnJIAL8qXkg9GwADpvxZcnAW5kU6oRahOxRy pWDNnZCxBR5RdxHD8XXDDx5aVJ0V0ef1rs0A3TbXBF3CKbaFjjOjDs4owsT247rn0HGA XmJQ== X-Gm-Message-State: AOJu0Yxt5lDJWhop1UAu0Gs2OVVDtPeuZ7ZfoWqweS9nacm/WcvsWSKH RE71ydGGfpuHZCQUaqeV+xgAlD2j9wW6DJqHpooBH5hBk6JQ6pYLmNFBJf/2Ezu8ujaHUbkvKIW b9Hrma9eW6z2Lz3D/y4FTWlyb1Rxe5NIlAx9YgX4MG6EDdb64MyydKBhbvSNO X-Gm-Gg: ASbGncvv5LuDYlPolMQSQZpgmGg94dFxXT4mW66Hx2mhtT+mQS/mGR8LgjJAtxSxY9r +Fr1kTWs9ckIhRm5fmS0Omui2hBJnqV5Ij2y4IZe8o1rNezSxI4MM5URJ9OA3+5HX84SoRJYZYQ ZI7zcnlGkJT1ZBeXrbIe3x0tg6Mrj/oI6p0t6KD77dwsgQMdAG64271kpOqitTKBuSifpwT7sYW /utHSAvbTt/3TJwrvDeIq4WCZ4SLcfHDsRpGk4gK85zKOkYOiXduBzZxFRbpoGJot3whIZusBa/ zEgKJjkaaQXF9l7xsLIEz2zXibw+ymUoJuYpJQBQTTeOJDUcJFipKzbbM7U7+o/KFo9UOb9TFi+ +6RCCh6Uw X-Google-Smtp-Source: AGHT+IEhTxSKCSQ39OyK9exjiW6YcYKMOQiMKhCTTplsYRkAF4iVNTl6FGTLLhVte1XgUzURvLEbgJh4dyU8 X-Received: by 2002:a17:902:d487:b0:25c:b543:2da7 with SMTP id d9443c01a7336-294dedfa892mr4990125ad.9.1761684118047; Tue, 28 Oct 2025 13:41:58 -0700 (PDT) Received: from postal.iol.unh.edu (postal.iol.unh.edu. [2606:4100:3880:1234::84]) by smtp-relay.gmail.com with ESMTPS id d9443c01a7336-29498e41172sm11511605ad.55.2025.10.28.13.41.57 (version=TLS1_2 cipher=ECDHE-ECDSA-AES128-GCM-SHA256 bits=128/128); Tue, 28 Oct 2025 13:41:58 -0700 (PDT) X-Relaying-Domain: iol.unh.edu Date: Tue, 28 Oct 2025 13:41:58 -0700 (PDT) Message-ID: <69012a96.170a0220.179b86.68c0SMTPIN_ADDED_MISSING@mx.google.com> Received: from [172.21.0.2] (unknown [172.18.0.240]) by postal.iol.unh.edu (Postfix) with ESMTP id 7FD736050A61; Tue, 28 Oct 2025 16:41:57 -0400 (EDT) Subject: |WARNING| pw158182 [PATCH] net/mlx5: store rxq MTU at allocation tim From: dpdklab@iol.unh.edu To: Test Report Cc: dpdk-test-reports@iol.unh.edu In-Reply-To: <20251028100144.36284-1-a.schollmeyer@syseleven.de> References: <20251028100144.36284-1-a.schollmeyer@syseleven.de> Content-Type: text/plain X-BeenThere: test-report@dpdk.org X-Mailman-Version: 2.1.29 Precedence: list List-Id: automatic DPDK test reports List-Unsubscribe: , List-Archive: List-Post: List-Help: List-Subscribe: , Errors-To: test-report-bounces@dpdk.org Test-Label: iol-compile-amd64-testing Test-Status: WARNING http://dpdk.org/patch/158182 _Testing issues_ Submitter: Adrian Schollmeyer Date: Tuesday, October 28 2025 10:01:44 DPDK git baseline: Repo:dpdk-next-net-mlx Branch: master CommitID:39b54f2dcf44ad1f91eabc7080cd5dea763607fd 158182 --> testing issues Upstream job id: Windows-Compile-DPDK-Native#31944 Test environment and result as below: +-------------------------------+--------------------+-------------------+------------------+-------------------+-------------------------+----------------------+ | Environment | dpdk_meson_compile | dpdk_compile_spdk | dpdk_compile_ovs | dpdk_msvc_compile | dpdk_llvm_clang_compile | dpdk_mingw64_compile | +===============================+====================+===================+==================+===================+=========================+======================+ | FreeBSD 14.2 | PASS | SKIPPED | SKIPPED | SKIPPED | SKIPPED | SKIPPED | +-------------------------------+--------------------+-------------------+------------------+-------------------+-------------------------+----------------------+ | Ubuntu 20.04 | PASS | SKIPPED | SKIPPED | SKIPPED | SKIPPED | SKIPPED | +-------------------------------+--------------------+-------------------+------------------+-------------------+-------------------------+----------------------+ | CentOS Stream 9 | PASS | WARN | SKIPPED | SKIPPED | SKIPPED | SKIPPED | +-------------------------------+--------------------+-------------------+------------------+-------------------+-------------------------+----------------------+ | CentOS Stream 10 | PASS | SKIPPED | SKIPPED | SKIPPED | SKIPPED | SKIPPED | +-------------------------------+--------------------+-------------------+------------------+-------------------+-------------------------+----------------------+ | Debian GNU/Linux 12 | PASS | WARN | SKIPPED | SKIPPED | SKIPPED | SKIPPED | +-------------------------------+--------------------+-------------------+------------------+-------------------+-------------------------+----------------------+ | Fedora Linux 42 | PASS | WARN | PASS | SKIPPED | SKIPPED | SKIPPED | +-------------------------------+--------------------+-------------------+------------------+-------------------+-------------------------+----------------------+ | openSUSE Leap 15.6 | PASS | SKIPPED | SKIPPED | SKIPPED | SKIPPED | SKIPPED | +-------------------------------+--------------------+-------------------+------------------+-------------------+-------------------------+----------------------+ | Red Hat Enterprise Linux 8.10 | PASS | SKIPPED | SKIPPED | SKIPPED | SKIPPED | SKIPPED | +-------------------------------+--------------------+-------------------+------------------+-------------------+-------------------------+----------------------+ | Ubuntu 22.04 | PASS | WARN | SKIPPED | SKIPPED | SKIPPED | SKIPPED | +-------------------------------+--------------------+-------------------+------------------+-------------------+-------------------------+----------------------+ | Ubuntu 24.04 | PASS | WARN | PASS | SKIPPED | SKIPPED | SKIPPED | +-------------------------------+--------------------+-------------------+------------------+-------------------+-------------------------+----------------------+ | Alpine Linux 3.22.0 | PASS | SKIPPED | SKIPPED | SKIPPED | SKIPPED | SKIPPED | +-------------------------------+--------------------+-------------------+------------------+-------------------+-------------------------+----------------------+ | Red Hat Enterprise Linux 9.5 | PASS | SKIPPED | SKIPPED | SKIPPED | SKIPPED | SKIPPED | +-------------------------------+--------------------+-------------------+------------------+-------------------+-------------------------+----------------------+ | Windows Server 2022 | SKIPPED | SKIPPED | SKIPPED | PASS | PASS | PASS | +-------------------------------+--------------------+-------------------+------------------+-------------------+-------------------------+----------------------+ ==== 20 line log output for Ubuntu 24.04 (dpdk_compile_spdk): ==== --- Failed to get log output --- ==== End log output ==== FreeBSD 14.2 Kernel: 14.2-RELEASE Compiler: clang 18.1.6 Ubuntu 20.04 Kernel: 4.19 Compiler: gcc gcc (Ubuntu 9.4.0-1ubuntu1~20.04.2) 9.4.0 CentOS Stream 9 Kernel: 5.15 Compiler: gcc gcc (GCC) 11.5.0 20240719 (Red Hat 11.5.0-11) CentOS Stream 10 Kernel: 5.15 Compiler: gcc gcc (GCC) 14.2.1 20250110 (Red Hat 14.2.1-8) Debian GNU/Linux 12 Kernel: 5.15 Compiler: gcc gcc (Debian 12.2.0-14+deb12u1) 12.2.0 Fedora Linux 42 Kernel: 5.15 Compiler: clang gcc (GCC) 15.2.1 20250808 (Red Hat 15.2.1-1) openSUSE Leap 15.6 Kernel: 5.15 Compiler: gcc gcc (SUSE Linux) 7.5.0 Red Hat Enterprise Linux 8.10 Kernel: 5.15 Compiler: gcc gcc (GCC) 8.5.0 20210514 (Red Hat 8.5.0-22) Ubuntu 22.04 Kernel: 5.15 Compiler: gcc gcc (Ubuntu 11.4.0-1ubuntu1~22.04) 11.4.0 Ubuntu 24.04 Kernel: 5.15 Compiler: gcc gcc (Ubuntu 13.3.0-6ubuntu2~24.04) 13.3.0 Alpine Linux 3.22.0 Kernel: 5.15 Compiler: gcc gcc (Alpine 14.2.0) 14.2.0 Red Hat Enterprise Linux 9.5 Kernel: 5.15 Compiler: gcc gcc (GCC) 11.5.0 20240719 (Red Hat 11.5.0-2) Windows Server 2022 Kernel: 10.0.20348.2031 Compiler: clang 15.0.7, gcc 14.1.0 (MinGW), and MSVC VS 19.39.33521 To view detailed results, visit: https://lab.dpdk.org/results/dashboard/patchsets/34398/ UNH-IOL DPDK Community Lab To manage your email subscriptions, visit: https://lab.dpdk.org/results/dashboard/preferences/subscriptions/