From mboxrd@z Thu Jan 1 00:00:00 1970 Return-Path: Received: from mails.dpdk.org (mails.dpdk.org [217.70.189.124]) by inbox.dpdk.org (Postfix) with ESMTP id 15EAB48A05 for ; Tue, 28 Oct 2025 21:45:23 +0100 (CET) Received: from mails.dpdk.org (localhost [127.0.0.1]) by mails.dpdk.org (Postfix) with ESMTP id 0FF884021E; Tue, 28 Oct 2025 21:45:23 +0100 (CET) Received: from mail-il1-f227.google.com (mail-il1-f227.google.com [209.85.166.227]) by mails.dpdk.org (Postfix) with ESMTP id 68BA34021E for ; Tue, 28 Oct 2025 21:45:21 +0100 (CET) Received: by mail-il1-f227.google.com with SMTP id e9e14a558f8ab-430b6a0eaeaso58502935ab.1 for ; Tue, 28 Oct 2025 13:45:21 -0700 (PDT) DKIM-Signature: v=1; a=rsa-sha256; c=relaxed/relaxed; d=iol.unh.edu; s=unh-iol; t=1761684321; x=1762289121; darn=dpdk.org; h=references:in-reply-to:cc:to:from:subject:message-id:date:from:to :cc:subject:date:message-id:reply-to; bh=pqcGVVLxsmIbfLqAYyoJEJr9H2LFz+EAWdtXZ0i2qFM=; b=jNMQV6dEDvrn0LJ2d0Yej6tDMufv6c7Y+Hh59i2MDt9W5j+BeH53HvQBxXLcZ7ht+M E5BgvZXgITrHmqhJVQqgKLSQJTZ6TRwsk6vEVEVcNhu57pzm7DW6NUsgiGth+7+mAo5J WSxi8/XiIZteFfqqjRbLhisk5O4ZaH/hF3hCA= X-Google-DKIM-Signature: v=1; a=rsa-sha256; c=relaxed/relaxed; d=1e100.net; s=20230601; t=1761684321; x=1762289121; h=references:in-reply-to:cc:to:from:subject:message-id:date :x-gm-message-state:from:to:cc:subject:date:message-id:reply-to; bh=pqcGVVLxsmIbfLqAYyoJEJr9H2LFz+EAWdtXZ0i2qFM=; b=pueoUSk7PQ8XK13nwb9kWGWRKeVrn56RpLKH39umO/JZok7OSdOs0glg88Cin7pnfO 4R5m5XglbLKvNdurKzRiDiEK8lY0k9DeiqZUJxVUQdZ92QOBJQ5f0C4atTjp3jXdejHQ k1iFh3XVreDzfIAf9OwcgpZYn4ieztg/QQZDixes2E7pV0CLarqoucYzLR7YvHKpRehY Qos4g9dDrboenHAfxXV1ooZyF3P23cQsHMj9fnx9GotGSuJ8CckcX7nyK5IVWzfZxdK5 2UpB2rsk8914NMJXV0icNS/0gB4nKzLPF4hgCCEbPAto/KvVYrO61v0e4KFaQoz3QyOE oy+g== X-Gm-Message-State: AOJu0YzWE/BOTlUDwzKyYzpAKC6nT05eEtIV939vOgz53R3+rUioIUTf 0wscYWb7z/ffEB7Kx+WUoffzVw/Py7GC3uChDVDz+B6vP7ugZieqQRZI9aQ1Zb32BM1CXpOBHJG 4h5a100Zd5fQ7EgEnHPYeFyGVqH4IJZV0AMh7Eao393lI X-Gm-Gg: ASbGncsOp6Y+mmaWJsyPRQ91ZYG6+IJ/dTLCeoO860+rW+g4SJ1h1YZ3zJ5dGl214Nk smO9ZpMyfIyBo7GtaQyjcorSC6lfLQ/GYnuh6Q3+gOmqmg5aw8rXK6XNxxHnZkWGMLQxUm41Ukk +1bcGKv9CE/i0wdxZyOTZfNgXnwaPavN89d4wQU19biLQOhpU2slfCZGASxBzdMoVtqioxaojMV H/B7jDJApfq8RQyF1jP55KjKjKzWk11hdEJB2XvC/MZwVLXvSEqo3KqZI0vQC8jrIlutnsPqqlZ 9OK7FVSTh4zLLe79RZ8M33sfUCshe4lM5Q04L11VKiSf+onqb0uyZy78wu90oLAc4D+wqFUf6n5 lhKxmvBRj7IbO+EeD99e7JNghqgP1LEY= X-Google-Smtp-Source: AGHT+IFl886NDkfQaOFlBqqv5oG9hlyGeoq2KtQ/GzyzErMMAwRKJfb3fapx9coxD5M22nRk3YFmR1SchyxO X-Received: by 2002:a92:ca4b:0:b0:431:da08:d652 with SMTP id e9e14a558f8ab-432f8e5dfb9mr9230445ab.0.1761684320734; Tue, 28 Oct 2025 13:45:20 -0700 (PDT) Received: from postal.iol.unh.edu (postal.iol.unh.edu. [132.177.123.84]) by smtp-relay.gmail.com with ESMTPS id 8926c6da1cb9f-5aeaa31bb61sm889657173.36.2025.10.28.13.45.20 (version=TLS1_2 cipher=ECDHE-ECDSA-AES128-GCM-SHA256 bits=128/128); Tue, 28 Oct 2025 13:45:20 -0700 (PDT) X-Relaying-Domain: iol.unh.edu Date: Tue, 28 Oct 2025 13:45:20 -0700 (PDT) Message-ID: <69012b60.050a0220.26d4f7.95afSMTPIN_ADDED_MISSING@mx.google.com> Received: from [172.21.0.2] (unknown [172.18.0.240]) by postal.iol.unh.edu (Postfix) with ESMTP id 4A4A66050A61; Tue, 28 Oct 2025 16:45:20 -0400 (EDT) Subject: |WARNING| pw158190-158192 [PATCH] [v10,3/3] doc: note on unsupported From: dpdklab@iol.unh.edu To: Test Report Cc: dpdk-test-reports@iol.unh.edu, Bruce Richardson In-Reply-To: <20251028142202.137392-4-shaiq.wani@intel.com> References: <20251028142202.137392-4-shaiq.wani@intel.com> Content-Type: text/plain X-BeenThere: test-report@dpdk.org X-Mailman-Version: 2.1.29 Precedence: list List-Id: automatic DPDK test reports List-Unsubscribe: , List-Archive: List-Post: List-Help: List-Subscribe: , Errors-To: test-report-bounces@dpdk.org Test-Label: iol-compile-amd64-testing Test-Status: WARNING http://dpdk.org/patch/158192 _Testing issues_ Submitter: Shaiq Wani Date: Tuesday, October 28 2025 14:22:02 DPDK git baseline: Repo:dpdk-next-net-intel Branch: master CommitID:6b997d6b9ffdbb4f8ecd14d1f217da69cdc783af 158190-158192 --> testing issues Upstream job id: Generic-DPDK-Compile-Meson#438651 Test environment and result as below: +-------------------------------+--------------------+-------------------+------------------+-------------------+ | Environment | dpdk_meson_compile | dpdk_compile_spdk | dpdk_compile_ovs | dpdk_msvc_compile | +===============================+====================+===================+==================+===================+ | Ubuntu 20.04 | PASS | SKIPPED | SKIPPED | SKIPPED | +-------------------------------+--------------------+-------------------+------------------+-------------------+ | FreeBSD 14.2 | PASS | SKIPPED | SKIPPED | SKIPPED | +-------------------------------+--------------------+-------------------+------------------+-------------------+ | CentOS Stream 9 | PASS | WARN | SKIPPED | SKIPPED | +-------------------------------+--------------------+-------------------+------------------+-------------------+ | CentOS Stream 10 | PASS | SKIPPED | SKIPPED | SKIPPED | +-------------------------------+--------------------+-------------------+------------------+-------------------+ | Debian GNU/Linux 12 | PASS | WARN | SKIPPED | SKIPPED | +-------------------------------+--------------------+-------------------+------------------+-------------------+ | Fedora Linux 42 | PASS | WARN | PASS | SKIPPED | +-------------------------------+--------------------+-------------------+------------------+-------------------+ | openSUSE Leap 15.6 | PASS | SKIPPED | SKIPPED | SKIPPED | +-------------------------------+--------------------+-------------------+------------------+-------------------+ | Red Hat Enterprise Linux 8.10 | PASS | SKIPPED | SKIPPED | SKIPPED | +-------------------------------+--------------------+-------------------+------------------+-------------------+ | Red Hat Enterprise Linux 9.5 | PASS | SKIPPED | SKIPPED | SKIPPED | +-------------------------------+--------------------+-------------------+------------------+-------------------+ | Ubuntu 22.04 | PASS | WARN | SKIPPED | SKIPPED | +-------------------------------+--------------------+-------------------+------------------+-------------------+ | Ubuntu 24.04 | PASS | WARN | PASS | SKIPPED | +-------------------------------+--------------------+-------------------+------------------+-------------------+ | Alpine Linux 3.22.0 | PASS | SKIPPED | SKIPPED | SKIPPED | +-------------------------------+--------------------+-------------------+------------------+-------------------+ | Windows Server 2022 | SKIPPED | SKIPPED | SKIPPED | PASS | +-------------------------------+--------------------+-------------------+------------------+-------------------+ ==== 20 line log output for Ubuntu 24.04 (dpdk_compile_spdk): ==== --- Failed to get log output --- ==== End log output ==== Ubuntu 20.04 Kernel: 4.19 Compiler: gcc gcc (Ubuntu 9.4.0-1ubuntu1~20.04.2) 9.4.0 FreeBSD 14.2 Kernel: 14.2-RELEASE Compiler: clang 18.1.6 CentOS Stream 9 Kernel: 5.15 Compiler: gcc gcc (GCC) 11.5.0 20240719 (Red Hat 11.5.0-11) CentOS Stream 10 Kernel: 5.15 Compiler: gcc gcc (GCC) 14.2.1 20250110 (Red Hat 14.2.1-8) Debian GNU/Linux 12 Kernel: 5.15 Compiler: gcc gcc (Debian 12.2.0-14+deb12u1) 12.2.0 Fedora Linux 42 Kernel: 5.15 Compiler: clang gcc (GCC) 15.2.1 20250808 (Red Hat 15.2.1-1) openSUSE Leap 15.6 Kernel: 5.15 Compiler: gcc gcc (SUSE Linux) 7.5.0 Red Hat Enterprise Linux 8.10 Kernel: 5.15 Compiler: gcc gcc (GCC) 8.5.0 20210514 (Red Hat 8.5.0-22) Red Hat Enterprise Linux 9.5 Kernel: 5.15 Compiler: gcc gcc (GCC) 11.5.0 20240719 (Red Hat 11.5.0-2) Ubuntu 22.04 Kernel: 5.15 Compiler: gcc gcc (Ubuntu 11.4.0-1ubuntu1~22.04) 11.4.0 Ubuntu 24.04 Kernel: 5.15 Compiler: gcc gcc (Ubuntu 13.3.0-6ubuntu2~24.04) 13.3.0 Alpine Linux 3.22.0 Kernel: 5.15 Compiler: gcc gcc (Alpine 14.2.0) 14.2.0 Windows Server 2022 Kernel: 10.0.20348.2031 Compiler: clang 15.0.7, gcc 14.1.0 (MinGW), and MSVC VS 19.39.33521 To view detailed results, visit: https://lab.dpdk.org/results/dashboard/patchsets/34404/ UNH-IOL DPDK Community Lab To manage your email subscriptions, visit: https://lab.dpdk.org/results/dashboard/preferences/subscriptions/