From mboxrd@z Thu Jan 1 00:00:00 1970 Return-Path: Received: from mails.dpdk.org (mails.dpdk.org [217.70.189.124]) by inbox.dpdk.org (Postfix) with ESMTP id 245DC48A05 for ; Tue, 28 Oct 2025 21:45:32 +0100 (CET) Received: from mails.dpdk.org (localhost [127.0.0.1]) by mails.dpdk.org (Postfix) with ESMTP id 1EFBF4021E; Tue, 28 Oct 2025 21:45:32 +0100 (CET) Received: from mail-qt1-f225.google.com (mail-qt1-f225.google.com [209.85.160.225]) by mails.dpdk.org (Postfix) with ESMTP id 191E74021E for ; Tue, 28 Oct 2025 21:45:30 +0100 (CET) Received: by mail-qt1-f225.google.com with SMTP id d75a77b69052e-4e8a25d96ecso99675471cf.0 for ; Tue, 28 Oct 2025 13:45:30 -0700 (PDT) DKIM-Signature: v=1; a=rsa-sha256; c=relaxed/relaxed; d=iol.unh.edu; s=unh-iol; t=1761684329; x=1762289129; darn=dpdk.org; h=references:in-reply-to:cc:to:from:subject:message-id:date:from:to :cc:subject:date:message-id:reply-to; bh=O4yv0gdx+q6DEDbiZ/mKSoYSxJS2iNvz7plEM5Xd6qs=; b=h2fULOX+STjz93AwO4Dk/ysM2xPcSWHV8/CHE/HKt7G7gwV+7Dh80z9UBPN4nQayak DOE1hVs4knfcQPP5pYHmYqprU4hEd5+lI0kLpwDi8w7grlhzOOD0Nw8Wg8kuPQB5eCQ7 2UVzcNXr4nWzzmZuNiBVJBofKVMxWOwQdstfI= X-Google-DKIM-Signature: v=1; a=rsa-sha256; c=relaxed/relaxed; d=1e100.net; s=20230601; t=1761684329; x=1762289129; h=references:in-reply-to:cc:to:from:subject:message-id:date :x-gm-message-state:from:to:cc:subject:date:message-id:reply-to; bh=O4yv0gdx+q6DEDbiZ/mKSoYSxJS2iNvz7plEM5Xd6qs=; b=GyVRQUP4uGSbbmr/mFLPKYYSqbXl6hpjXLgCeGJHJoDvYNgHYPP/jPhdttx1HsqUOA clys4utOpHtJ05NvzPckRV9dNAve0LHdlJsWEj+pHeXyHy1wxIkbe1SRtjzSGUiDTbcu gh+SPR0UVbx8dlSqtHscjxsPPsSy1UxaNcVeVXQr5zgqmieYYGpxXLA3uiySpWplZbs8 q9spFQP6/GyfJs7FmBzxu0INF/ZeG/rZQkXq39gKDT0VM5srvyEI379zxX90AFPu9IqW Nd4JCM5Kl+PVJI3dvmbLSALOLzYG9AGAm7h0HvwpAftnitMS7LJB0hWMhgdgD+bKhylU vq1w== X-Gm-Message-State: AOJu0YyTnOq/6bDxQLkOhGTe/4uE2fW4OeZ9wgpR45501YrMIMS7jV/l SleHmDhfHr6qI7DUa9MZCLdJ68MgvffnghrjDHirtkggXznwwo1qFi0ZYuxpWHrUXHeo1obIxX6 7wFzy46ehy4Z1/jkddkH/BimdLgP5FOPVf3EXhcoLncf+/LgvJwkUOlrsF0tN X-Gm-Gg: ASbGncuPBZN+IHuNmpfSPlHCPj138Tt+rHuq9pMAzTPaDtp7yhoaVqGQWPkJIVGWmkF IyrxsRFeh4Y8n1Jp/hyzIboiZtm2fUCubcSJpZuzeTw/UU3uJ4eFTGMEuLBusEfvnmSU1A22ZpU 73F0FMHaDLyzkJ9MC8UDA56g+GRjnlA5HhV7JwNMsD98qrETlnVydwH2FSiJ2nnvJCvZeSvhbRa MQQtmv2rMcntTdE255hHkVspbdnqSmCi0+JyZbvLtj6Jk4nHndjKo6dZET4FGW1O+YcTLZmfwuE YwoRserkrtW8cuAjaGDfc8OpDr+yxBHb2KhRtOondIyzYxbp8vXsmuS60GC/ByC63JEAZhwge9a fwq+FjdPA X-Google-Smtp-Source: AGHT+IEptp/AAQ7+UXxX7UdMJuVRmtPIDd0VkQAtBS6Vyh7i9ivBtd/YcKOGQvlVmcrG4VNRKOxe+8L2u1oX X-Received: by 2002:a05:622a:1ccb:b0:4ec:f452:4ec0 with SMTP id d75a77b69052e-4ed15c2f7c3mr9652451cf.69.1761684329454; Tue, 28 Oct 2025 13:45:29 -0700 (PDT) Received: from postal.iol.unh.edu (postal.iol.unh.edu. [2606:4100:3880:1234::84]) by smtp-relay.gmail.com with ESMTPS id d75a77b69052e-4eba37d6f4dsm2123051cf.2.2025.10.28.13.45.29 (version=TLS1_2 cipher=ECDHE-ECDSA-AES128-GCM-SHA256 bits=128/128); Tue, 28 Oct 2025 13:45:29 -0700 (PDT) X-Relaying-Domain: iol.unh.edu Date: Tue, 28 Oct 2025 13:45:29 -0700 (PDT) Message-ID: <69012b69.c80a0220.116ef5.9a2dSMTPIN_ADDED_MISSING@mx.google.com> Received: from [172.21.0.2] (unknown [172.18.0.240]) by postal.iol.unh.edu (Postfix) with ESMTP id 342B06050A61; Tue, 28 Oct 2025 16:45:29 -0400 (EDT) Subject: |SUCCESS| pw158188 [PATCH] vhost: fix external buffer in VDUSE From: dpdklab@iol.unh.edu To: Test Report Cc: dpdk-test-reports@iol.unh.edu, Chenbo Xia , Maxime Coquelin In-Reply-To: <20251028123453.4127525-1-david.marchand@redhat.com> References: <20251028123453.4127525-1-david.marchand@redhat.com> Content-Type: text/plain X-BeenThere: test-report@dpdk.org X-Mailman-Version: 2.1.29 Precedence: list List-Id: automatic DPDK test reports List-Unsubscribe: , List-Archive: List-Post: List-Help: List-Subscribe: , Errors-To: test-report-bounces@dpdk.org Test-Label: iol-unit-amd64-testing Test-Status: SUCCESS http://dpdk.org/patch/158188 _Testing PASS_ Submitter: David Marchand Date: Tuesday, October 28 2025 12:34:53 DPDK git baseline: Repo:dpdk-next-virtio Branch: master CommitID:a62b0fbf8e367c88d28d78210db1b28c8eac4b1b 158188 --> testing pass Upstream job id: Generic-VM-Unit-Test-DPDK#32126 Test environment and result as below: +-------------------------------+----------------+ | Environment | dpdk_unit_test | +===============================+================+ | CentOS Stream 9 | PASS | +-------------------------------+----------------+ | Debian GNU/Linux 12 | PASS | +-------------------------------+----------------+ | CentOS Stream 10 | PASS | +-------------------------------+----------------+ | Fedora Linux 40 | PASS | +-------------------------------+----------------+ | Fedora Linux 41 | PASS | +-------------------------------+----------------+ | Fedora Linux 42 | PASS | +-------------------------------+----------------+ | Ubuntu 22.04 | PASS | +-------------------------------+----------------+ | Ubuntu 20.04 | PASS | +-------------------------------+----------------+ | Red Hat Enterprise Linux 9.5 | PASS | +-------------------------------+----------------+ | Red Hat Enterprise Linux 8.10 | PASS | +-------------------------------+----------------+ | Ubuntu 24.04 | PASS | +-------------------------------+----------------+ | Windows Server 2022 | PASS | +-------------------------------+----------------+ CentOS Stream 9 Kernel: 5.15 Compiler: gcc gcc (GCC) 11.5.0 20240719 (Red Hat 11.5.0-11) Debian GNU/Linux 12 Kernel: 5.15 Compiler: gcc gcc (Debian 12.2.0-14+deb12u1) 12.2.0 CentOS Stream 10 Kernel: 5.15 Compiler: gcc gcc (GCC) 14.2.1 20250110 (Red Hat 14.2.1-8) Fedora Linux 40 Kernel: 5.15 Compiler: gcc gcc (GCC) 14.2.1 20240912 (Red Hat 14.2.1-3) Fedora Linux 41 Kernel: 5.15 Compiler: gcc gcc (GCC) 14.3.1 20250523 (Red Hat 14.3.1-1) Fedora Linux 42 Kernel: 5.15 Compiler: gcc gcc (GCC) 15.2.1 20250808 (Red Hat 15.2.1-1) Ubuntu 22.04 Kernel: 5.15 Compiler: gcc gcc (Ubuntu 11.4.0-1ubuntu1~22.04) 11.4.0 Ubuntu 20.04 Kernel: 5.15 Compiler: gcc gcc (Ubuntu 9.4.0-1ubuntu1~20.04.2) 9.4.0 Red Hat Enterprise Linux 9.5 Kernel: 5.15 Compiler: gcc gcc (GCC) 11.5.0 20240719 (Red Hat 11.5.0-2) Red Hat Enterprise Linux 8.10 Kernel: 5.15 Compiler: gcc gcc (GCC) 8.5.0 20210514 (Red Hat 8.5.0-22) Ubuntu 24.04 Kernel: 5.15 Compiler: gcc gcc (Ubuntu 13.3.0-6ubuntu2~24.04) 13.3.0 Windows Server 2022 Kernel: 10.0.20348.2031 Compiler: clang 15.0.7, gcc 14.1.0 (MinGW), and MSVC VS 19.39.33521 To view detailed results, visit: https://lab.dpdk.org/results/dashboard/patchsets/34402/ UNH-IOL DPDK Community Lab To manage your email subscriptions, visit: https://lab.dpdk.org/results/dashboard/preferences/subscriptions/