From mboxrd@z Thu Jan 1 00:00:00 1970 Return-Path: Received: from mails.dpdk.org (mails.dpdk.org [217.70.189.124]) by inbox.dpdk.org (Postfix) with ESMTP id D0BCD48A05 for ; Tue, 28 Oct 2025 21:51:29 +0100 (CET) Received: from mails.dpdk.org (localhost [127.0.0.1]) by mails.dpdk.org (Postfix) with ESMTP id CA65B4021E; Tue, 28 Oct 2025 21:51:29 +0100 (CET) Received: from mail-ot1-f100.google.com (mail-ot1-f100.google.com [209.85.210.100]) by mails.dpdk.org (Postfix) with ESMTP id 61C244021E for ; Tue, 28 Oct 2025 21:51:28 +0100 (CET) Received: by mail-ot1-f100.google.com with SMTP id 46e09a7af769-7c53038fd99so937730a34.2 for ; Tue, 28 Oct 2025 13:51:28 -0700 (PDT) DKIM-Signature: v=1; a=rsa-sha256; c=relaxed/relaxed; d=iol.unh.edu; s=unh-iol; t=1761684687; x=1762289487; darn=dpdk.org; h=references:in-reply-to:cc:to:from:subject:message-id:date:from:to :cc:subject:date:message-id:reply-to; bh=YvHuCC8twjxe9ParAWwl2/c5f9ztEe9GPSgHUR4sEN8=; b=iZvyeUS7EM3oCZzvNneCbe0gdDk3s3BvQ/52V/V05vlUOkVtkUv0IwbLN4pcn7iCSV StF/PxHwcR+jPXf17LDVssVmWtF68AOOse1lVYKgDWIwHp1JWZnL/sVU7tLsnIktjwAn G+tTaIvQb+1UJ6yYtkXgGBV8ekMbKiwpQeF9E= X-Google-DKIM-Signature: v=1; a=rsa-sha256; c=relaxed/relaxed; d=1e100.net; s=20230601; t=1761684687; x=1762289487; h=references:in-reply-to:cc:to:from:subject:message-id:date :x-gm-message-state:from:to:cc:subject:date:message-id:reply-to; bh=YvHuCC8twjxe9ParAWwl2/c5f9ztEe9GPSgHUR4sEN8=; b=eBs6PniQbaDCceI6cq+CxT5m3kLFfgFK+O3XB4WcUSh17m40UAY8J2lbtfii1uho4W /IYs3wZZigbiMNUD+VbXGQLnxHA3/eL0dQs5ok+3Emqj8pOJzHy8Md2yeGW/e0RtK6X/ llRkon+cxsYlQDZf816HgubqQMPZ+FH7LLW95Lic0bUJlR1qEjFbGN9Ux4xYDNEoll+l XvdETF9IksYrp0j4NmEW8vOuAElCLuoaJ0sJ/QB5AwZIW9+McKYBODbrP62Xq4Gy5XZ1 ZvFIH4/hu0CXN9Al4fGQDzD1KXi0ObVW6SBKcriS/xgilQQFW/2unn2JKJ5XnFB9b9/t QusA== X-Gm-Message-State: AOJu0YyL+7+BhxgivRjwrY3bOixAVm2tapP6OFcrTqZ/lG6pFB51feui +jLtO/ihZcqRiAKsw/wUxKoL1uaTFYIcjhEUYkhFPk2TRRf/nv3pKfnUsEXGAeU8MbMuwy71Bup 6IQzUFV9eWR7Xx3ZhFUMtMdkB9a9DNW0hp0Sn3XHjvEJOCNvSZPs0OgELbSah X-Gm-Gg: ASbGnctZJIu0WuhzrwXzlYf5UfUUAo+gINeoKj5haQclu5rPVD6VCCWxyVWJU3sHarz AtlrGkTJqKWO47/Soe37f7oRB2ZgQMfEmCPqyYpftJgVrzTu5K8tjNKjmkJb3Py439tzMr4vc4C aWEnIo8oGOyKmg7juekLm0UVks5lee2m1IYlyY7gCfMKSG5lbuYPg+eNNDGjkfUaG04U81k8p9s FnGJCDlm6m0nqOE5K/H5MRsblRzFNZQG7e4V1Ob438BT5o2JfVynse5Fch9j7OZ62o3/Yfcaavv sdwsh5SARJgRAO8rrFQ/xIBW4NTW9kSYy4Jw3iOrqpcIKIZgXn4HijdH7jD9UdwKEN0p5vzhipJ Q/gTwTX+I X-Google-Smtp-Source: AGHT+IHF9qLh5FXIiqz9loxyHFvsZ5RLvC2EhnlH8IaZmAg9rPzB+71S5d58/9eA4/r04IEYWeizhMmaKyo+ X-Received: by 2002:a05:6830:718d:b0:7c5:3144:c0dd with SMTP id 46e09a7af769-7c6830a1a43mr561447a34.23.1761684687564; Tue, 28 Oct 2025 13:51:27 -0700 (PDT) Received: from postal.iol.unh.edu (postal.iol.unh.edu. [2606:4100:3880:1234::84]) by smtp-relay.gmail.com with ESMTPS id 46e09a7af769-7c539591aa7sm845670a34.3.2025.10.28.13.51.27 (version=TLS1_2 cipher=ECDHE-ECDSA-AES128-GCM-SHA256 bits=128/128); Tue, 28 Oct 2025 13:51:27 -0700 (PDT) X-Relaying-Domain: iol.unh.edu Date: Tue, 28 Oct 2025 13:51:27 -0700 (PDT) Message-ID: <69012ccf.050a0220.10f65d.64d9SMTPIN_ADDED_MISSING@mx.google.com> Received: from [172.21.0.2] (unknown [172.18.0.240]) by postal.iol.unh.edu (Postfix) with ESMTP id 18F2D6050A61; Tue, 28 Oct 2025 16:51:27 -0400 (EDT) Subject: |SUCCESS| pw158185-158187 [PATCH] [v11,3/3] dts: add Rx Tx offload t From: dpdklab@iol.unh.edu To: Test Report Cc: dpdk-test-reports@iol.unh.edu In-Reply-To: <20251028122240.112773-4-abailey@iol.unh.edu> References: <20251028122240.112773-4-abailey@iol.unh.edu> Content-Type: text/plain X-BeenThere: test-report@dpdk.org X-Mailman-Version: 2.1.29 Precedence: list List-Id: automatic DPDK test reports List-Unsubscribe: , List-Archive: List-Post: List-Help: List-Subscribe: , Errors-To: test-report-bounces@dpdk.org Test-Label: iol-compile-arm64-testing Test-Status: SUCCESS http://dpdk.org/patch/158187 _Testing PASS_ Submitter: Andrew Bailey Date: Tuesday, October 28 2025 12:22:40 DPDK git baseline: Repo:dpdk-next-dts Branch: master CommitID:39b54f2dcf44ad1f91eabc7080cd5dea763607fd 158185-158187 --> testing pass Upstream job id: Generic-DPDK-Compile-Meson#438564 Test environment and result as below: +------------------------------+--------------------+ | Environment | dpdk_meson_compile | +==============================+====================+ | Red Hat Enterprise Linux 9.5 | PASS | +------------------------------+--------------------+ | Ubuntu 20.04 | PASS | +------------------------------+--------------------+ | Debian GNU/Linux 12 | PASS | +------------------------------+--------------------+ | Fedora Linux 42 | PASS | +------------------------------+--------------------+ | Ubuntu 24.04 | PASS | +------------------------------+--------------------+ | Ubuntu 22.04 | PASS | +------------------------------+--------------------+ | CentOS Stream 9 | PASS | +------------------------------+--------------------+ | CentOS Stream 10 | PASS | +------------------------------+--------------------+ Red Hat Enterprise Linux 9.5 Kernel: 5.4 Compiler: gcc gcc (GCC) 11.5.0 20240719 (Red Hat 11.5.0-2) Ubuntu 20.04 Kernel: 5.15 Compiler: aarch64-linux-gnu-gcc gcc (Ubuntu 9.4.0-1ubuntu1~20.04.2) 9.4.0 Debian GNU/Linux 12 Kernel: 5.4 Compiler: gcc gcc (Debian 12.2.0-14+deb12u1) 12.2.0 Fedora Linux 42 Kernel: 5.4 Compiler: gcc gcc (GCC) 15.2.1 20250808 (Red Hat 15.2.1-1) Ubuntu 24.04 Kernel: 5.4 Compiler: gcc gcc (Ubuntu 13.3.0-6ubuntu2~24.04) 13.3.0 Ubuntu 22.04 Kernel: 5.4 Compiler: gcc gcc (Ubuntu 11.4.0-1ubuntu1~22.04) 11.4.0 CentOS Stream 9 Kernel: 5.4 Compiler: gcc gcc (GCC) 11.5.0 20240719 (Red Hat 11.5.0-11) CentOS Stream 10 Kernel: 5.4 Compiler: gcc gcc (GCC) 14.2.1 20250110 (Red Hat 14.2.1-8) To view detailed results, visit: https://lab.dpdk.org/results/dashboard/patchsets/34401/ UNH-IOL DPDK Community Lab To manage your email subscriptions, visit: https://lab.dpdk.org/results/dashboard/preferences/subscriptions/