From mboxrd@z Thu Jan 1 00:00:00 1970 Return-Path: Received: from mails.dpdk.org (mails.dpdk.org [217.70.189.124]) by inbox.dpdk.org (Postfix) with ESMTP id 0EB7D48A08 for ; Tue, 28 Oct 2025 22:02:23 +0100 (CET) Received: from mails.dpdk.org (localhost [127.0.0.1]) by mails.dpdk.org (Postfix) with ESMTP id 093744021E; Tue, 28 Oct 2025 22:02:23 +0100 (CET) Received: from mail-pl1-f226.google.com (mail-pl1-f226.google.com [209.85.214.226]) by mails.dpdk.org (Postfix) with ESMTP id CE7094021E for ; Tue, 28 Oct 2025 22:02:21 +0100 (CET) Received: by mail-pl1-f226.google.com with SMTP id d9443c01a7336-292fd52d527so65976685ad.2 for ; Tue, 28 Oct 2025 14:02:21 -0700 (PDT) DKIM-Signature: v=1; a=rsa-sha256; c=relaxed/relaxed; d=iol.unh.edu; s=unh-iol; t=1761685341; x=1762290141; darn=dpdk.org; h=references:in-reply-to:cc:to:from:subject:message-id:date:from:to :cc:subject:date:message-id:reply-to; bh=YwKAPsgGvxlDvUpxB67F3K5GpUW/TMWP6edIQ3YUuh8=; b=Uqs0AT5O8iVXGMEfGUxlyaeTSXcSinuHOQRa+Ucm5lZKd8evyaT92I1y+XcctJ67gE 1E/Q1guZwdBwsgHaozvnfxMziwXiFmQWRVLKGAkJ/g8mQTK5LkpO0Q2ryeYtKbgModbg ZpttOh2sNQl9MpnwwuFAD0KLJ4tbGbZ4eW2Z8= X-Google-DKIM-Signature: v=1; a=rsa-sha256; c=relaxed/relaxed; d=1e100.net; s=20230601; t=1761685341; x=1762290141; h=references:in-reply-to:cc:to:from:subject:message-id:date :x-gm-message-state:from:to:cc:subject:date:message-id:reply-to; bh=YwKAPsgGvxlDvUpxB67F3K5GpUW/TMWP6edIQ3YUuh8=; b=wNAKMn9pFT6TkE97Kk6gjvvaxRP6f52nxD4uB4TY9dHkFl3i0J5hx+wWjqhZByAmK9 JwtltTSICb9X8437spECVYYhffdqxLALXZFnrJQec0MNnP28qRa57QkSu/QLMIEUm1Ag OVxgKHndAKh4H67oiyTKWWytlpaoUNrCXyYeMqXIg9RkaQEoHbrmcbbSZfkwVaogIeXs rMXQ5W7hM6nWvr8j3nf1iur9LEwFkwUaJ3NeAiiaFM8uriUgHfE+uJmGDew5H27oLovV Xlpq6V89FAvxCCifc6FHVU+W4YKwPOkVnBStfgK1teiJFbFXpTpHhPQ9CYUEZE31Q5yS zkQw== X-Gm-Message-State: AOJu0YxKfga+qMvUGjBTXXbLwhwDHMYEAuJMcRDVFcOM+ieups5qKnTN qUdZWSGc7nE2e94QWJW8uijMhJCEA9qjw10sjATwsgsZcrKkKZ7/lWIhtUtQWonFi25YXitKJAh T9uogOSgu9vjqkfXlwRWIvlCG6kt4XR+l1i7SHL7XGfexzAfskjraHvHaefHQ X-Gm-Gg: ASbGncurRWdaqJKiwGGF4kBuO4uvpL5AFeFIC+WVUGkWT1b2tCn87juMnbEwmi9TdCw hYKDerjj5TN3Uk7/rlKRsQnOyy/vhVNH1lthsEMI0CT3XdoYMDCiK4EU9O5B/CcpLcbdNfUYpeM 88/UBudM+ZfnDJGL+lmmrCc6JQzIMEouHmR1gaHhWJYpU3aOB3F5Rt2PLbQxdig38edYDysk/BP PpyWOcR5OWKvmDTJenmdvPb2aYJMmMYVaS7AIZkTn1ME29BX/Nw44Y/xdW31I47n+U5w5UF8Puq Qwpgx6G5dZCz9ceRRP117W83BzyBqpkIXyX6+q4HcnRKDftizO0bLY/TcNGWOTYUGsV0bhuQRDC wKoTd1IVx X-Google-Smtp-Source: AGHT+IHqq424MPuW8KXlVFB2B+qLptEHZFChB3M+E6p2Os/mUIYHWPPPuaMSmdr0FcjdBTxQLkzfVBr7Xx6W X-Received: by 2002:a17:903:2290:b0:28e:aacb:e702 with SMTP id d9443c01a7336-294dedf4355mr5903155ad.2.1761685340830; Tue, 28 Oct 2025 14:02:20 -0700 (PDT) Received: from postal.iol.unh.edu (postal.iol.unh.edu. [2606:4100:3880:1234::84]) by smtp-relay.gmail.com with ESMTPS id d9443c01a7336-29498cf41cfsm10877785ad.7.2025.10.28.14.02.20 (version=TLS1_2 cipher=ECDHE-ECDSA-AES128-GCM-SHA256 bits=128/128); Tue, 28 Oct 2025 14:02:20 -0700 (PDT) X-Relaying-Domain: iol.unh.edu Date: Tue, 28 Oct 2025 14:02:20 -0700 (PDT) Message-ID: <69012f5c.170a0220.3c5bf6.2a02SMTPIN_ADDED_MISSING@mx.google.com> Received: from [172.21.0.5] (unknown [172.18.0.240]) by postal.iol.unh.edu (Postfix) with ESMTP id 4D4B760003F4; Tue, 28 Oct 2025 17:02:20 -0400 (EDT) Subject: |WARNING| pw158180-158181 [PATCH] [2/2] net/mlx5: support PF represe From: dpdklab@iol.unh.edu To: Test Report Cc: dpdk-test-reports@iol.unh.edu, Stephen Hemminger In-Reply-To: <20251028095831.53669-2-getelson@nvidia.com> References: <20251028095831.53669-2-getelson@nvidia.com> Content-Type: text/plain X-BeenThere: test-report@dpdk.org X-Mailman-Version: 2.1.29 Precedence: list List-Id: automatic DPDK test reports List-Unsubscribe: , List-Archive: List-Post: List-Help: List-Subscribe: , Errors-To: test-report-bounces@dpdk.org Test-Label: iol-compile-amd64-testing Test-Status: WARNING http://dpdk.org/patch/158181 _Testing issues_ Submitter: Gregory Etelson Date: Tuesday, October 28 2025 09:58:30 DPDK git baseline: Repo:dpdk-next-net Branch: master CommitID:11a6a4b1f19140ac3a57ace844be3cba00c39eaa 158180-158181 --> testing issues Upstream job id: Windows-Compile-DPDK-Native#31945 Test environment and result as below: +-------------------------------+--------------------+-------------------+------------------+-------------------+-------------------------+ | Environment | dpdk_meson_compile | dpdk_compile_spdk | dpdk_compile_ovs | dpdk_msvc_compile | dpdk_llvm_clang_compile | +===============================+====================+===================+==================+===================+=========================+ | FreeBSD 14.2 | PASS | SKIPPED | SKIPPED | SKIPPED | SKIPPED | +-------------------------------+--------------------+-------------------+------------------+-------------------+-------------------------+ | Ubuntu 20.04 | PASS | SKIPPED | SKIPPED | SKIPPED | SKIPPED | +-------------------------------+--------------------+-------------------+------------------+-------------------+-------------------------+ | CentOS Stream 9 | PASS | WARN | SKIPPED | SKIPPED | SKIPPED | +-------------------------------+--------------------+-------------------+------------------+-------------------+-------------------------+ | CentOS Stream 10 | PASS | SKIPPED | SKIPPED | SKIPPED | SKIPPED | +-------------------------------+--------------------+-------------------+------------------+-------------------+-------------------------+ | Debian GNU/Linux 12 | PASS | WARN | SKIPPED | SKIPPED | SKIPPED | +-------------------------------+--------------------+-------------------+------------------+-------------------+-------------------------+ | Fedora Linux 42 | PASS | WARN | PASS | SKIPPED | SKIPPED | +-------------------------------+--------------------+-------------------+------------------+-------------------+-------------------------+ | Red Hat Enterprise Linux 8.10 | PASS | SKIPPED | SKIPPED | SKIPPED | SKIPPED | +-------------------------------+--------------------+-------------------+------------------+-------------------+-------------------------+ | openSUSE Leap 15.6 | PASS | SKIPPED | SKIPPED | SKIPPED | SKIPPED | +-------------------------------+--------------------+-------------------+------------------+-------------------+-------------------------+ | Red Hat Enterprise Linux 9.5 | PASS | SKIPPED | SKIPPED | SKIPPED | SKIPPED | +-------------------------------+--------------------+-------------------+------------------+-------------------+-------------------------+ | Ubuntu 22.04 | PASS | WARN | SKIPPED | SKIPPED | SKIPPED | +-------------------------------+--------------------+-------------------+------------------+-------------------+-------------------------+ | Ubuntu 24.04 | PASS | WARN | PASS | SKIPPED | SKIPPED | +-------------------------------+--------------------+-------------------+------------------+-------------------+-------------------------+ | Alpine Linux 3.22.0 | PASS | SKIPPED | SKIPPED | SKIPPED | SKIPPED | +-------------------------------+--------------------+-------------------+------------------+-------------------+-------------------------+ | Windows Server 2022 | SKIPPED | SKIPPED | SKIPPED | PASS | PASS | +-------------------------------+--------------------+-------------------+------------------+-------------------+-------------------------+ ==== 20 line log output for Ubuntu 24.04 (dpdk_compile_spdk): ==== --- Failed to get log output --- ==== End log output ==== FreeBSD 14.2 Kernel: 14.2-RELEASE Compiler: clang 18.1.6 Ubuntu 20.04 Kernel: 4.19 Compiler: gcc gcc (Ubuntu 9.4.0-1ubuntu1~20.04.2) 9.4.0 CentOS Stream 9 Kernel: 5.15 Compiler: gcc gcc (GCC) 11.5.0 20240719 (Red Hat 11.5.0-11) CentOS Stream 10 Kernel: 5.15 Compiler: gcc gcc (GCC) 14.2.1 20250110 (Red Hat 14.2.1-8) Debian GNU/Linux 12 Kernel: 5.15 Compiler: gcc gcc (Debian 12.2.0-14+deb12u1) 12.2.0 Fedora Linux 42 Kernel: 5.15 Compiler: clang gcc (GCC) 15.2.1 20250808 (Red Hat 15.2.1-1) Red Hat Enterprise Linux 8.10 Kernel: 5.15 Compiler: gcc gcc (GCC) 8.5.0 20210514 (Red Hat 8.5.0-22) openSUSE Leap 15.6 Kernel: 5.15 Compiler: gcc gcc (SUSE Linux) 7.5.0 Red Hat Enterprise Linux 9.5 Kernel: 5.15 Compiler: gcc gcc (GCC) 11.5.0 20240719 (Red Hat 11.5.0-2) Ubuntu 22.04 Kernel: 5.15 Compiler: gcc gcc (Ubuntu 11.4.0-1ubuntu1~22.04) 11.4.0 Ubuntu 24.04 Kernel: 5.15 Compiler: gcc gcc (Ubuntu 13.3.0-6ubuntu2~24.04) 13.3.0 Alpine Linux 3.22.0 Kernel: 5.15 Compiler: gcc gcc (Alpine 14.2.0) 14.2.0 Windows Server 2022 Kernel: 10.0.20348.2031 Compiler: clang 15.0.7, gcc 14.1.0 (MinGW), and MSVC VS 19.39.33521 To view detailed results, visit: https://lab.dpdk.org/results/dashboard/patchsets/34399/ UNH-IOL DPDK Community Lab To manage your email subscriptions, visit: https://lab.dpdk.org/results/dashboard/preferences/subscriptions/