From mboxrd@z Thu Jan 1 00:00:00 1970 Return-Path: Received: from mails.dpdk.org (mails.dpdk.org [217.70.189.124]) by inbox.dpdk.org (Postfix) with ESMTP id BF39948A08 for ; Tue, 28 Oct 2025 22:09:15 +0100 (CET) Received: from mails.dpdk.org (localhost [127.0.0.1]) by mails.dpdk.org (Postfix) with ESMTP id B763B4021E; Tue, 28 Oct 2025 22:09:15 +0100 (CET) Received: from mail-pj1-f99.google.com (mail-pj1-f99.google.com [209.85.216.99]) by mails.dpdk.org (Postfix) with ESMTP id 617544021E for ; Tue, 28 Oct 2025 22:09:14 +0100 (CET) Received: by mail-pj1-f99.google.com with SMTP id 98e67ed59e1d1-33255011eafso6100399a91.1 for ; Tue, 28 Oct 2025 14:09:14 -0700 (PDT) DKIM-Signature: v=1; a=rsa-sha256; c=relaxed/relaxed; d=iol.unh.edu; s=unh-iol; t=1761685753; x=1762290553; darn=dpdk.org; h=references:in-reply-to:cc:to:from:subject:message-id:date:from:to :cc:subject:date:message-id:reply-to; bh=4GG/DxtJcuU3aQ+1X39oxMAAZLxSLA/urlz/VU67QEE=; b=Df1cmPA7CzV5hp7hv9zPlQ4esE+/af0rMihkidXXJtRP5g/58/jWraB3kT/1eentP5 Y1/sHU9VX6x6f1zFeELl6He6U58THHpopAja0dbIGB0SlFrpX+vkuwLfg8gNV0XO6zfs 4mnRHf7ncsa1m3Zxe4dH0owXD3Z6MaIrl+aBE= X-Google-DKIM-Signature: v=1; a=rsa-sha256; c=relaxed/relaxed; d=1e100.net; s=20230601; t=1761685753; x=1762290553; h=references:in-reply-to:cc:to:from:subject:message-id:date :x-gm-message-state:from:to:cc:subject:date:message-id:reply-to; bh=4GG/DxtJcuU3aQ+1X39oxMAAZLxSLA/urlz/VU67QEE=; b=Nhhqoo1FzL85O5ePM+gtCMIHKvH7gf/jOA1ZKhIOAweGjYz40mjABfjC8NEYP4d3CT sBYVhDli0WlDbSJD2lBp24Wthjl5Mb7tH5TkHVxk0TxRk7gLCQmg2pKakqML0n5dS4S2 5Yk1Xgyiw9E76/mw5LiGsGmY7g9YiXBhKwZjXTaQpX7ijqGeOMVCU0GTD+d+c/ySDa2y nVNFWYwDZmsb9GrdwawRO/E/2nqaFaIopFRSsdk02vsfvYr9Hm1ri0iniBkr6E404sUW kCPgmFAL9Oa5fQEwLFuJFcky9fZEQmK5xn+YCTRjrXuAOBKWAQJrchz8PXfK9eLi6QJx V/Sg== X-Gm-Message-State: AOJu0YzIO0GM+d48Pds7H1pW5MMRvPuVovHVliHuO+W/xFEwTy2XO7R0 qlxhxdkQrOGTzwolEFdvFdz4g0CAP1ah24td/beR38B6XPPyCqU/SS3v1fmHxncIC8+c5a13LEm t0gM1A+dOfFCaDHnybtL7yl6jzdZXrhbgcXviRRNeJoyZ X-Gm-Gg: ASbGncs5Kz+U2FwSbnnCKYkipAzMj+ar5CSvJQEETH3Rd2sEddAjdeq9VIRnlTQvjmn 3K7nMKBbNQp0PC3wNJ4UP68whQd0jaX2xcBttQARkU3WYFdzc1u9OsRwVjKNyig1DVqctlA1BrO zMzr8aHR3ymiAxZiAFu7HDTmhO2kz7APedCjlR2S8PzHuhOmv5PTHz3bFn0E7cNAkCUmudwjRkj y1VKKm3UivR5QEMqvfKU/dnuBqTYdYj/bBDnExtsDQK2W2EO2Y23w2vpeyWwoOCpw0bc9vPjiIH 3YJZpP8/Xf9Zjt04PKdN5kYNfG90hVWAt0LQpYTP3y5hoKetM/9YrrnDgkh5iDJpV6kwsd4vBwS 8V3VNHsjZQ9rxHlAQrlY8We8tyGevoXE= X-Google-Smtp-Source: AGHT+IGuuiYHS/4mB+jg+Qo9l5FxRp/ukWKoHqNWJwTcYSiBKhZoEhAhyeK8rCX5DyTYjMR37dIYDrjaeh4n X-Received: by 2002:a17:90b:5188:b0:32b:9774:d340 with SMTP id 98e67ed59e1d1-3403a2fece5mr419110a91.33.1761685753515; Tue, 28 Oct 2025 14:09:13 -0700 (PDT) Received: from postal.iol.unh.edu (postal.iol.unh.edu. [132.177.123.84]) by smtp-relay.gmail.com with ESMTPS id 98e67ed59e1d1-33fed7c6267sm1028605a91.3.2025.10.28.14.09.13 (version=TLS1_2 cipher=ECDHE-ECDSA-AES128-GCM-SHA256 bits=128/128); Tue, 28 Oct 2025 14:09:13 -0700 (PDT) X-Relaying-Domain: iol.unh.edu Date: Tue, 28 Oct 2025 14:09:13 -0700 (PDT) Message-ID: <690130f9.170a0220.3af899.ef8fSMTPIN_ADDED_MISSING@mx.google.com> Received: from [172.21.0.2] (unknown [172.18.0.240]) by postal.iol.unh.edu (Postfix) with ESMTP id A272E6051830; Tue, 28 Oct 2025 17:09:12 -0400 (EDT) Subject: |SUCCESS| pw158189 [PATCH] doc: fix doxygen errors with v1.15.0 From: dpdklab@iol.unh.edu To: Test Report Cc: dpdk-test-reports@iol.unh.edu In-Reply-To: <20251028141159.177727-1-jerinj@marvell.com> References: <20251028141159.177727-1-jerinj@marvell.com> Content-Type: text/plain X-BeenThere: test-report@dpdk.org X-Mailman-Version: 2.1.29 Precedence: list List-Id: automatic DPDK test reports List-Unsubscribe: , List-Archive: List-Post: List-Help: List-Subscribe: , Errors-To: test-report-bounces@dpdk.org Test-Label: iol-unit-amd64-testing Test-Status: SUCCESS http://dpdk.org/patch/158189 _Testing PASS_ Submitter: Jerin Jacob Date: Tuesday, October 28 2025 14:11:59 DPDK git baseline: Repo:dpdk Branch: master CommitID:39b54f2dcf44ad1f91eabc7080cd5dea763607fd 158189 --> testing pass Upstream job id: Generic-VM-Unit-Test-DPDK#32127 Test environment and result as below: +-------------------------------+----------------+ | Environment | dpdk_unit_test | +===============================+================+ | CentOS Stream 9 | PASS | +-------------------------------+----------------+ | CentOS Stream 10 | PASS | +-------------------------------+----------------+ | Debian GNU/Linux 12 | PASS | +-------------------------------+----------------+ | Fedora Linux 41 | PASS | +-------------------------------+----------------+ | Fedora Linux 40 | PASS | +-------------------------------+----------------+ | Red Hat Enterprise Linux 8.10 | PASS | +-------------------------------+----------------+ | Red Hat Enterprise Linux 9.5 | PASS | +-------------------------------+----------------+ | Ubuntu 22.04 | PASS | +-------------------------------+----------------+ | Fedora Linux 42 | PASS | +-------------------------------+----------------+ | Ubuntu 20.04 | PASS | +-------------------------------+----------------+ | Ubuntu 24.04 | PASS | +-------------------------------+----------------+ | Windows Server 2022 | PASS | +-------------------------------+----------------+ CentOS Stream 9 Kernel: 5.15 Compiler: gcc gcc (GCC) 11.5.0 20240719 (Red Hat 11.5.0-11) CentOS Stream 10 Kernel: 5.15 Compiler: gcc gcc (GCC) 14.2.1 20250110 (Red Hat 14.2.1-8) Debian GNU/Linux 12 Kernel: 5.15 Compiler: gcc gcc (Debian 12.2.0-14+deb12u1) 12.2.0 Fedora Linux 41 Kernel: 5.15 Compiler: gcc gcc (GCC) 14.3.1 20250523 (Red Hat 14.3.1-1) Fedora Linux 40 Kernel: 5.15 Compiler: clang gcc (GCC) 14.2.1 20240912 (Red Hat 14.2.1-3) Red Hat Enterprise Linux 8.10 Kernel: 5.15 Compiler: gcc gcc (GCC) 8.5.0 20210514 (Red Hat 8.5.0-22) Red Hat Enterprise Linux 9.5 Kernel: 5.15 Compiler: gcc gcc (GCC) 11.5.0 20240719 (Red Hat 11.5.0-2) Ubuntu 22.04 Kernel: 5.15 Compiler: gcc gcc (Ubuntu 11.4.0-1ubuntu1~22.04) 11.4.0 Fedora Linux 42 Kernel: 5.15 Compiler: clang gcc (GCC) 15.2.1 20250808 (Red Hat 15.2.1-1) Ubuntu 20.04 Kernel: 5.15 Compiler: gcc gcc (Ubuntu 9.4.0-1ubuntu1~20.04.2) 9.4.0 Ubuntu 24.04 Kernel: 5.15 Compiler: gcc gcc (Ubuntu 13.3.0-6ubuntu2~24.04) 13.3.0 Windows Server 2022 Kernel: 10.0.20348.2031 Compiler: clang 15.0.7, gcc 14.1.0 (MinGW), and MSVC VS 19.39.33521 To view detailed results, visit: https://lab.dpdk.org/results/dashboard/patchsets/34403/ UNH-IOL DPDK Community Lab To manage your email subscriptions, visit: https://lab.dpdk.org/results/dashboard/preferences/subscriptions/