From mboxrd@z Thu Jan 1 00:00:00 1970 Return-Path: Received: from mails.dpdk.org (mails.dpdk.org [217.70.189.124]) by inbox.dpdk.org (Postfix) with ESMTP id 2B05048A08 for ; Tue, 28 Oct 2025 22:13:00 +0100 (CET) Received: from mails.dpdk.org (localhost [127.0.0.1]) by mails.dpdk.org (Postfix) with ESMTP id 175084021E; Tue, 28 Oct 2025 22:13:00 +0100 (CET) Received: from mail-pl1-f225.google.com (mail-pl1-f225.google.com [209.85.214.225]) by mails.dpdk.org (Postfix) with ESMTP id C7B9E4021E for ; Tue, 28 Oct 2025 22:12:58 +0100 (CET) Received: by mail-pl1-f225.google.com with SMTP id d9443c01a7336-290a3a4c7ecso74016755ad.0 for ; Tue, 28 Oct 2025 14:12:58 -0700 (PDT) DKIM-Signature: v=1; a=rsa-sha256; c=relaxed/relaxed; d=iol.unh.edu; s=unh-iol; t=1761685978; x=1762290778; darn=dpdk.org; h=references:in-reply-to:cc:to:from:subject:message-id:date:from:to :cc:subject:date:message-id:reply-to; bh=e59hhwZZGg6ZSMbGTBlP2DSViZ+nlbuSR4H/aURL3i4=; b=AOzU7qg+4MiL3Oc/QgAX+ptewAMbebLJCgcgOhOeOcfw4KIzTZjcvZP4Uu00mTj846 f74cAmS6IY8yHu6GlxU9U084BeTHfpFcCHKKP2z//GYlmDfLmUzOCbxQT77+mKQc09R3 UI8N+rmnIgEkRpL1au4H30utIInS+C2LiAOvw= X-Google-DKIM-Signature: v=1; a=rsa-sha256; c=relaxed/relaxed; d=1e100.net; s=20230601; t=1761685978; x=1762290778; h=references:in-reply-to:cc:to:from:subject:message-id:date :x-gm-message-state:from:to:cc:subject:date:message-id:reply-to; bh=e59hhwZZGg6ZSMbGTBlP2DSViZ+nlbuSR4H/aURL3i4=; b=N8VafWRyutAZYvI1FF789JCgJ1Lzb5cdGubKAQdk1vI+NW9GYgcMwmpprLlYu26IdI Tcz9ZroQPq40xhJaSESJL5Po8FDFeZ5NnP0ynGaiY5CbVbo/BK0l8BIaBnrsSDV6XAG2 RVFyP89D1UN6LCQHLuq/ZaP44aa+2h/xbgdd6klqubF0NI6usRLRogbBPxUkoGRK9Qfl 5o1fEzLpzNCqKAmR7u+IeXoQRR8S9IvlFi17iYfwhQX1mHZdYYEMs6+ztyUAU9NSptte d1jURtuZEt0EaeTSfqklGK33U5YlVcN++b4q9tTr/lS50/TFwgjg0MR2F8v3PZO/JXXE 65RA== X-Gm-Message-State: AOJu0YzwjNGLypsnhTPJ3Ieq/hRKNPcQf5zRT1muFmX/8+D6wbUgM0L1 0OOL4+9awp0tr3nEt9WUm/1JQs2pSpvpZYEbVlqFyHD3Snde1YCMxqUve6OJQb2LbAH8QD8NPry +/rsv5FIIs8lE8Z3GT/aRXpNwLdm1q5XYTuQj2mnlo5RwgwNCwnzm5n9Bnzf8 X-Gm-Gg: ASbGncuFCBHoQcDX3K/+QfNppmi0HrzSP9urAUXJuPLK+t1MSpjidMDm4EGd2fidIpj jOPhJNFJGZtiVmX93mqu6KjXY5OItu9zmgJld2VaFqouIzr81sefMYnyjsuw+Wsw24uMl7gbj2h MsZ1E4ZBC2fpDW5v/bsaJ/Q1NnLbkVn55dUD+4jFQyNPZlJYdt77qzrMGS5/hZRaz59D5EqSucY i4vpU2IfxWDYz38VE8ImC+cADfJ80n+rk/egbbVr7+NyrxRHj9TKA2HMTj/K7qJdR3ktsUA+Zet ZnnGGRVv/M1OZ5NjwG05RVh0Y8pnDlKSW+/ixI5z6sqsalX7ml9GdVNAF5kyGhFsE1mP6Ygyvem d5NIk/Q61 X-Google-Smtp-Source: AGHT+IFq8y1jFueKGblQyMqYle6DXOg95+fk9BJig0UN2ARO4zkMZiYAU6tXGHZ3XTdZ21cgHiJS8xpVkbFD X-Received: by 2002:a17:903:1ca:b0:25c:46cd:1dc1 with SMTP id d9443c01a7336-294def2d884mr5371305ad.33.1761685977759; Tue, 28 Oct 2025 14:12:57 -0700 (PDT) Received: from postal.iol.unh.edu (postal.iol.unh.edu. [2606:4100:3880:1234::84]) by smtp-relay.gmail.com with ESMTPS id d2e1a72fcca58-7a41408a4ddsm850285b3a.5.2025.10.28.14.12.57 (version=TLS1_2 cipher=ECDHE-ECDSA-AES128-GCM-SHA256 bits=128/128); Tue, 28 Oct 2025 14:12:57 -0700 (PDT) X-Relaying-Domain: iol.unh.edu Date: Tue, 28 Oct 2025 14:12:57 -0700 (PDT) Message-ID: <690131d9.050a0220.1a4e06.856aSMTPIN_ADDED_MISSING@mx.google.com> Received: from [172.21.0.2] (unknown [172.18.0.240]) by postal.iol.unh.edu (Postfix) with ESMTP id ED80D6051830; Tue, 28 Oct 2025 17:12:56 -0400 (EDT) Subject: |SUCCESS| pw158190-158192 [PATCH] [v10,3/3] doc: note on unsupported From: dpdklab@iol.unh.edu To: Test Report Cc: dpdk-test-reports@iol.unh.edu, Bruce Richardson In-Reply-To: <20251028142202.137392-4-shaiq.wani@intel.com> References: <20251028142202.137392-4-shaiq.wani@intel.com> Content-Type: text/plain X-BeenThere: test-report@dpdk.org X-Mailman-Version: 2.1.29 Precedence: list List-Id: automatic DPDK test reports List-Unsubscribe: , List-Archive: List-Post: List-Help: List-Subscribe: , Errors-To: test-report-bounces@dpdk.org Test-Label: iol-unit-amd64-testing Test-Status: SUCCESS http://dpdk.org/patch/158192 _Testing PASS_ Submitter: Shaiq Wani Date: Tuesday, October 28 2025 14:22:02 DPDK git baseline: Repo:dpdk-next-net-intel Branch: master CommitID:6b997d6b9ffdbb4f8ecd14d1f217da69cdc783af 158190-158192 --> testing pass Upstream job id: Generic-Unit-Test-DPDK#386255 Test environment and result as below: +-------------------------------+----------------+ | Environment | dpdk_unit_test | +===============================+================+ | CentOS Stream 9 | PASS | +-------------------------------+----------------+ | CentOS Stream 10 | PASS | +-------------------------------+----------------+ | Debian GNU/Linux 12 | PASS | +-------------------------------+----------------+ | Fedora Linux 40 | PASS | +-------------------------------+----------------+ | Fedora Linux 41 | PASS | +-------------------------------+----------------+ | Fedora Linux 42 | PASS | +-------------------------------+----------------+ | Red Hat Enterprise Linux 8.10 | PASS | +-------------------------------+----------------+ | Ubuntu 20.04 | PASS | +-------------------------------+----------------+ | Ubuntu 22.04 | PASS | +-------------------------------+----------------+ | Ubuntu 24.04 | PASS | +-------------------------------+----------------+ | Red Hat Enterprise Linux 9.5 | PASS | +-------------------------------+----------------+ CentOS Stream 9 Kernel: 5.15 Compiler: gcc gcc (GCC) 11.5.0 20240719 (Red Hat 11.5.0-11) CentOS Stream 10 Kernel: 5.15 Compiler: gcc gcc (GCC) 14.2.1 20250110 (Red Hat 14.2.1-8) Debian GNU/Linux 12 Kernel: 5.15 Compiler: gcc gcc (Debian 12.2.0-14+deb12u1) 12.2.0 Fedora Linux 40 Kernel: 5.15 Compiler: gcc gcc (GCC) 14.2.1 20240912 (Red Hat 14.2.1-3) Fedora Linux 41 Kernel: 5.15 Compiler: gcc gcc (GCC) 14.3.1 20250523 (Red Hat 14.3.1-1) Fedora Linux 42 Kernel: 5.15 Compiler: gcc gcc (GCC) 15.2.1 20250808 (Red Hat 15.2.1-1) Red Hat Enterprise Linux 8.10 Kernel: 5.15 Compiler: gcc gcc (GCC) 8.5.0 20210514 (Red Hat 8.5.0-22) Ubuntu 20.04 Kernel: 5.15 Compiler: gcc gcc (Ubuntu 9.4.0-1ubuntu1~20.04.2) 9.4.0 Ubuntu 22.04 Kernel: 5.15 Compiler: gcc gcc (Ubuntu 11.4.0-1ubuntu1~22.04) 11.4.0 Ubuntu 24.04 Kernel: 5.15 Compiler: gcc gcc (Ubuntu 13.3.0-6ubuntu2~24.04) 13.3.0 Red Hat Enterprise Linux 9.5 Kernel: 5.15 Compiler: gcc gcc (GCC) 11.5.0 20240719 (Red Hat 11.5.0-2) To view detailed results, visit: https://lab.dpdk.org/results/dashboard/patchsets/34404/ UNH-IOL DPDK Community Lab To manage your email subscriptions, visit: https://lab.dpdk.org/results/dashboard/preferences/subscriptions/