From mboxrd@z Thu Jan 1 00:00:00 1970 Return-Path: Received: from mails.dpdk.org (mails.dpdk.org [217.70.189.124]) by inbox.dpdk.org (Postfix) with ESMTP id 47C3148A08 for ; Tue, 28 Oct 2025 22:13:57 +0100 (CET) Received: from mails.dpdk.org (localhost [127.0.0.1]) by mails.dpdk.org (Postfix) with ESMTP id 3C4D34021E; Tue, 28 Oct 2025 22:13:57 +0100 (CET) Received: from mail-ua1-f100.google.com (mail-ua1-f100.google.com [209.85.222.100]) by mails.dpdk.org (Postfix) with ESMTP id 6B15F4021E for ; Tue, 28 Oct 2025 22:13:56 +0100 (CET) Received: by mail-ua1-f100.google.com with SMTP id a1e0cc1a2514c-932b7831827so2044023241.2 for ; Tue, 28 Oct 2025 14:13:56 -0700 (PDT) DKIM-Signature: v=1; a=rsa-sha256; c=relaxed/relaxed; d=iol.unh.edu; s=unh-iol; t=1761686036; x=1762290836; darn=dpdk.org; h=references:in-reply-to:cc:to:from:subject:message-id:date:from:to :cc:subject:date:message-id:reply-to; bh=BZ/+I08MywD/ntTiFEwdGNWTpkBS+amdlnSoA4JhHQ8=; b=VlEx72ujXXeINovLhe4nLpIrMZwY1Mtpaqycd3xE8O9WG7ekUMy4dedXgBri2SSE8C M671ABtsPhZYL7yoxUfJV+VYN6c7UECBbkVVv7XvOzWBPYEPb9Yuzfdh14I3N1jaEljA ykSLPFsHV1Zvf2ohfBFIJnqGGv4NBRYUl5dCI= X-Google-DKIM-Signature: v=1; a=rsa-sha256; c=relaxed/relaxed; d=1e100.net; s=20230601; t=1761686036; x=1762290836; h=references:in-reply-to:cc:to:from:subject:message-id:date :x-gm-message-state:from:to:cc:subject:date:message-id:reply-to; bh=BZ/+I08MywD/ntTiFEwdGNWTpkBS+amdlnSoA4JhHQ8=; b=NDe8mvIm5tOJOsVMEO6FgOh5LM+UUaWIfLjORIGjc6yw9+7GIpILRPnYFDwcvruVLX /YAt1pxv2SuvELE7oaTRo85XadRAjlqP3+UVP5anfra/8kSrDFEHFCLzEkBVG1tk22hA TEgW2C/IZjZXaDzm/cczLtss2vLtCLuA0MtYtoUKLnls2fXNRSLtBkEhCha6v7pMnZ67 i4uCxx8JObsqdsjgxsal+y2teTRyXXaK0JzETGQbuZq7Hp0rW86wkff7unLmx4N9GMmV NQZMYvYMx1Gxr9snFfDXWnO/CGjpWuuRBooXDTyPzL62eYNbJzaGeWTH6SVSrvN6tzpu qYMg== X-Gm-Message-State: AOJu0YxyHgCc959jggfHlGmG9/5fK0cW+AFD02kVK2YGYtREM8UDFwI8 8crIx06gL/6N+QuTJB92Ybt+U3bMqZa2JoPRN39C6vE6P1nWqrdZfOh3hb7I/sPJsMzckQfT8l6 ucpNhVjYM38IDhaE0IQ+pknWHLFk6SqKjQheqXXMt4YTk4LqrdHe1IBIn6TJa X-Gm-Gg: ASbGncvuvRaX+XmVxlZNjXHW8HZrQgF34PG/n6hjjoYsycA5yr1V5WHT8qwY9dmqDiE 8kRypdXGS8ieBb4oIDp+xXgCfn0f2N8qZcissd5DOmg4IzV5/lZdYY85wrgADm/ZENaUTFnhbPz nON8+SqUPDg/mgXH/obHf7vLHfFSU70Stok0SZTZInF4iHa+aEzsROMPBMVgt0i922E2SswTEzK JqkE56qdjkMg3SWTFHxNlw9bapPASxjR5UhYcgE7DExgYKgfKDn447mH7nRzitx75bYqvH1yCwP vYwlpOmw8yrRFO5mFtNUkrJxFxFzAmh8o5e8dJs508PSYeqO+q5oVhBNpPHv1P6ojyZQT0kJ4Ii D0UqZygVC X-Google-Smtp-Source: AGHT+IFo1hcHNHfrNFqkmmxvJHniq8D4lsJq/uhnagaixyYWBQSzciwNE60o+Yk2jmDtPYp7vZeHkxXnh0Re X-Received: by 2002:a05:6102:4a96:b0:5c8:c0e2:3d98 with SMTP id ada2fe7eead31-5db90662544mr195439137.20.1761686035719; Tue, 28 Oct 2025 14:13:55 -0700 (PDT) Received: from postal.iol.unh.edu (postal.iol.unh.edu. [2606:4100:3880:1234::84]) by smtp-relay.gmail.com with ESMTPS id ada2fe7eead31-5db4e60e0c8sm1290098137.4.2025.10.28.14.13.55 (version=TLS1_2 cipher=ECDHE-ECDSA-AES128-GCM-SHA256 bits=128/128); Tue, 28 Oct 2025 14:13:55 -0700 (PDT) X-Relaying-Domain: iol.unh.edu Date: Tue, 28 Oct 2025 14:13:55 -0700 (PDT) Message-ID: <69013213.050a0220.23c27f.e127SMTPIN_ADDED_MISSING@mx.google.com> Received: from [172.21.0.2] (unknown [172.18.0.240]) by postal.iol.unh.edu (Postfix) with ESMTP id 680BC6051830; Tue, 28 Oct 2025 17:13:55 -0400 (EDT) Subject: |WARNING| pw158194-158201 [PATCH] [v1,8/8] vfio: deprecate group-bas From: dpdklab@iol.unh.edu To: Test Report Cc: dpdk-test-reports@iol.unh.edu In-Reply-To: References: Content-Type: text/plain X-BeenThere: test-report@dpdk.org X-Mailman-Version: 2.1.29 Precedence: list List-Id: automatic DPDK test reports List-Unsubscribe: , List-Archive: List-Post: List-Help: List-Subscribe: , Errors-To: test-report-bounces@dpdk.org Test-Label: iol-compile-amd64-testing Test-Status: WARNING http://dpdk.org/patch/158201 _Testing issues_ Submitter: Anatoly Burakov Date: Tuesday, October 28 2025 16:43:21 DPDK git baseline: Repo:dpdk Branch: master CommitID:39b54f2dcf44ad1f91eabc7080cd5dea763607fd 158194-158201 --> testing issues Upstream job id: Generic-DPDK-Compile-Meson#438682 Test environment and result as below: +-------------------------------+--------------------+-------------------+-------------------+------------------+ | Environment | dpdk_meson_compile | dpdk_msvc_compile | dpdk_compile_spdk | dpdk_compile_ovs | +===============================+====================+===================+===================+==================+ | Ubuntu 20.04 | PEND | SKIPPED | SKIPPED | SKIPPED | +-------------------------------+--------------------+-------------------+-------------------+------------------+ | FreeBSD 14.2 | PASS | SKIPPED | SKIPPED | SKIPPED | +-------------------------------+--------------------+-------------------+-------------------+------------------+ | CentOS Stream 9 | PASS | SKIPPED | WARN | SKIPPED | +-------------------------------+--------------------+-------------------+-------------------+------------------+ | CentOS Stream 10 | PASS | SKIPPED | SKIPPED | SKIPPED | +-------------------------------+--------------------+-------------------+-------------------+------------------+ | Fedora Linux 42 | PEND | SKIPPED | PEND | PEND | +-------------------------------+--------------------+-------------------+-------------------+------------------+ | Debian GNU/Linux 12 | PEND | SKIPPED | PEND | SKIPPED | +-------------------------------+--------------------+-------------------+-------------------+------------------+ | openSUSE Leap 15.6 | PEND | SKIPPED | SKIPPED | SKIPPED | +-------------------------------+--------------------+-------------------+-------------------+------------------+ | Red Hat Enterprise Linux 8.10 | PASS | SKIPPED | SKIPPED | SKIPPED | +-------------------------------+--------------------+-------------------+-------------------+------------------+ | Red Hat Enterprise Linux 9.5 | PEND | SKIPPED | SKIPPED | SKIPPED | +-------------------------------+--------------------+-------------------+-------------------+------------------+ | Ubuntu 22.04 | PEND | SKIPPED | PEND | SKIPPED | +-------------------------------+--------------------+-------------------+-------------------+------------------+ | Ubuntu 24.04 | PEND | SKIPPED | PEND | PEND | +-------------------------------+--------------------+-------------------+-------------------+------------------+ | Windows Server 2022 | SKIPPED | PASS | SKIPPED | SKIPPED | +-------------------------------+--------------------+-------------------+-------------------+------------------+ ==== 20 line log output for CentOS Stream 9 (dpdk_compile_spdk): ==== --- Failed to get log output --- ==== End log output ==== Ubuntu 20.04 Kernel: 4.19 Compiler: gcc gcc (Ubuntu 9.4.0-1ubuntu1~20.04.2) 9.4.0 FreeBSD 14.2 Kernel: 14.2-RELEASE Compiler: clang 18.1.6 CentOS Stream 9 Kernel: 5.15 Compiler: gcc gcc (GCC) 11.5.0 20240719 (Red Hat 11.5.0-11) CentOS Stream 10 Kernel: 5.15 Compiler: gcc gcc (GCC) 14.2.1 20250110 (Red Hat 14.2.1-8) Fedora Linux 42 Kernel: 5.15 Compiler: clang gcc (GCC) 15.2.1 20250808 (Red Hat 15.2.1-1) Debian GNU/Linux 12 Kernel: 5.15 Compiler: gcc gcc (Debian 12.2.0-14+deb12u1) 12.2.0 openSUSE Leap 15.6 Kernel: 5.15 Compiler: gcc gcc (SUSE Linux) 7.5.0 Red Hat Enterprise Linux 8.10 Kernel: 5.15 Compiler: gcc gcc (GCC) 8.5.0 20210514 (Red Hat 8.5.0-22) Red Hat Enterprise Linux 9.5 Kernel: 5.15 Compiler: gcc gcc (GCC) 11.5.0 20240719 (Red Hat 11.5.0-2) Ubuntu 22.04 Kernel: 5.15 Compiler: gcc gcc (Ubuntu 11.4.0-1ubuntu1~22.04) 11.4.0 Ubuntu 24.04 Kernel: 5.15 Compiler: gcc gcc (Ubuntu 13.3.0-6ubuntu2~24.04) 13.3.0 Windows Server 2022 Kernel: 10.0.20348.2031 Compiler: clang 15.0.7, gcc 14.1.0 (MinGW), and MSVC VS 19.39.33521 To view detailed results, visit: https://lab.dpdk.org/results/dashboard/patchsets/34406/ UNH-IOL DPDK Community Lab To manage your email subscriptions, visit: https://lab.dpdk.org/results/dashboard/preferences/subscriptions/