From mboxrd@z Thu Jan 1 00:00:00 1970 Return-Path: Received: from mails.dpdk.org (mails.dpdk.org [217.70.189.124]) by inbox.dpdk.org (Postfix) with ESMTP id 500CF48A08 for ; Tue, 28 Oct 2025 22:14:03 +0100 (CET) Received: from mails.dpdk.org (localhost [127.0.0.1]) by mails.dpdk.org (Postfix) with ESMTP id 492CE4021E; Tue, 28 Oct 2025 22:14:03 +0100 (CET) Received: from mail-il1-f225.google.com (mail-il1-f225.google.com [209.85.166.225]) by mails.dpdk.org (Postfix) with ESMTP id C85014021E for ; Tue, 28 Oct 2025 22:13:58 +0100 (CET) Received: by mail-il1-f225.google.com with SMTP id e9e14a558f8ab-430c17e29d9so27429765ab.1 for ; Tue, 28 Oct 2025 14:13:58 -0700 (PDT) DKIM-Signature: v=1; a=rsa-sha256; c=relaxed/relaxed; d=iol.unh.edu; s=unh-iol; t=1761686038; x=1762290838; darn=dpdk.org; h=references:in-reply-to:cc:to:from:subject:message-id:date:from:to :cc:subject:date:message-id:reply-to; bh=1jBEeZi1WiY2QbvVXrs5wVONEOBX3F3AVMIe919lxTY=; b=DDDouDE65Dt1DxJytk85jOxPfkcq69dJlnKj3/rhLprh1iR7pAPhjM1XOxRgp18han 7hJXwVcZsCVHfavpI1iHI96qo/q9yChya19mdfitJdLgNpZtnGNSxg5er/xSjYZXC8Qo NJavTSuX54nm7kQX3piLQjx7Uknqtmgv10i30= X-Google-DKIM-Signature: v=1; a=rsa-sha256; c=relaxed/relaxed; d=1e100.net; s=20230601; t=1761686038; x=1762290838; h=references:in-reply-to:cc:to:from:subject:message-id:date :x-gm-message-state:from:to:cc:subject:date:message-id:reply-to; bh=1jBEeZi1WiY2QbvVXrs5wVONEOBX3F3AVMIe919lxTY=; b=aOSVSN2AVQHkC5tZ5CoA/PolPdx9wLZggfYG34q6O8QE9cTUFQSSNbhbETa3n6Vsck EOJ44ECYAYgaIsQjP+svnuXLJRyGdHr2lW+4VVu7O3OI7zHo8ROF2kt2/vYaTg1HXGvR HWO7HmUzkCTtbX7AOL80+/zUthcoJXeo15fvAXhRMAPap445LQ5GlpylKiOl6uvHjKDo k6wbIyrAUjgKOvVYwMCA+pq0Bjm4/74KCpM0yTnIHp6MNN5YDyV0I7efKu4EnawpuRZ0 /UGuIRMHzhP5pbGZ5Y0m4iefoc38DYwG9NZVWBZu4NjfDhQJigqJOenXiSLWh1V38xF4 SnyA== X-Gm-Message-State: AOJu0YzfyQ667cXMNRH7xMmibMELqC+b7HrVIIYK/C8TZFKZRZj2ykX8 m0Y4CWmmM09yHSL7XIO06CTcmSgc7NI+oo3kyJB7kJJxYADseI5FnnN3MVMDc4b4y3UwZTBfSJ3 id6MxVGAEOMFjgAFsknznJKYIzkSbrvwzo2XOaB0ociwX X-Gm-Gg: ASbGncsHcG1NTN1AjnAXm/cT7ZHpO4T0UifizF4vR0I2l02Vg+tcJ/m7V9RXkxQ9LBQ OLQ+WSngfQeXh73X45Pa0W1iWqCQXrfeSzrC2dAGCluunllM7ycS/v4iSMov+AZ6Sx+1y6io56R ugKrJK0Vw/F5Og1NPbfog2d1gnCuDg1nTP4SlFXGNK8NT5XMaA7zH0zLUCBrDnXzHCbCl6B7WFA +xBedvneBWKtDtwkn8fkFOyAZvi7Wmkw8XIx2+NSTrMKhLax2JX39XLgpKmWrHRk5uz/6ao2jLJ /bdA+aMezaGc01J4Q7I2JTQEQS8Mn1FEuO5rQGj53OzQl4qz8/vRfLD2qsbps+wOqStBUzKrzYK zyfznldADHlUskA33UY91KnUgec2ujDk= X-Google-Smtp-Source: AGHT+IEInizs+V4TXP+IwiShJZjFlSrzLEpsXVva3rjU2U1xdQaEkC6D3s+ilAr/j5jkGLWVXurEdHm1YV4r X-Received: by 2002:a05:6e02:1707:b0:430:ae26:7c28 with SMTP id e9e14a558f8ab-432f8f87007mr8977965ab.1.1761686038149; Tue, 28 Oct 2025 14:13:58 -0700 (PDT) Received: from postal.iol.unh.edu (postal.iol.unh.edu. [132.177.123.84]) by smtp-relay.gmail.com with ESMTPS id 8926c6da1cb9f-5aea995bd75sm931078173.25.2025.10.28.14.13.58 (version=TLS1_2 cipher=ECDHE-ECDSA-AES128-GCM-SHA256 bits=128/128); Tue, 28 Oct 2025 14:13:58 -0700 (PDT) X-Relaying-Domain: iol.unh.edu Date: Tue, 28 Oct 2025 14:13:58 -0700 (PDT) Message-ID: <69013216.050a0220.16cc.bf4aSMTPIN_ADDED_MISSING@mx.google.com> Received: from [172.21.0.3] (unknown [172.18.0.240]) by postal.iol.unh.edu (Postfix) with ESMTP id CA8CE6051830; Tue, 28 Oct 2025 17:13:57 -0400 (EDT) Subject: |WARNING| pw158205-158204 [PATCH] [v1,3/3] app/test: fix issues with From: dpdklab@iol.unh.edu To: Test Report Cc: dpdk-test-reports@iol.unh.edu In-Reply-To: <20251028172324.3149379-3-jerinj@marvell.com> References: <20251028172324.3149379-3-jerinj@marvell.com> Content-Type: text/plain X-BeenThere: test-report@dpdk.org X-Mailman-Version: 2.1.29 Precedence: list List-Id: automatic DPDK test reports List-Unsubscribe: , List-Archive: List-Post: List-Help: List-Subscribe: , Errors-To: test-report-bounces@dpdk.org Test-Label: iol-compile-amd64-testing Test-Status: WARNING http://dpdk.org/patch/158204 _Testing issues_ Submitter: Jerin Jacob Date: Tuesday, October 28 2025 17:23:23 DPDK git baseline: Repo:dpdk Branch: master CommitID:39b54f2dcf44ad1f91eabc7080cd5dea763607fd 158205-158204 --> testing issues Upstream job id: Generic-DPDK-Compile-Meson#438686 Test environment and result as below: +-----------------+--------------------+-------------------+ | Environment | dpdk_meson_compile | dpdk_compile_spdk | +=================+====================+===================+ | Ubuntu 20.04 | PASS | SKIPPED | +-----------------+--------------------+-------------------+ | FreeBSD 14.2 | PASS | SKIPPED | +-----------------+--------------------+-------------------+ | CentOS Stream 9 | PASS | WARN | +-----------------+--------------------+-------------------+ ==== 20 line log output for CentOS Stream 9 (dpdk_compile_spdk): ==== --- Failed to get log output --- ==== End log output ==== Ubuntu 20.04 Kernel: 4.19 Compiler: gcc gcc (Ubuntu 9.4.0-1ubuntu1~20.04.2) 9.4.0 FreeBSD 14.2 Kernel: 14.2-RELEASE Compiler: clang 18.1.6 CentOS Stream 9 Kernel: 5.15 Compiler: gcc gcc (GCC) 11.5.0 20240719 (Red Hat 11.5.0-11) To view detailed results, visit: https://lab.dpdk.org/results/dashboard/patchsets/34408/ UNH-IOL DPDK Community Lab To manage your email subscriptions, visit: https://lab.dpdk.org/results/dashboard/preferences/subscriptions/