From mboxrd@z Thu Jan 1 00:00:00 1970 Return-Path: Received: from mails.dpdk.org (mails.dpdk.org [217.70.189.124]) by inbox.dpdk.org (Postfix) with ESMTP id E1B1148A08 for ; Tue, 28 Oct 2025 22:28:12 +0100 (CET) Received: from mails.dpdk.org (localhost [127.0.0.1]) by mails.dpdk.org (Postfix) with ESMTP id BD3F64021E; Tue, 28 Oct 2025 22:28:12 +0100 (CET) Received: from mail-il1-f225.google.com (mail-il1-f225.google.com [209.85.166.225]) by mails.dpdk.org (Postfix) with ESMTP id 5281A4021E for ; Tue, 28 Oct 2025 22:28:11 +0100 (CET) Received: by mail-il1-f225.google.com with SMTP id e9e14a558f8ab-42e2c336adcso27554275ab.1 for ; Tue, 28 Oct 2025 14:28:11 -0700 (PDT) DKIM-Signature: v=1; a=rsa-sha256; c=relaxed/relaxed; d=iol.unh.edu; s=unh-iol; t=1761686890; x=1762291690; darn=dpdk.org; h=references:in-reply-to:cc:to:from:subject:message-id:date:from:to :cc:subject:date:message-id:reply-to; bh=DOiQTJlYBtPPtLDY5Nz99NNzGqLad+2PQ85Ngel9CU4=; b=NzDxtn2vDYwK1ZUt2mritQCns268Nr4C8S2MJRb7T5p+x0ZkXO6T4GLAl9xVodAlbv qgLeZRAy1cwRy/yjSD+TQpBQCCFFejxTZORlDoDapwHhIXyf+kG96eWRawcJL/S9nlMh wlJF+gZCoHejlp0vg2d9inmF1zqoBR6xa3d3Q= X-Google-DKIM-Signature: v=1; a=rsa-sha256; c=relaxed/relaxed; d=1e100.net; s=20230601; t=1761686890; x=1762291690; h=references:in-reply-to:cc:to:from:subject:message-id:date :x-gm-message-state:from:to:cc:subject:date:message-id:reply-to; bh=DOiQTJlYBtPPtLDY5Nz99NNzGqLad+2PQ85Ngel9CU4=; b=S4o/KltURh5Eis/Vy0cVoa7llphiLgykgN4Bn0p7RVvuxW9SfGeWeYwBBwsldpccZO vho+Z/lW6MYnqItTO7OjARqxmaX9RdfhmexRRe5fD7pITTfpYc2mz77zCcJm98VVMm3s KRDvPxRvY67xBhIFF4VfIL73p8cLUzQjsp63Qs7ATFntp5TwHHc5DdVhp5eLMa5E5ROj 7Xr7ZotTE/wySBVTKS5TVI+lsbxgDG9uedujoBenaXq5UUV/8ECmJ88hlq2+8xF3XVsd lBjsbsWonG8hwiadtAyGaEGtR3pJZzflhPI9F6wQunGbmDAs8vU/x60qJZ3aXnUojpWy drIg== X-Gm-Message-State: AOJu0YxBrHOKXsfLtIVB8JERY79xPIsJjJtl9EEDsW3cuwfNSEiEcou3 zEiZFpVel+jJwB/tm23gXHb9LHCT8jG6aN+U902Hm8bJTi14qvJuWelwsE4O9OzKqR63lcAw4ww AXoa/VhYmKUqnxuXGuAFuObcGujdmHMHYfBqDo9OgJLXq X-Gm-Gg: ASbGnctfUtoMIZCSHZhJBIGvsKNfEL+jdfOhE6Horm44VsYMCBeuGdzihfbA16Y8XEs jGHZzivoTwD6rWN48G4nfjda64s1lz0IZUFhEasR3mK5sxRM7WWkjn/bxDRPvG3LFtoX+VdWkQL pIcDvaAJQT+wZ+adyoIE1z1tDjpbxQREPrAuTpXVaV17AvuZKNFcQpQ6zTM5/p/KB9HwiuYHA8d +W+HhrLPG3PWknbpcJZLlvm/9rJ+l6xnXBfXlXysEzSdcgPGtcgL94bJ1WLNpgb2ev0IbMqSNgZ TPuaZRgpN2DZGQLr8DWgIo8GZVVwoaPrkLbrB1dId3ECNshdRVkzQG518ejxN2mDXiXFVPIwPvr F7ds8n/tlMBXI7UaBT3mbkzz2m154bnY= X-Google-Smtp-Source: AGHT+IEdWqopXRwrw/85aB5T229pQkpXFFalAg94t+KDziODhSh4YwlaG9Nu8LMh8dzs8tUoq6tzWtZVxoGX X-Received: by 2002:a05:6e02:3a0c:b0:42e:7a9d:f5ff with SMTP id e9e14a558f8ab-432f8fac74dmr12198825ab.11.1761686890644; Tue, 28 Oct 2025 14:28:10 -0700 (PDT) Received: from postal.iol.unh.edu (postal.iol.unh.edu. [132.177.123.84]) by smtp-relay.gmail.com with ESMTPS id e9e14a558f8ab-431f67ea498sm11211675ab.6.2025.10.28.14.28.10 (version=TLS1_2 cipher=ECDHE-ECDSA-AES128-GCM-SHA256 bits=128/128); Tue, 28 Oct 2025 14:28:10 -0700 (PDT) X-Relaying-Domain: iol.unh.edu Date: Tue, 28 Oct 2025 14:28:10 -0700 (PDT) Message-ID: <6901356a.050a0220.38876d.60fdSMTPIN_ADDED_MISSING@mx.google.com> Received: from [172.21.0.3] (unknown [172.18.0.240]) by postal.iol.unh.edu (Postfix) with ESMTP id 35A8A6051830; Tue, 28 Oct 2025 17:28:10 -0400 (EDT) Subject: |SUCCESS| pw158203 [PATCH] [v3] fib6: implement RCU rule reclamation From: dpdklab@iol.unh.edu To: Test Report Cc: dpdk-test-reports@iol.unh.edu In-Reply-To: <20251028173703.548656-3-rjarry@redhat.com> References: <20251028173703.548656-3-rjarry@redhat.com> Content-Type: text/plain X-BeenThere: test-report@dpdk.org X-Mailman-Version: 2.1.29 Precedence: list List-Id: automatic DPDK test reports List-Unsubscribe: , List-Archive: List-Post: List-Help: List-Subscribe: , Errors-To: test-report-bounces@dpdk.org Test-Label: iol-compile-amd64-testing Test-Status: SUCCESS http://dpdk.org/patch/158203 _Testing PASS_ Submitter: Robin Jarry Date: Tuesday, October 28 2025 17:37:05 DPDK git baseline: Repo:dpdk Branch: master CommitID:39b54f2dcf44ad1f91eabc7080cd5dea763607fd 158203 --> testing pass Upstream job id: Windows-Compile-DPDK-VS#7351 Test environment and result as below: +---------------------+--------------------+-------------------+ | Environment | dpdk_meson_compile | dpdk_msvc_compile | +=====================+====================+===================+ | FreeBSD 14.2 | PASS | SKIPPED | +---------------------+--------------------+-------------------+ | Ubuntu 20.04 | PASS | SKIPPED | +---------------------+--------------------+-------------------+ | Windows Server 2022 | SKIPPED | PASS | +---------------------+--------------------+-------------------+ FreeBSD 14.2 Kernel: 14.2-RELEASE Compiler: clang 18.1.6 Ubuntu 20.04 Kernel: 4.19 Compiler: gcc gcc (Ubuntu 9.4.0-1ubuntu1~20.04.2) 9.4.0 Windows Server 2022 Kernel: 10.0.20348.2031 Compiler: clang 15.0.7, gcc 14.1.0 (MinGW), and MSVC VS 19.39.33521 To view detailed results, visit: https://lab.dpdk.org/results/dashboard/patchsets/34407/ UNH-IOL DPDK Community Lab To manage your email subscriptions, visit: https://lab.dpdk.org/results/dashboard/preferences/subscriptions/