From mboxrd@z Thu Jan 1 00:00:00 1970 Return-Path: Received: from mails.dpdk.org (mails.dpdk.org [217.70.189.124]) by inbox.dpdk.org (Postfix) with ESMTP id 1DCAD48A08 for ; Tue, 28 Oct 2025 22:30:21 +0100 (CET) Received: from mails.dpdk.org (localhost [127.0.0.1]) by mails.dpdk.org (Postfix) with ESMTP id 0242D4021E; Tue, 28 Oct 2025 22:30:21 +0100 (CET) Received: from mail-qk1-f227.google.com (mail-qk1-f227.google.com [209.85.222.227]) by mails.dpdk.org (Postfix) with ESMTP id A6F5A4021E for ; Tue, 28 Oct 2025 22:30:20 +0100 (CET) Received: by mail-qk1-f227.google.com with SMTP id af79cd13be357-8909f01bd00so691950585a.0 for ; Tue, 28 Oct 2025 14:30:20 -0700 (PDT) DKIM-Signature: v=1; a=rsa-sha256; c=relaxed/relaxed; d=iol.unh.edu; s=unh-iol; t=1761687020; x=1762291820; darn=dpdk.org; h=references:in-reply-to:cc:to:from:subject:message-id:date:from:to :cc:subject:date:message-id:reply-to; bh=CtyfmSnhjsaGipg2/+J9VhHLd8DPMOC0JcEV1/mppuI=; b=gO1wnyG9VZ6l/yVeOOg1suVZXM4Mgd3pA2pv6DovO7FNa56LXZdi+daVjaInTD1oq3 8LumVZj0DVdXKoq13dbOr5dPA65VRaSCvHv9HCvNzlzvTWjYsCIn9h3maFC2bvky+k0v 9Fes8mudlwRu6LbnLW9Jm5OtT6qd49o/1aoPg= X-Google-DKIM-Signature: v=1; a=rsa-sha256; c=relaxed/relaxed; d=1e100.net; s=20230601; t=1761687020; x=1762291820; h=references:in-reply-to:cc:to:from:subject:message-id:date :x-gm-message-state:from:to:cc:subject:date:message-id:reply-to; bh=CtyfmSnhjsaGipg2/+J9VhHLd8DPMOC0JcEV1/mppuI=; b=BIy38BMfgYKtbicQ5ngXNxe+P2Ym5PoJp6QT1y3c6Roi1eT8Z9Uk5+yzCFHbw18UI3 7cQ1/Zhyqv6LRJqnvKBqTIULyYGN6vpERX9hHNTx2043ZuHI6+RIriwHGrldvi4s2vY2 vGb5odwVkKShV2WpFOOHdRNVuUPAkvSbRaq8rX3TIDyJx9aDn3uyJLaADffMv2exds9l uRV4AssBk4G7zPDv2eskqwvxkhM9gwOk6/DOhdoeYwYDu6nGnSAqy3r1sBuGGzX9vN2L wtKLW/MieITonF94Uiu9U9rvkXnO48zQgauC4nkNoZIVduzanoxTwyJGYMZYLiFRs0Do gicA== X-Gm-Message-State: AOJu0Yz9//JbnKPjS7Z00iA2ksjwbABDXcj5r7C9mB11NR6tZuUxKi62 r5GmwKOAJrETAdGZidLtCf4eOS4Stz10E9hhJtS6mL7qNC7jZFAtdeUvaSZxO7FDQ4VoNTOT5m2 IkioWoMw5VszQ2joAB6jw7jfQyDCxc/OviOPngf8cpgg/ X-Gm-Gg: ASbGncukFT8NjqN8EGvJdc1sUsIKfyH8sSUE+hep0oT0lReD51YiQzvlN/5x7FnqQHR NFf/dcZz7TUcQp+tSWX+ET44z0DhVJm6oDsZZsf4z09/IPmU8QJDtEleHnXesIvK01U497OJmyP ACyZOeeqL07tVS0oHw0/zME1HRdiDHPx5wDxFnoP3ALO7YiH2On88qPvsdmu7Y2T0EMMOzYL1f7 LvL6aMcwBT/MbgxJTjWhBlOKO1Iq6uM3MbvMzAdzYzQzsA6/wDHE9msY/bnYEisw7SoW9m/0Qe6 BDNhIYs1p8qAsEmLA3n3pv0sZmpvBbZ2WqM6fypyxIEQMtFXiS60N//hcGaTU2X417X2/he2QRC Dy2m9GjwyqI8BoR8rJFWSKod+bYlUGtU= X-Google-Smtp-Source: AGHT+IH8bwMBgJX4u8hxl8p4+eO/c3Ei8/LshJAmwYUWtl2uoK62Eb0FQ7qcckSTHaOetlyMA9+po5Y030kK X-Received: by 2002:a05:620a:29d2:b0:866:1327:82e9 with SMTP id af79cd13be357-8a8ed163c2emr126140385a.16.1761687019912; Tue, 28 Oct 2025 14:30:19 -0700 (PDT) Received: from postal.iol.unh.edu (postal.iol.unh.edu. [132.177.123.84]) by smtp-relay.gmail.com with ESMTPS id af79cd13be357-89f2460aefdsm91435185a.5.2025.10.28.14.30.19 (version=TLS1_2 cipher=ECDHE-ECDSA-AES128-GCM-SHA256 bits=128/128); Tue, 28 Oct 2025 14:30:19 -0700 (PDT) X-Relaying-Domain: iol.unh.edu Date: Tue, 28 Oct 2025 14:30:19 -0700 (PDT) Message-ID: <690135eb.050a0220.1f443b.a628SMTPIN_ADDED_MISSING@mx.google.com> Received: from [172.21.0.3] (unknown [172.18.0.240]) by postal.iol.unh.edu (Postfix) with ESMTP id 8EC4F6051830; Tue, 28 Oct 2025 17:30:19 -0400 (EDT) Subject: |WARNING| pw158180-158181 [PATCH] [2/2] net/mlx5: support PF represe From: dpdklab@iol.unh.edu To: Test Report Cc: dpdk-test-reports@iol.unh.edu, Stephen Hemminger In-Reply-To: <20251028095831.53669-2-getelson@nvidia.com> References: <20251028095831.53669-2-getelson@nvidia.com> Content-Type: text/plain X-BeenThere: test-report@dpdk.org X-Mailman-Version: 2.1.29 Precedence: list List-Id: automatic DPDK test reports List-Unsubscribe: , List-Archive: List-Post: List-Help: List-Subscribe: , Errors-To: test-report-bounces@dpdk.org Test-Label: iol-compile-amd64-testing Test-Status: WARNING http://dpdk.org/patch/158181 _Testing issues_ Submitter: Gregory Etelson Date: Tuesday, October 28 2025 09:58:30 DPDK git baseline: Repo:dpdk-next-net Branch: master CommitID:11a6a4b1f19140ac3a57ace844be3cba00c39eaa 158180-158181 --> testing issues Upstream job id: Windows-Compile-DPDK-Native#31946 Test environment and result as below: +-------------------------------+--------------------+-------------------+------------------+-------------------+-------------------------+----------------------+ | Environment | dpdk_meson_compile | dpdk_compile_spdk | dpdk_compile_ovs | dpdk_msvc_compile | dpdk_llvm_clang_compile | dpdk_mingw64_compile | +===============================+====================+===================+==================+===================+=========================+======================+ | FreeBSD 14.2 | PASS | SKIPPED | SKIPPED | SKIPPED | SKIPPED | SKIPPED | +-------------------------------+--------------------+-------------------+------------------+-------------------+-------------------------+----------------------+ | Ubuntu 20.04 | PASS | SKIPPED | SKIPPED | SKIPPED | SKIPPED | SKIPPED | +-------------------------------+--------------------+-------------------+------------------+-------------------+-------------------------+----------------------+ | CentOS Stream 9 | PASS | WARN | SKIPPED | SKIPPED | SKIPPED | SKIPPED | +-------------------------------+--------------------+-------------------+------------------+-------------------+-------------------------+----------------------+ | CentOS Stream 10 | PASS | SKIPPED | SKIPPED | SKIPPED | SKIPPED | SKIPPED | +-------------------------------+--------------------+-------------------+------------------+-------------------+-------------------------+----------------------+ | Debian GNU/Linux 12 | PASS | WARN | SKIPPED | SKIPPED | SKIPPED | SKIPPED | +-------------------------------+--------------------+-------------------+------------------+-------------------+-------------------------+----------------------+ | Fedora Linux 42 | PASS | WARN | PASS | SKIPPED | SKIPPED | SKIPPED | +-------------------------------+--------------------+-------------------+------------------+-------------------+-------------------------+----------------------+ | Red Hat Enterprise Linux 8.10 | PASS | SKIPPED | SKIPPED | SKIPPED | SKIPPED | SKIPPED | +-------------------------------+--------------------+-------------------+------------------+-------------------+-------------------------+----------------------+ | openSUSE Leap 15.6 | PASS | SKIPPED | SKIPPED | SKIPPED | SKIPPED | SKIPPED | +-------------------------------+--------------------+-------------------+------------------+-------------------+-------------------------+----------------------+ | Red Hat Enterprise Linux 9.5 | PASS | SKIPPED | SKIPPED | SKIPPED | SKIPPED | SKIPPED | +-------------------------------+--------------------+-------------------+------------------+-------------------+-------------------------+----------------------+ | Ubuntu 22.04 | PASS | WARN | SKIPPED | SKIPPED | SKIPPED | SKIPPED | +-------------------------------+--------------------+-------------------+------------------+-------------------+-------------------------+----------------------+ | Ubuntu 24.04 | PASS | WARN | PASS | SKIPPED | SKIPPED | SKIPPED | +-------------------------------+--------------------+-------------------+------------------+-------------------+-------------------------+----------------------+ | Alpine Linux 3.22.0 | PASS | SKIPPED | SKIPPED | SKIPPED | SKIPPED | SKIPPED | +-------------------------------+--------------------+-------------------+------------------+-------------------+-------------------------+----------------------+ | Windows Server 2022 | SKIPPED | SKIPPED | SKIPPED | PASS | PASS | PASS | +-------------------------------+--------------------+-------------------+------------------+-------------------+-------------------------+----------------------+ ==== 20 line log output for Ubuntu 24.04 (dpdk_compile_spdk): ==== --- Failed to get log output --- ==== End log output ==== FreeBSD 14.2 Kernel: 14.2-RELEASE Compiler: clang 18.1.6 Ubuntu 20.04 Kernel: 4.19 Compiler: gcc gcc (Ubuntu 9.4.0-1ubuntu1~20.04.2) 9.4.0 CentOS Stream 9 Kernel: 5.15 Compiler: gcc gcc (GCC) 11.5.0 20240719 (Red Hat 11.5.0-11) CentOS Stream 10 Kernel: 5.15 Compiler: gcc gcc (GCC) 14.2.1 20250110 (Red Hat 14.2.1-8) Debian GNU/Linux 12 Kernel: 5.15 Compiler: gcc gcc (Debian 12.2.0-14+deb12u1) 12.2.0 Fedora Linux 42 Kernel: 5.15 Compiler: clang gcc (GCC) 15.2.1 20250808 (Red Hat 15.2.1-1) Red Hat Enterprise Linux 8.10 Kernel: 5.15 Compiler: gcc gcc (GCC) 8.5.0 20210514 (Red Hat 8.5.0-22) openSUSE Leap 15.6 Kernel: 5.15 Compiler: gcc gcc (SUSE Linux) 7.5.0 Red Hat Enterprise Linux 9.5 Kernel: 5.15 Compiler: gcc gcc (GCC) 11.5.0 20240719 (Red Hat 11.5.0-2) Ubuntu 22.04 Kernel: 5.15 Compiler: gcc gcc (Ubuntu 11.4.0-1ubuntu1~22.04) 11.4.0 Ubuntu 24.04 Kernel: 5.15 Compiler: gcc gcc (Ubuntu 13.3.0-6ubuntu2~24.04) 13.3.0 Alpine Linux 3.22.0 Kernel: 5.15 Compiler: gcc gcc (Alpine 14.2.0) 14.2.0 Windows Server 2022 Kernel: 10.0.20348.2031 Compiler: clang 15.0.7, gcc 14.1.0 (MinGW), and MSVC VS 19.39.33521 To view detailed results, visit: https://lab.dpdk.org/results/dashboard/patchsets/34399/ UNH-IOL DPDK Community Lab To manage your email subscriptions, visit: https://lab.dpdk.org/results/dashboard/preferences/subscriptions/