From mboxrd@z Thu Jan 1 00:00:00 1970 Return-Path: Received: from mails.dpdk.org (mails.dpdk.org [217.70.189.124]) by inbox.dpdk.org (Postfix) with ESMTP id A93E648A08 for ; Tue, 28 Oct 2025 22:35:23 +0100 (CET) Received: from mails.dpdk.org (localhost [127.0.0.1]) by mails.dpdk.org (Postfix) with ESMTP id A516D4021E; Tue, 28 Oct 2025 22:35:23 +0100 (CET) Received: from mail-il1-f228.google.com (mail-il1-f228.google.com [209.85.166.228]) by mails.dpdk.org (Postfix) with ESMTP id 4654C4021E for ; Tue, 28 Oct 2025 22:35:20 +0100 (CET) Received: by mail-il1-f228.google.com with SMTP id e9e14a558f8ab-430c97cbe0eso62932825ab.2 for ; Tue, 28 Oct 2025 14:35:20 -0700 (PDT) DKIM-Signature: v=1; a=rsa-sha256; c=relaxed/relaxed; d=iol.unh.edu; s=unh-iol; t=1761687319; x=1762292119; darn=dpdk.org; h=references:in-reply-to:cc:to:from:subject:message-id:date:from:to :cc:subject:date:message-id:reply-to; bh=7wqfxo/pBofvum9ULL7ks5chEMiK0SbnqEj6hNkg1so=; b=IIhj9o913daOPF3kMBfqwS/iOhcAV7qt9/RRVuHID2pqIHjtqUhOK/RW0QgWmSqOAZ GrvuYuTXGyGNdp1su7IEEplKQwxL1d4F6eIS8lVLmgMLH+h68KOuOpzfcayQ87ck6Lo5 kjHHv63b7+aFbZzBbi1e1Zs1kr36FEFrsItUM= X-Google-DKIM-Signature: v=1; a=rsa-sha256; c=relaxed/relaxed; d=1e100.net; s=20230601; t=1761687319; x=1762292119; h=references:in-reply-to:cc:to:from:subject:message-id:date :x-gm-message-state:from:to:cc:subject:date:message-id:reply-to; bh=7wqfxo/pBofvum9ULL7ks5chEMiK0SbnqEj6hNkg1so=; b=O9K7sovkqw2dT4xPaGohfAHc1D/rPDs3HPtuUmOw/CpcrHjP9ltWWkCoVPbQ5tY7qt 4F13GXasVcXN9aSXsVPDstZWDfH/wSOZdoGZH++h30GaUCJg6m2v91yfRzy0iMOqtqK7 nPvdJYK9p+LpT1nUkK9IC98d9DgJ3rdIRwlLhE8FRXON7//3giH2bFwSen9kh/ViB02N 6nCiRJzpx0ehmg+azV2NinmqUjnLIGHzzdv8GmL6ZKB/7YEtNYKfEh2AvZEINI2tNCXY vRwDdSk6LjgJgLmCIVimTjGleqOfrwBxekJUgoNn9mXXz3Laz2kAHvZwNK1mIN3WYpZ4 MInA== X-Gm-Message-State: AOJu0Yy4VchZwTH+rQVH3Pp8qs5nKHlJsv8rUtHOGhmIW5Yc0GIX7EDK MKph1UbPfv2zwmtzkXc72q6Q/F00SI3nJqSS6+HNTGyBCjBFTs+ohJcvmGuN/na0BtIGhDpx25E 4GoVOjs736PrDhTusCueU0ImFevv5aWh5LqKgAEBqe3Qn X-Gm-Gg: ASbGncuevJzcQ5OeXBk5D37O5Y5iKgQaL0IvRfga6Ni4Mx0OHbbTG51rFKW2y3wMYIE a0INzhZXgiOHaP2WQyLYI+0/8o66XTzImcRwhA5bcIdJr8nravVEtSrjzmN6MXHAU3GxHNdSV7W mUg3qeA+9VWWAHdw4gt3zIZ+CT/cK8FNd+BXuwmdns9/3lbuqAf5+yvgi+08JxQ1P9sNpuQNlWp B7gG7KcTVXT/9IZ5muOz/N1S4Ckrsxwcpg0FweWxkpuqSi+rmUiR3NOLZeoEHNynIXpAnHmqdfG vNJO1Kq0qqux0o3FdiaJ7B3x1TCksmQw6yNldTogy/3N+/roBfgPVNCRpj2DDe7gGbRKakN6nug wNpow8f4NqD//vTzmc6xfI7u5LYJPJK4= X-Google-Smtp-Source: AGHT+IE3L7dq3fSMX0bNXXfk1H4EPHuYT8R/6wVHvdutwIzH7TABNuuRzhxrc6ddLMq5Z/9c5+Rb02mGBaBQ X-Received: by 2002:a05:6e02:4602:b0:430:b32d:c1a1 with SMTP id e9e14a558f8ab-432f8f87244mr10799635ab.7.1761687319657; Tue, 28 Oct 2025 14:35:19 -0700 (PDT) Received: from postal.iol.unh.edu (postal.iol.unh.edu. [132.177.123.84]) by smtp-relay.gmail.com with ESMTPS id e9e14a558f8ab-431f67f8e79sm10911475ab.11.2025.10.28.14.35.19 (version=TLS1_2 cipher=ECDHE-ECDSA-AES128-GCM-SHA256 bits=128/128); Tue, 28 Oct 2025 14:35:19 -0700 (PDT) X-Relaying-Domain: iol.unh.edu Date: Tue, 28 Oct 2025 14:35:19 -0700 (PDT) Message-ID: <69013717.050a0220.3cff42.3160SMTPIN_ADDED_MISSING@mx.google.com> Received: from [172.21.0.2] (unknown [172.18.0.240]) by postal.iol.unh.edu (Postfix) with ESMTP id 37D756051830; Tue, 28 Oct 2025 17:35:19 -0400 (EDT) Subject: |SUCCESS| pw158189 [PATCH] doc: fix doxygen errors with v1.15.0 From: dpdklab@iol.unh.edu To: Test Report Cc: dpdk-test-reports@iol.unh.edu In-Reply-To: <20251028141159.177727-1-jerinj@marvell.com> References: <20251028141159.177727-1-jerinj@marvell.com> Content-Type: text/plain X-BeenThere: test-report@dpdk.org X-Mailman-Version: 2.1.29 Precedence: list List-Id: automatic DPDK test reports List-Unsubscribe: , List-Archive: List-Post: List-Help: List-Subscribe: , Errors-To: test-report-bounces@dpdk.org Test-Label: iol-unit-amd64-testing Test-Status: SUCCESS http://dpdk.org/patch/158189 _Testing PASS_ Submitter: Jerin Jacob Date: Tuesday, October 28 2025 14:11:59 DPDK git baseline: Repo:dpdk Branch: master CommitID:39b54f2dcf44ad1f91eabc7080cd5dea763607fd 158189 --> testing pass Upstream job id: Generic-VM-Unit-Test-DPDK#32128 Test environment and result as below: +-------------------------------+----------------+ | Environment | dpdk_unit_test | +===============================+================+ | CentOS Stream 9 | PASS | +-------------------------------+----------------+ | CentOS Stream 10 | PASS | +-------------------------------+----------------+ | Debian GNU/Linux 12 | PASS | +-------------------------------+----------------+ | Fedora Linux 41 | PASS | +-------------------------------+----------------+ | Fedora Linux 40 | PASS | +-------------------------------+----------------+ | Red Hat Enterprise Linux 8.10 | PASS | +-------------------------------+----------------+ | Red Hat Enterprise Linux 9.5 | PASS | +-------------------------------+----------------+ | Ubuntu 22.04 | PASS | +-------------------------------+----------------+ | Fedora Linux 42 | PASS | +-------------------------------+----------------+ | Ubuntu 20.04 | PASS | +-------------------------------+----------------+ | Ubuntu 24.04 | PASS | +-------------------------------+----------------+ | Windows Server 2022 | PASS | +-------------------------------+----------------+ CentOS Stream 9 Kernel: 5.15 Compiler: gcc gcc (GCC) 11.5.0 20240719 (Red Hat 11.5.0-11) CentOS Stream 10 Kernel: 5.15 Compiler: gcc gcc (GCC) 14.2.1 20250110 (Red Hat 14.2.1-8) Debian GNU/Linux 12 Kernel: 5.15 Compiler: gcc gcc (Debian 12.2.0-14+deb12u1) 12.2.0 Fedora Linux 41 Kernel: 5.15 Compiler: gcc gcc (GCC) 14.3.1 20250523 (Red Hat 14.3.1-1) Fedora Linux 40 Kernel: 5.15 Compiler: clang gcc (GCC) 14.2.1 20240912 (Red Hat 14.2.1-3) Red Hat Enterprise Linux 8.10 Kernel: 5.15 Compiler: gcc gcc (GCC) 8.5.0 20210514 (Red Hat 8.5.0-22) Red Hat Enterprise Linux 9.5 Kernel: 5.15 Compiler: gcc gcc (GCC) 11.5.0 20240719 (Red Hat 11.5.0-2) Ubuntu 22.04 Kernel: 5.15 Compiler: gcc gcc (Ubuntu 11.4.0-1ubuntu1~22.04) 11.4.0 Fedora Linux 42 Kernel: 5.15 Compiler: clang gcc (GCC) 15.2.1 20250808 (Red Hat 15.2.1-1) Ubuntu 20.04 Kernel: 5.15 Compiler: gcc gcc (Ubuntu 9.4.0-1ubuntu1~20.04.2) 9.4.0 Ubuntu 24.04 Kernel: 5.15 Compiler: gcc gcc (Ubuntu 13.3.0-6ubuntu2~24.04) 13.3.0 Windows Server 2022 Kernel: 10.0.20348.2031 Compiler: clang 15.0.7, gcc 14.1.0 (MinGW), and MSVC VS 19.39.33521 To view detailed results, visit: https://lab.dpdk.org/results/dashboard/patchsets/34403/ UNH-IOL DPDK Community Lab To manage your email subscriptions, visit: https://lab.dpdk.org/results/dashboard/preferences/subscriptions/