From mboxrd@z Thu Jan 1 00:00:00 1970 Return-Path: Received: from mails.dpdk.org (mails.dpdk.org [217.70.189.124]) by inbox.dpdk.org (Postfix) with ESMTP id 2979B48A08 for ; Tue, 28 Oct 2025 22:48:24 +0100 (CET) Received: from mails.dpdk.org (localhost [127.0.0.1]) by mails.dpdk.org (Postfix) with ESMTP id 2503240262; Tue, 28 Oct 2025 22:48:24 +0100 (CET) Received: from mail-il1-f225.google.com (mail-il1-f225.google.com [209.85.166.225]) by mails.dpdk.org (Postfix) with ESMTP id BACB240262 for ; Tue, 28 Oct 2025 22:48:22 +0100 (CET) Received: by mail-il1-f225.google.com with SMTP id e9e14a558f8ab-430d098121cso28660065ab.0 for ; Tue, 28 Oct 2025 14:48:22 -0700 (PDT) DKIM-Signature: v=1; a=rsa-sha256; c=relaxed/relaxed; d=iol.unh.edu; s=unh-iol; t=1761688102; x=1762292902; darn=dpdk.org; h=references:in-reply-to:cc:to:from:subject:message-id:date:from:to :cc:subject:date:message-id:reply-to; bh=AhBsUH60QMp4TK1D9TiETez3elM8+7WiVbDU3B+RM+k=; b=TdJ/HCAeD6T1wlu15nA6EyBNr+d5IiQWZqiCXz7E//0pWmLSNcvq3n+HHYN+KqNAsX MjPeh6c1AEff59aCABqvyxyFO9zWrQGhPS5XDUPXb+OyDXN9PV8k4lBSVTRud2h/V/Go 93hyID+R67NCI/Uk5z7vRNviZcRSzCv4R5P+M= X-Google-DKIM-Signature: v=1; a=rsa-sha256; c=relaxed/relaxed; d=1e100.net; s=20230601; t=1761688102; x=1762292902; h=references:in-reply-to:cc:to:from:subject:message-id:date :x-gm-message-state:from:to:cc:subject:date:message-id:reply-to; bh=AhBsUH60QMp4TK1D9TiETez3elM8+7WiVbDU3B+RM+k=; b=ajHeEC4su9whci5bGBDO1bO3I2oBmFX9sQDqtoJqsnGi92ihskbENSfuRIIzjjL/zU KSuIiwU3+AfnMLC/eyLwlfKgz2hYIy0TTmxUSag74vdQKYGsEsTXxXlcZB1k69GcgdwE ZmTXMWOFTKHwY4EnbdheBgtuEPee4g9i3ad02JzkxHVCnX7wI2/ZkQcw6ex110Mqwt8k Ks7aPkAgUOUDqkXT018bdHoINl49KV1z3/fLFdFrT8Y3a8TabW5ux5hePa0tX2AE4Qny 7lHDHJ5dAYjG9jNLP3C9VeB3tkkxsY4usjI1H49WPcQJ+ZnJ+AIk0dmfCoBLuX22yFrr eQuA== X-Gm-Message-State: AOJu0Yw9ETKTpBblocCMppnjhqg/woAFu33MiZ82z+Hpt5UINlUCnO26 qIF/y6q0LiUwjW62Q5SBJ91fxhm9BBzG2+iUz5faH/yKPI2s3qNQhVbmaPSLroLv7lHiXCZEB7D Naec1tULcpo4H0+r4OHjmePTgcB9ZF81XUvQtJnQi9zYX X-Gm-Gg: ASbGnct2NJyGHYm1exjgnml0P+n79zUuQ3+NkXTJ4FfLs6kac66EA3pnFdeaSgNEhXK ZxiwhD17RBY9B3jbcNds95YUdYqz7taMnq+Nz0m4cYcNlEq9H1wLrVGSmapla12whbhDOWVueaA or84C2G9CvkDuY4hwdJpeGbdsnnmB/xvHavvYVlumvmeZTfQw7dswc38SjH76pCl00E7Gad1sCe A1+lUk6ZDmp4hnUkS4gB83Cly2HYgCM8znPYYfiQopvmO5xITECLxsQ+vubyk4gE/G2MOd7qLtD fe2HnyzSNty/tFOTeVoINQ7ZccpqwlIlmIailK9NxopsdqabhHtELYjm2JU9+/WTZsGBIBOIUFw CSwdk2vemjY7ooWJWAU1tspGp7GlOL6I= X-Google-Smtp-Source: AGHT+IEIZJtkoFVf4mlafIy6Dv1II3NLnQWUpZRPjdoxAfbzjDaNJSHDDE8Bl+B3di3Z5E+N3gq/S+XlZyCk X-Received: by 2002:a05:6e02:1f08:b0:430:ae26:7c37 with SMTP id e9e14a558f8ab-432f8f870a5mr13547455ab.3.1761688101770; Tue, 28 Oct 2025 14:48:21 -0700 (PDT) Received: from postal.iol.unh.edu (postal.iol.unh.edu. [132.177.123.84]) by smtp-relay.gmail.com with ESMTPS id 8926c6da1cb9f-5aea7be30eesm909570173.9.2025.10.28.14.48.21 (version=TLS1_2 cipher=ECDHE-ECDSA-AES128-GCM-SHA256 bits=128/128); Tue, 28 Oct 2025 14:48:21 -0700 (PDT) X-Relaying-Domain: iol.unh.edu Date: Tue, 28 Oct 2025 14:48:21 -0700 (PDT) Message-ID: <69013a25.050a0220.2f2444.abd7SMTPIN_ADDED_MISSING@mx.google.com> Received: from [172.21.0.3] (unknown [172.18.0.240]) by postal.iol.unh.edu (Postfix) with ESMTP id 7098E6051830; Tue, 28 Oct 2025 17:48:21 -0400 (EDT) Subject: |SUCCESS| pw158193 [PATCH] trace: fix build with clang 21 From: dpdklab@iol.unh.edu To: Test Report Cc: dpdk-test-reports@iol.unh.edu In-Reply-To: <20251028143952.4160487-1-david.marchand@redhat.com> References: <20251028143952.4160487-1-david.marchand@redhat.com> Content-Type: text/plain X-BeenThere: test-report@dpdk.org X-Mailman-Version: 2.1.29 Precedence: list List-Id: automatic DPDK test reports List-Unsubscribe: , List-Archive: List-Post: List-Help: List-Subscribe: , Errors-To: test-report-bounces@dpdk.org Test-Label: iol-unit-amd64-testing Test-Status: SUCCESS http://dpdk.org/patch/158193 _Testing PASS_ Submitter: David Marchand Date: Tuesday, October 28 2025 14:39:52 DPDK git baseline: Repo:dpdk Branch: master CommitID:39b54f2dcf44ad1f91eabc7080cd5dea763607fd 158193 --> testing pass Upstream job id: Generic-Unit-Test-DPDK#386285 Test environment and result as below: +-------------------------------+----------------+ | Environment | dpdk_unit_test | +===============================+================+ | CentOS Stream 10 | PASS | +-------------------------------+----------------+ | CentOS Stream 9 | PASS | +-------------------------------+----------------+ | Debian GNU/Linux 12 | PASS | +-------------------------------+----------------+ | Fedora Linux 41 | PASS | +-------------------------------+----------------+ | Fedora Linux 40 | PASS | +-------------------------------+----------------+ | Red Hat Enterprise Linux 8.10 | PASS | +-------------------------------+----------------+ | Fedora Linux 42 | PASS | +-------------------------------+----------------+ | Ubuntu 20.04 | PASS | +-------------------------------+----------------+ | Red Hat Enterprise Linux 9.5 | PASS | +-------------------------------+----------------+ | Ubuntu 22.04 | PASS | +-------------------------------+----------------+ | Ubuntu 24.04 | PASS | +-------------------------------+----------------+ CentOS Stream 10 Kernel: 5.15 Compiler: gcc gcc (GCC) 14.2.1 20250110 (Red Hat 14.2.1-8) CentOS Stream 9 Kernel: 5.15 Compiler: gcc gcc (GCC) 11.5.0 20240719 (Red Hat 11.5.0-11) Debian GNU/Linux 12 Kernel: 5.15 Compiler: gcc gcc (Debian 12.2.0-14+deb12u1) 12.2.0 Fedora Linux 41 Kernel: 5.15 Compiler: gcc gcc (GCC) 14.3.1 20250523 (Red Hat 14.3.1-1) Fedora Linux 40 Kernel: 5.15 Compiler: gcc gcc (GCC) 14.2.1 20240912 (Red Hat 14.2.1-3) Red Hat Enterprise Linux 8.10 Kernel: 5.15 Compiler: gcc gcc (GCC) 8.5.0 20210514 (Red Hat 8.5.0-22) Fedora Linux 42 Kernel: 5.15 Compiler: clang gcc (GCC) 15.2.1 20250808 (Red Hat 15.2.1-1) Ubuntu 20.04 Kernel: 5.15 Compiler: gcc gcc (Ubuntu 9.4.0-1ubuntu1~20.04.2) 9.4.0 Red Hat Enterprise Linux 9.5 Kernel: 5.15 Compiler: gcc gcc (GCC) 11.5.0 20240719 (Red Hat 11.5.0-2) Ubuntu 22.04 Kernel: 5.15 Compiler: gcc gcc (Ubuntu 11.4.0-1ubuntu1~22.04) 11.4.0 Ubuntu 24.04 Kernel: 5.15 Compiler: gcc gcc (Ubuntu 13.3.0-6ubuntu2~24.04) 13.3.0 To view detailed results, visit: https://lab.dpdk.org/results/dashboard/patchsets/34405/ UNH-IOL DPDK Community Lab To manage your email subscriptions, visit: https://lab.dpdk.org/results/dashboard/preferences/subscriptions/