From mboxrd@z Thu Jan 1 00:00:00 1970 Return-Path: Received: from mails.dpdk.org (mails.dpdk.org [217.70.189.124]) by inbox.dpdk.org (Postfix) with ESMTP id 75B0448A08 for ; Tue, 28 Oct 2025 22:50:22 +0100 (CET) Received: from mails.dpdk.org (localhost [127.0.0.1]) by mails.dpdk.org (Postfix) with ESMTP id 5630D40262; Tue, 28 Oct 2025 22:50:22 +0100 (CET) Received: from mail-pg1-f228.google.com (mail-pg1-f228.google.com [209.85.215.228]) by mails.dpdk.org (Postfix) with ESMTP id 3626640262 for ; Tue, 28 Oct 2025 22:50:21 +0100 (CET) Received: by mail-pg1-f228.google.com with SMTP id 41be03b00d2f7-b553412a19bso4245533a12.1 for ; Tue, 28 Oct 2025 14:50:21 -0700 (PDT) DKIM-Signature: v=1; a=rsa-sha256; c=relaxed/relaxed; d=iol.unh.edu; s=unh-iol; t=1761688220; x=1762293020; darn=dpdk.org; h=references:in-reply-to:cc:to:from:subject:message-id:date:from:to :cc:subject:date:message-id:reply-to; bh=mk/nsS8IPmqAb7uUS34D0b4UgMRW5dlPkMOJwQUCqeo=; b=Tdl0pJB1FG4ry8q78BFz76EsyN4c9uPgmljqaH1DSeecNdgaEPDLkC5Yuxaqln5ZDW +D5ilttLWjki2kcTi7qIp90NSsjcgw7cyDeZHzR00FKxs/C/KXMEEEOccJxNEL75PGMx J3FFDgVD7JGdNwxvU46rMrrUhEYFSZkDBpzWM= X-Google-DKIM-Signature: v=1; a=rsa-sha256; c=relaxed/relaxed; d=1e100.net; s=20230601; t=1761688220; x=1762293020; h=references:in-reply-to:cc:to:from:subject:message-id:date :x-gm-message-state:from:to:cc:subject:date:message-id:reply-to; bh=mk/nsS8IPmqAb7uUS34D0b4UgMRW5dlPkMOJwQUCqeo=; b=iXW67ZslcZzRFJmBLtPu88bsBZlvnuUH3i2A27hrhKvktib9Y8WMAMmjT71ZPM3Ngw jSObkO3X2wbkjpzQiNuckOhAecvS/6oYLmg6njfH5gcFsOCaiso7toDt4wUOvt7IDV2H IcLX/vebKysWBzCIDoM5p+qbD2boctly4xVDWd3QzhgbbBJInWvBUd00yJ9xq/ZHtgNQ 36atXEYh0TYd0d7OI8xnuXGlO8ccIgcvwTixZSh//YwTrhncxvU110wSAMbtyKG0Yp76 v1rtqemKPMbRg/fNVJ9+AuaMCz7+WGZrRvj45iJN75ELG7agi8eJhlXxvMXtqjBbT04q WyPQ== X-Gm-Message-State: AOJu0Yy3kedTBesJiLp8f9slvt+M+6EneUg1RIX4K3SwWNm43tqOSTJD vwYt4Ztmn3lYAPgRRZPw0gJEO9J0zZQlmDD/UOyMoceNiYt3D2VIJiGHFO83dP/RhLMXajCfhrn V/HCwj2Zy4eK34m4AYxTVHCwyje+YiaTM3wqJ5OASLBLf X-Gm-Gg: ASbGnctbwN/V55k/d14s04cV9Rd6xJhO7cvxc+kD0tngJc3OSzmOXNp+dy0q2yTz+Ew D2DzXoFfz2QDnFxvfjEqil9xLxtIZ5vSeubvoij5RbN9ZynK2rcVmlobFQbPigud0Ozovms/yBI /R2olk/MPzb5x2R+wBbGWvmf0aIRM+ga93yrbx9nq4e+9GvdCPzUcrj1q18eWFszHHMmSAxp/GZ Bf23WkxZwUjwKbhvHdOiwxhS6whxw+Zsp7B8413a8AqhYmpf9ETXDydMI2cwsIE1zD2o8u8CCTX 7Z8I6g83HyyEIJCiR3DcQ//wRuF0eHuX2JUPXbrQsQdQguvZXavNaQ3T+C/amaK/6TlEnsJZ0ua K4WkYIrWrc26C7AekAec1hsMfhxwyvOo= X-Google-Smtp-Source: AGHT+IEUyJH16uzcKUO+cw1qJGlG/bk0LXvDrtZyaVAke/PUwnUT36AzaDqhJJbtoAmKAAlzEM/hYplOl4yA X-Received: by 2002:a17:902:dac1:b0:26d:e984:8157 with SMTP id d9443c01a7336-294dedf3fc2mr5790425ad.8.1761688220019; Tue, 28 Oct 2025 14:50:20 -0700 (PDT) Received: from postal.iol.unh.edu (postal.iol.unh.edu. [132.177.123.84]) by smtp-relay.gmail.com with ESMTPS id d9443c01a7336-29498d42a14sm11703445ad.48.2025.10.28.14.50.19 (version=TLS1_2 cipher=ECDHE-ECDSA-AES128-GCM-SHA256 bits=128/128); Tue, 28 Oct 2025 14:50:20 -0700 (PDT) X-Relaying-Domain: iol.unh.edu Date: Tue, 28 Oct 2025 14:50:20 -0700 (PDT) Message-ID: <69013a9c.170a0220.35e0fa.799fSMTPIN_ADDED_MISSING@mx.google.com> Received: from [172.21.0.2] (unknown [172.18.0.240]) by postal.iol.unh.edu (Postfix) with ESMTP id 6E0766051830; Tue, 28 Oct 2025 17:50:19 -0400 (EDT) Subject: |WARNING| pw158205-158204 [PATCH] [v1,3/3] app/test: fix issues with From: dpdklab@iol.unh.edu To: Test Report Cc: dpdk-test-reports@iol.unh.edu In-Reply-To: <20251028172324.3149379-3-jerinj@marvell.com> References: <20251028172324.3149379-3-jerinj@marvell.com> Content-Type: text/plain X-BeenThere: test-report@dpdk.org X-Mailman-Version: 2.1.29 Precedence: list List-Id: automatic DPDK test reports List-Unsubscribe: , List-Archive: List-Post: List-Help: List-Subscribe: , Errors-To: test-report-bounces@dpdk.org Test-Label: iol-compile-amd64-testing Test-Status: WARNING http://dpdk.org/patch/158204 _Testing issues_ Submitter: Jerin Jacob Date: Tuesday, October 28 2025 17:23:23 DPDK git baseline: Repo:dpdk Branch: master CommitID:39b54f2dcf44ad1f91eabc7080cd5dea763607fd 158205-158204 --> testing issues Upstream job id: Windows-Compile-DPDK-VS#7352 Test environment and result as below: +---------------------+--------------------+-------------------+-------------------+ | Environment | dpdk_meson_compile | dpdk_compile_spdk | dpdk_msvc_compile | +=====================+====================+===================+===================+ | Ubuntu 20.04 | PASS | SKIPPED | SKIPPED | +---------------------+--------------------+-------------------+-------------------+ | FreeBSD 14.2 | PASS | SKIPPED | SKIPPED | +---------------------+--------------------+-------------------+-------------------+ | CentOS Stream 9 | PASS | WARN | SKIPPED | +---------------------+--------------------+-------------------+-------------------+ | Windows Server 2022 | SKIPPED | SKIPPED | PASS | +---------------------+--------------------+-------------------+-------------------+ ==== 20 line log output for CentOS Stream 9 (dpdk_compile_spdk): ==== --- Failed to get log output --- ==== End log output ==== Ubuntu 20.04 Kernel: 4.19 Compiler: gcc gcc (Ubuntu 9.4.0-1ubuntu1~20.04.2) 9.4.0 FreeBSD 14.2 Kernel: 14.2-RELEASE Compiler: clang 18.1.6 CentOS Stream 9 Kernel: 5.15 Compiler: gcc gcc (GCC) 11.5.0 20240719 (Red Hat 11.5.0-11) Windows Server 2022 Kernel: 10.0.20348.2031 Compiler: clang 15.0.7, gcc 14.1.0 (MinGW), and MSVC VS 19.39.33521 To view detailed results, visit: https://lab.dpdk.org/results/dashboard/patchsets/34408/ UNH-IOL DPDK Community Lab To manage your email subscriptions, visit: https://lab.dpdk.org/results/dashboard/preferences/subscriptions/