From mboxrd@z Thu Jan 1 00:00:00 1970 Return-Path: Received: from mails.dpdk.org (mails.dpdk.org [217.70.189.124]) by inbox.dpdk.org (Postfix) with ESMTP id C4D9948A08 for ; Tue, 28 Oct 2025 22:52:50 +0100 (CET) Received: from mails.dpdk.org (localhost [127.0.0.1]) by mails.dpdk.org (Postfix) with ESMTP id 9B96A40262; Tue, 28 Oct 2025 22:52:50 +0100 (CET) Received: from mail-pl1-f228.google.com (mail-pl1-f228.google.com [209.85.214.228]) by mails.dpdk.org (Postfix) with ESMTP id 8151E40262 for ; Tue, 28 Oct 2025 22:52:49 +0100 (CET) Received: by mail-pl1-f228.google.com with SMTP id d9443c01a7336-29488933a91so64314905ad.2 for ; Tue, 28 Oct 2025 14:52:49 -0700 (PDT) DKIM-Signature: v=1; a=rsa-sha256; c=relaxed/relaxed; d=iol.unh.edu; s=unh-iol; t=1761688368; x=1762293168; darn=dpdk.org; h=references:in-reply-to:cc:to:from:subject:message-id:date:from:to :cc:subject:date:message-id:reply-to; bh=1+mwbyIsslqUHOmJYu0of+9s6iRZl3Ej9MBo4z9tpIk=; b=TfDl3U9GSCWg7hEYRcOYgaMT8kkWq8rmmq9xkZcSwIa56d0lw7tXTNU7ATLoynca1r K5prMS7SdSfSvpUTrdWS7YVPswh6vlwCDTXdiBX7uGVvGZHYVwGmeQSPBXoTB/oLShxV 5D1og/W0o7Rk7B6MQ5DFUiCIaU4fHDC/s/pOs= X-Google-DKIM-Signature: v=1; a=rsa-sha256; c=relaxed/relaxed; d=1e100.net; s=20230601; t=1761688368; x=1762293168; h=references:in-reply-to:cc:to:from:subject:message-id:date :x-gm-message-state:from:to:cc:subject:date:message-id:reply-to; bh=1+mwbyIsslqUHOmJYu0of+9s6iRZl3Ej9MBo4z9tpIk=; b=JVb1ZcLKo8IQ/4F94bVwo3D5B6l/MHVdOeZd7Uhfqox4bZ8lUESTAS/ftM0z9x09gS ZR0TY+FBtiEvKHq5bPpSwIRsP6y6G9igqJ1hvutBwdGSNboGxK6cdAbLg6r+X156gLK8 9npOk+lgO1L3pnWoMgxH/mMF2ITc+EpOdGnVvT+O2Sqz5hwX9t/kpOd16aS1AHwUPct7 K+5Xx+4sEQ77/pK907iu0neCYgTak3X2Eh1U8yYudr8MAl5QLGz98IkH10SrMRKZXc+W nOIckgbtcFgDBXLxHyVDKoM5aK71+IHI1upyR6qKC9Bk6mfjSIQKfQ2yXNvXWGstzJjk OLVA== X-Gm-Message-State: AOJu0YwG3GzglDu0GVmal6/heZw30u4PeTzUT3x2VHzeeUNtssFOFtMU 1kE4+AlaQr2c9kmdWjZH9yb/G2GiiGyNb25mERro5m/qO2QkCO1OFupBq4ulv7k2qxG2jbWgn3k nX+HWYmXewbr+xobQXdzo7j9ISTZHoUNyB0L0zMXVwoH2 X-Gm-Gg: ASbGncs3P7dywVEm4+BAWaamfpXiNcg5hB/k5GqgwaqEDUGH/VLmfkj8k7DSjXzWBag hruJFGx452D4oMv06sZHVw4D36KYnpEvzY3aAck4X3RaPTltkG275xwD173tY5CJaonkssxbn4Y CRlbRrfGOJoQFjWZCXJ4GIFh43MI9v0912303SdmoQJEIa8RDgnJ4wHKTqPTxGkLHZr3+5YenNr NOFcVaTvBUTNBrjY9U1YcOJyZ1bgk8Nt79m8MByktm5CZjA3sKbanWS/OO2R3Bp3vcI7hyn9PV1 NyXXPrAxWgl/xKpRq6PAiUPp7YZDHtXZFSsFItGPs+0c7RWRhGBoxjF2uZwxd/RuWJ67eXTjvm3 2/OKzCL01Jyl7RPPN/aU6pu3wlKH8J9M= X-Google-Smtp-Source: AGHT+IFnu4MngIQIJWcPXAK/EUb5KSROaAJ0yPSTd4UKH5+XSgeafG06IgA36fyjH7fB2704dzMrNbdBxJVw X-Received: by 2002:a17:902:ea0f:b0:246:7a43:3f66 with SMTP id d9443c01a7336-294dedd214fmr7724725ad.7.1761688368528; Tue, 28 Oct 2025 14:52:48 -0700 (PDT) Received: from postal.iol.unh.edu (postal.iol.unh.edu. [132.177.123.84]) by smtp-relay.gmail.com with ESMTPS id d9443c01a7336-29498d0c222sm11474495ad.24.2025.10.28.14.52.48 (version=TLS1_2 cipher=ECDHE-ECDSA-AES128-GCM-SHA256 bits=128/128); Tue, 28 Oct 2025 14:52:48 -0700 (PDT) X-Relaying-Domain: iol.unh.edu Date: Tue, 28 Oct 2025 14:52:48 -0700 (PDT) Message-ID: <69013b30.170a0220.3cc9c6.50e1SMTPIN_ADDED_MISSING@mx.google.com> Received: from [172.21.0.2] (unknown [172.18.0.240]) by postal.iol.unh.edu (Postfix) with ESMTP id 9E1A26051830; Tue, 28 Oct 2025 17:52:47 -0400 (EDT) Subject: |WARNING| pw158184 [PATCH] [v2] graph: fix xstats description alloca From: dpdklab@iol.unh.edu To: Test Report Cc: dpdk-test-reports@iol.unh.edu In-Reply-To: <20251028110920.16353-1-cfontain@redhat.com> References: <20251028110920.16353-1-cfontain@redhat.com> Content-Type: text/plain X-BeenThere: test-report@dpdk.org X-Mailman-Version: 2.1.29 Precedence: list List-Id: automatic DPDK test reports List-Unsubscribe: , List-Archive: List-Post: List-Help: List-Subscribe: , Errors-To: test-report-bounces@dpdk.org Test-Label: iol-compile-amd64-testing Test-Status: WARNING http://dpdk.org/patch/158184 _Testing issues_ Submitter: Christophe Fontaine Date: Tuesday, October 28 2025 11:09:20 DPDK git baseline: Repo:dpdk Branch: master CommitID:39b54f2dcf44ad1f91eabc7080cd5dea763607fd 158184 --> testing issues Upstream job id: Windows-Compile-DPDK-Native#31947 Test environment and result as below: +-------------------------------+--------------------+-------------------+------------------+-------------------+-------------------------+ | Environment | dpdk_meson_compile | dpdk_compile_spdk | dpdk_compile_ovs | dpdk_msvc_compile | dpdk_llvm_clang_compile | +===============================+====================+===================+==================+===================+=========================+ | Ubuntu 20.04 | PASS | SKIPPED | SKIPPED | SKIPPED | SKIPPED | +-------------------------------+--------------------+-------------------+------------------+-------------------+-------------------------+ | FreeBSD 14.2 | PASS | SKIPPED | SKIPPED | SKIPPED | SKIPPED | +-------------------------------+--------------------+-------------------+------------------+-------------------+-------------------------+ | CentOS Stream 9 | PASS | WARN | SKIPPED | SKIPPED | SKIPPED | +-------------------------------+--------------------+-------------------+------------------+-------------------+-------------------------+ | CentOS Stream 10 | PASS | SKIPPED | SKIPPED | SKIPPED | SKIPPED | +-------------------------------+--------------------+-------------------+------------------+-------------------+-------------------------+ | Debian GNU/Linux 12 | PASS | WARN | SKIPPED | SKIPPED | SKIPPED | +-------------------------------+--------------------+-------------------+------------------+-------------------+-------------------------+ | Fedora Linux 42 | PASS | WARN | PASS | SKIPPED | SKIPPED | +-------------------------------+--------------------+-------------------+------------------+-------------------+-------------------------+ | openSUSE Leap 15.6 | PASS | SKIPPED | SKIPPED | SKIPPED | SKIPPED | +-------------------------------+--------------------+-------------------+------------------+-------------------+-------------------------+ | Red Hat Enterprise Linux 8.10 | PASS | SKIPPED | SKIPPED | SKIPPED | SKIPPED | +-------------------------------+--------------------+-------------------+------------------+-------------------+-------------------------+ | Red Hat Enterprise Linux 9.5 | PASS | SKIPPED | SKIPPED | SKIPPED | SKIPPED | +-------------------------------+--------------------+-------------------+------------------+-------------------+-------------------------+ | Ubuntu 22.04 | PASS | WARN | SKIPPED | SKIPPED | SKIPPED | +-------------------------------+--------------------+-------------------+------------------+-------------------+-------------------------+ | Ubuntu 24.04 | PASS | WARN | PASS | SKIPPED | SKIPPED | +-------------------------------+--------------------+-------------------+------------------+-------------------+-------------------------+ | Alpine Linux 3.22.0 | PASS | SKIPPED | SKIPPED | SKIPPED | SKIPPED | +-------------------------------+--------------------+-------------------+------------------+-------------------+-------------------------+ | Windows Server 2022 | SKIPPED | SKIPPED | SKIPPED | PASS | PASS | +-------------------------------+--------------------+-------------------+------------------+-------------------+-------------------------+ ==== 20 line log output for Ubuntu 24.04 (dpdk_compile_spdk): ==== --- Failed to get log output --- ==== End log output ==== Ubuntu 20.04 Kernel: 4.19 Compiler: gcc gcc (Ubuntu 9.4.0-1ubuntu1~20.04.2) 9.4.0 FreeBSD 14.2 Kernel: 14.2-RELEASE Compiler: clang 18.1.6 CentOS Stream 9 Kernel: 5.15 Compiler: gcc gcc (GCC) 11.5.0 20240719 (Red Hat 11.5.0-11) CentOS Stream 10 Kernel: 5.15 Compiler: gcc gcc (GCC) 14.2.1 20250110 (Red Hat 14.2.1-8) Debian GNU/Linux 12 Kernel: 5.15 Compiler: gcc gcc (Debian 12.2.0-14+deb12u1) 12.2.0 Fedora Linux 42 Kernel: 5.15 Compiler: clang gcc (GCC) 15.2.1 20250808 (Red Hat 15.2.1-1) openSUSE Leap 15.6 Kernel: 5.15 Compiler: gcc gcc (SUSE Linux) 7.5.0 Red Hat Enterprise Linux 8.10 Kernel: 5.15 Compiler: gcc gcc (GCC) 8.5.0 20210514 (Red Hat 8.5.0-22) Red Hat Enterprise Linux 9.5 Kernel: 5.15 Compiler: gcc gcc (GCC) 11.5.0 20240719 (Red Hat 11.5.0-2) Ubuntu 22.04 Kernel: 5.15 Compiler: gcc gcc (Ubuntu 11.4.0-1ubuntu1~22.04) 11.4.0 Ubuntu 24.04 Kernel: 5.15 Compiler: gcc gcc (Ubuntu 13.3.0-6ubuntu2~24.04) 13.3.0 Alpine Linux 3.22.0 Kernel: 5.15 Compiler: gcc gcc (Alpine 14.2.0) 14.2.0 Windows Server 2022 Kernel: 10.0.20348.2031 Compiler: clang 15.0.7, gcc 14.1.0 (MinGW), and MSVC VS 19.39.33521 To view detailed results, visit: https://lab.dpdk.org/results/dashboard/patchsets/34400/ UNH-IOL DPDK Community Lab To manage your email subscriptions, visit: https://lab.dpdk.org/results/dashboard/preferences/subscriptions/