From mboxrd@z Thu Jan 1 00:00:00 1970 Return-Path: Received: from mails.dpdk.org (mails.dpdk.org [217.70.189.124]) by inbox.dpdk.org (Postfix) with ESMTP id 077B248A08 for ; Tue, 28 Oct 2025 22:55:31 +0100 (CET) Received: from mails.dpdk.org (localhost [127.0.0.1]) by mails.dpdk.org (Postfix) with ESMTP id DD5E340262; Tue, 28 Oct 2025 22:55:30 +0100 (CET) Received: from mail-yw1-f225.google.com (mail-yw1-f225.google.com [209.85.128.225]) by mails.dpdk.org (Postfix) with ESMTP id 444FB40262 for ; Tue, 28 Oct 2025 22:55:30 +0100 (CET) Received: by mail-yw1-f225.google.com with SMTP id 00721157ae682-784826b775aso75413147b3.2 for ; Tue, 28 Oct 2025 14:55:30 -0700 (PDT) DKIM-Signature: v=1; a=rsa-sha256; c=relaxed/relaxed; d=iol.unh.edu; s=unh-iol; t=1761688529; x=1762293329; darn=dpdk.org; h=references:in-reply-to:cc:to:from:subject:message-id:date:from:to :cc:subject:date:message-id:reply-to; bh=+Cz42Vvd80NmHAC1WeANGz+F9FdTycTqDygreu+Z9zo=; b=D0nVctXELMR4A78cnqth+V/oTEcpppNmkJvW6pKoYTeQbVrW97rsI2N/eiixYLIg6Y IPi8t/cSdp9+ZKC1omtGYEN6zAGCXMvQNek56xlpOzSMtN85RNyPDdvp8MTIU6xkZ5sD TU5o5uiN+lSloeucehEMFnuYpuobZlWza9ERA= X-Google-DKIM-Signature: v=1; a=rsa-sha256; c=relaxed/relaxed; d=1e100.net; s=20230601; t=1761688529; x=1762293329; h=references:in-reply-to:cc:to:from:subject:message-id:date :x-gm-message-state:from:to:cc:subject:date:message-id:reply-to; bh=+Cz42Vvd80NmHAC1WeANGz+F9FdTycTqDygreu+Z9zo=; b=N7ghKoZ5lLd8UB00W3JQSqcfQRrMuZcx+ae2CdprBaKFVH8c5jYfMdDx+LqDnCJ3Zl 286eBGOm3FWbfb3960nV12MTfGWJBZ+anwLzXhqms8h/gSULQ6vET2QT9+ax8EJv2IM5 0ElWg/R5H68bwI0obTwz0q9aOc0FvhZkodsKhayaaJMsuaytrhxIyN4Bvff9EMw22GcG XvsnX34fmTbUbIKQPl3KykXXxFbi2El+O6MOVihvbFPSGjUOtMyiR94Zx4dpQZv1eelo UoZUbDFxjHwv8ddZaUuYnJXIbIgCku3G1Do0urOeOGSt+NoDXmg+0chvMePVbpNNEn0b 7Vxw== X-Gm-Message-State: AOJu0Yx/brWZ+yrAk6miJRVPNXTygeJGmTnjoCPKRbK6EKadg9fsvFeC qmdO1zO+4sS/4peA6DLUedxb/jRhsXBFzTKt3vF8fQbZpILI4u7SDtw5c5eA6cEBJdSYgvJX650 YrqZXjDCz2jggfl38KH4l8GC7BIBpv4u2UPXGrXisk3Lp X-Gm-Gg: ASbGnctN55oe9+wDEBnveiXqBGpo4yEwqZVh5fBAl3EnIDjqnLkwdQ7IYjZb+dSEVHj 2kBVG1dhMVslabf6yyGF1a/7xq9RbnFOoG/MG/o3YsXcNYJfuZix2WNuOiOHrCyUQpxC9JJ4zra XcwElo0irLoWGy1FpiYLw5eohILFqhFUGoHF98kOC8QULrqVldtJ+eKIOEafDxQ2W7c6yMGcsqX s0cU9zWXwF9tVzAwQFG0rP61pA907gk7WqvTv50w+yZYDdVC4tkuDTrd4LGcgQ+Azyq3M1z7lJU uUcAHBXhb2UdAMb+1oWG8AC9sePpyXv5/TI5Zrqemx4aSOozqkYbr8nl63+DXPg3FtI2NGwUxqq 2SkH7GL4sogO4LgJByICwjMbihg+GT0E= X-Google-Smtp-Source: AGHT+IHETUpDYs9+0kqT3ELHm+S7dlM8BJ8/mkXgk6M5NurZOPsUZnOxS/7nse8G4GSGT5NBTTNdiicXk+AZ X-Received: by 2002:a05:690c:9b12:b0:783:71ee:897f with SMTP id 00721157ae682-78628e28a9bmr9114237b3.3.1761688529552; Tue, 28 Oct 2025 14:55:29 -0700 (PDT) Received: from postal.iol.unh.edu (postal.iol.unh.edu. [132.177.123.84]) by smtp-relay.gmail.com with ESMTPS id 00721157ae682-785ed174d4esm9317257b3.9.2025.10.28.14.55.29 (version=TLS1_2 cipher=ECDHE-ECDSA-AES128-GCM-SHA256 bits=128/128); Tue, 28 Oct 2025 14:55:29 -0700 (PDT) X-Relaying-Domain: iol.unh.edu Date: Tue, 28 Oct 2025 14:55:29 -0700 (PDT) Message-ID: <69013bd1.050a0220.b1928.d248SMTPIN_ADDED_MISSING@mx.google.com> Received: from [172.21.0.2] (unknown [172.18.0.240]) by postal.iol.unh.edu (Postfix) with ESMTP id 3DD386051830; Tue, 28 Oct 2025 17:55:29 -0400 (EDT) Subject: |WARNING| pw158194-158201 [PATCH] [v1,8/8] vfio: deprecate group-bas From: dpdklab@iol.unh.edu To: Test Report Cc: dpdk-test-reports@iol.unh.edu In-Reply-To: References: Content-Type: text/plain X-BeenThere: test-report@dpdk.org X-Mailman-Version: 2.1.29 Precedence: list List-Id: automatic DPDK test reports List-Unsubscribe: , List-Archive: List-Post: List-Help: List-Subscribe: , Errors-To: test-report-bounces@dpdk.org Test-Label: iol-compile-amd64-testing Test-Status: WARNING http://dpdk.org/patch/158201 _Testing issues_ Submitter: Anatoly Burakov Date: Tuesday, October 28 2025 16:43:21 DPDK git baseline: Repo:dpdk Branch: master CommitID:39b54f2dcf44ad1f91eabc7080cd5dea763607fd 158194-158201 --> testing issues Upstream job id: Generic-DPDK-Compile-Meson#438684 Test environment and result as below: +-------------------------------+--------------------+-------------------+-------------------+------------------+ | Environment | dpdk_meson_compile | dpdk_msvc_compile | dpdk_compile_spdk | dpdk_compile_ovs | +===============================+====================+===================+===================+==================+ | Ubuntu 20.04 | PASS | SKIPPED | SKIPPED | SKIPPED | +-------------------------------+--------------------+-------------------+-------------------+------------------+ | FreeBSD 14.2 | PASS | SKIPPED | SKIPPED | SKIPPED | +-------------------------------+--------------------+-------------------+-------------------+------------------+ | CentOS Stream 9 | PASS | SKIPPED | WARN | SKIPPED | +-------------------------------+--------------------+-------------------+-------------------+------------------+ | CentOS Stream 10 | PASS | SKIPPED | SKIPPED | SKIPPED | +-------------------------------+--------------------+-------------------+-------------------+------------------+ | Fedora Linux 42 | PASS | SKIPPED | WARN | PASS | +-------------------------------+--------------------+-------------------+-------------------+------------------+ | Debian GNU/Linux 12 | PASS | SKIPPED | WARN | SKIPPED | +-------------------------------+--------------------+-------------------+-------------------+------------------+ | openSUSE Leap 15.6 | PASS | SKIPPED | SKIPPED | SKIPPED | +-------------------------------+--------------------+-------------------+-------------------+------------------+ | Red Hat Enterprise Linux 8.10 | PASS | SKIPPED | SKIPPED | SKIPPED | +-------------------------------+--------------------+-------------------+-------------------+------------------+ | Red Hat Enterprise Linux 9.5 | PASS | SKIPPED | SKIPPED | SKIPPED | +-------------------------------+--------------------+-------------------+-------------------+------------------+ | Ubuntu 22.04 | PASS | SKIPPED | WARN | SKIPPED | +-------------------------------+--------------------+-------------------+-------------------+------------------+ | Ubuntu 24.04 | PASS | SKIPPED | WARN | PASS | +-------------------------------+--------------------+-------------------+-------------------+------------------+ | Alpine Linux 3.22.0 | PASS | SKIPPED | SKIPPED | SKIPPED | +-------------------------------+--------------------+-------------------+-------------------+------------------+ | Windows Server 2022 | SKIPPED | PASS | SKIPPED | SKIPPED | +-------------------------------+--------------------+-------------------+-------------------+------------------+ ==== 20 line log output for Ubuntu 24.04 (dpdk_compile_spdk): ==== --- Failed to get log output --- ==== End log output ==== Ubuntu 20.04 Kernel: 4.19 Compiler: gcc gcc (Ubuntu 9.4.0-1ubuntu1~20.04.2) 9.4.0 FreeBSD 14.2 Kernel: 14.2-RELEASE Compiler: clang 18.1.6 CentOS Stream 9 Kernel: 5.15 Compiler: gcc gcc (GCC) 11.5.0 20240719 (Red Hat 11.5.0-11) CentOS Stream 10 Kernel: 5.15 Compiler: gcc gcc (GCC) 14.2.1 20250110 (Red Hat 14.2.1-8) Fedora Linux 42 Kernel: 5.15 Compiler: clang gcc (GCC) 15.2.1 20250808 (Red Hat 15.2.1-1) Debian GNU/Linux 12 Kernel: 5.15 Compiler: gcc gcc (Debian 12.2.0-14+deb12u1) 12.2.0 openSUSE Leap 15.6 Kernel: 5.15 Compiler: gcc gcc (SUSE Linux) 7.5.0 Red Hat Enterprise Linux 8.10 Kernel: 5.15 Compiler: gcc gcc (GCC) 8.5.0 20210514 (Red Hat 8.5.0-22) Red Hat Enterprise Linux 9.5 Kernel: 5.15 Compiler: gcc gcc (GCC) 11.5.0 20240719 (Red Hat 11.5.0-2) Ubuntu 22.04 Kernel: 5.15 Compiler: gcc gcc (Ubuntu 11.4.0-1ubuntu1~22.04) 11.4.0 Ubuntu 24.04 Kernel: 5.15 Compiler: gcc gcc (Ubuntu 13.3.0-6ubuntu2~24.04) 13.3.0 Alpine Linux 3.22.0 Kernel: 5.15 Compiler: gcc gcc (Alpine 14.2.0) 14.2.0 Windows Server 2022 Kernel: 10.0.20348.2031 Compiler: clang 15.0.7, gcc 14.1.0 (MinGW), and MSVC VS 19.39.33521 To view detailed results, visit: https://lab.dpdk.org/results/dashboard/patchsets/34406/ UNH-IOL DPDK Community Lab To manage your email subscriptions, visit: https://lab.dpdk.org/results/dashboard/preferences/subscriptions/