From mboxrd@z Thu Jan 1 00:00:00 1970 Return-Path: Received: from mails.dpdk.org (mails.dpdk.org [217.70.189.124]) by inbox.dpdk.org (Postfix) with ESMTP id 6778B48A0A for ; Tue, 28 Oct 2025 23:00:21 +0100 (CET) Received: from mails.dpdk.org (localhost [127.0.0.1]) by mails.dpdk.org (Postfix) with ESMTP id 6349D40262; Tue, 28 Oct 2025 23:00:21 +0100 (CET) Received: from mail-ot1-f100.google.com (mail-ot1-f100.google.com [209.85.210.100]) by mails.dpdk.org (Postfix) with ESMTP id BE5A640262 for ; Tue, 28 Oct 2025 23:00:20 +0100 (CET) Received: by mail-ot1-f100.google.com with SMTP id 46e09a7af769-7c67d9577b3so760058a34.2 for ; Tue, 28 Oct 2025 15:00:20 -0700 (PDT) DKIM-Signature: v=1; a=rsa-sha256; c=relaxed/relaxed; d=iol.unh.edu; s=unh-iol; t=1761688820; x=1762293620; darn=dpdk.org; h=references:in-reply-to:cc:to:from:subject:message-id:date:from:to :cc:subject:date:message-id:reply-to; bh=x2KV57NszPj0wtTudIgYAAHfPcOPsdeLacwct7jKsGg=; b=WSoDd5GmXbcRhxTaKcpOqJxBGY56uExbwYNEgF0A4KGd2ef39L4m8+uuzs10rT/cJV I2Rs51V9Xc42mmhMly5kYf3QYFrUfCjU0PqnV/flNiVepFcVss/XmlfUCO1j4mXTiNNP Tz+z5oWjUK/Q3TfdC8ZlcADxtalclmfLSKXng= X-Google-DKIM-Signature: v=1; a=rsa-sha256; c=relaxed/relaxed; d=1e100.net; s=20230601; t=1761688820; x=1762293620; h=references:in-reply-to:cc:to:from:subject:message-id:date :x-gm-message-state:from:to:cc:subject:date:message-id:reply-to; bh=x2KV57NszPj0wtTudIgYAAHfPcOPsdeLacwct7jKsGg=; b=Oc3HRyFjUJyZaMpUcRxPv/TO9OjRod2vsgEy2wJVrq0X0ixiS7SaDN3ct0ccIFvGDf g3GAoqTfe9NpawxYXZ4YYipKtVPQuZr3Zn5PkVkEa9yBfKLSH1xTkWlJ6noTvlHzpM/k FBP+MLvoT92JBFIDsVHk4NVFWJmsV+Fj2tgsBw7xTTIS95SrGlzW+X2k5JNit/HbpZaR f5GBDi1q2CUQQJTrtL9moqPyrSwlzr0P909KJiw8+W5qOObYu3DjIRqR2G3vTlcit6Th fIf4nEg1yhDV3OcuXBBX20BiWR0xvK22amX8W9wJILt8stZk9stlmp0zOBJlT7BgDKD7 eg1g== X-Gm-Message-State: AOJu0YxNVGVt/WSS0vG7z/5ZdGNv9ApN+BCAntj3QMBh3z+j+RdLbMQB necwNaRaFbR4VGG0yA/yR9U3zwmcqp7gVEalkaofwx8Ii/rKeOWE75I5s37pWMWs97+S3i7TASB 4XZgzZbgn4l2KSkk6boq+ZyQsVrEc3dssdiQqSIoWJ6BVdwiPoTG+4J0rbda+ X-Gm-Gg: ASbGncu2+tkyPtx1/WfVXIL6eer9+39zqYMXHDXGE2OC0xxQiP254YmK2kKPX39VJUh 1BL/pdg6G8GSBdSJ+/M24CLXNytSwapMSRVN8QXSzZbMmkq580yphmgftmFMn4/wnGvjYxgwxJc v1RoRO6Xrp70Jr3GGScSk4KJDf6sE58dukmjBFfFFreFGQOBo/NB6uWbJ0qdrZ9pKiUgDS6o+F1 CsYrqAZ2TFG+l0iNOCwOSjAkCpFdJPDFDfEctRtQB3m1/ibXOg74yMQs/6BxZL6C5FO9Oww6v/T jm1PioKXVV5jaEJQYIZ9ufL/heQqYWNjuFeVIf7CS97Rr+eh90t61/le1yHInYowBt9WOfwaLE7 6fvLoZ1bQ X-Google-Smtp-Source: AGHT+IHTJLABujODbmiJjhIt4irtt/XS8uTpvePhfYdGdYH63ThwEOEaTOGnuE+7h4QeTSGY9MSk5+kcf4cd X-Received: by 2002:a05:6808:1b0c:b0:44f:6d8b:582d with SMTP id 5614622812f47-44f7a551e54mr537316b6e.61.1761688819895; Tue, 28 Oct 2025 15:00:19 -0700 (PDT) Received: from postal.iol.unh.edu (postal.iol.unh.edu. [2606:4100:3880:1234::84]) by smtp-relay.gmail.com with ESMTPS id 586e51a60fabf-3d1e280d6adsm1050255fac.6.2025.10.28.15.00.19 (version=TLS1_2 cipher=ECDHE-ECDSA-AES128-GCM-SHA256 bits=128/128); Tue, 28 Oct 2025 15:00:19 -0700 (PDT) X-Relaying-Domain: iol.unh.edu Date: Tue, 28 Oct 2025 15:00:19 -0700 (PDT) Message-ID: <69013cf3.050a0220.168c67.0fb1SMTPIN_ADDED_MISSING@mx.google.com> Received: from [172.21.0.3] (unknown [172.18.0.240]) by postal.iol.unh.edu (Postfix) with ESMTP id 8C2796051830; Tue, 28 Oct 2025 18:00:19 -0400 (EDT) Subject: |SUCCESS| pw158190-158192 [PATCH] [v10,3/3] doc: note on unsupported From: dpdklab@iol.unh.edu To: Test Report Cc: dpdk-test-reports@iol.unh.edu, Bruce Richardson In-Reply-To: <20251028142202.137392-4-shaiq.wani@intel.com> References: <20251028142202.137392-4-shaiq.wani@intel.com> Content-Type: text/plain X-BeenThere: test-report@dpdk.org X-Mailman-Version: 2.1.29 Precedence: list List-Id: automatic DPDK test reports List-Unsubscribe: , List-Archive: List-Post: List-Help: List-Subscribe: , Errors-To: test-report-bounces@dpdk.org Test-Label: iol-unit-amd64-testing Test-Status: SUCCESS http://dpdk.org/patch/158192 _Testing PASS_ Submitter: Shaiq Wani Date: Tuesday, October 28 2025 14:22:02 DPDK git baseline: Repo:dpdk-next-net-intel Branch: master CommitID:6b997d6b9ffdbb4f8ecd14d1f217da69cdc783af 158190-158192 --> testing pass Upstream job id: Generic-VM-Unit-Test-DPDK#32129 Test environment and result as below: +-------------------------------+----------------+ | Environment | dpdk_unit_test | +===============================+================+ | CentOS Stream 9 | PASS | +-------------------------------+----------------+ | CentOS Stream 10 | PASS | +-------------------------------+----------------+ | Debian GNU/Linux 12 | PASS | +-------------------------------+----------------+ | Fedora Linux 40 | PASS | +-------------------------------+----------------+ | Fedora Linux 41 | PASS | +-------------------------------+----------------+ | Fedora Linux 42 | PASS | +-------------------------------+----------------+ | Red Hat Enterprise Linux 8.10 | PASS | +-------------------------------+----------------+ | Ubuntu 20.04 | PASS | +-------------------------------+----------------+ | Ubuntu 22.04 | PASS | +-------------------------------+----------------+ | Ubuntu 24.04 | PASS | +-------------------------------+----------------+ | Red Hat Enterprise Linux 9.5 | PASS | +-------------------------------+----------------+ | Windows Server 2022 | PASS | +-------------------------------+----------------+ CentOS Stream 9 Kernel: 5.15 Compiler: gcc gcc (GCC) 11.5.0 20240719 (Red Hat 11.5.0-11) CentOS Stream 10 Kernel: 5.15 Compiler: gcc gcc (GCC) 14.2.1 20250110 (Red Hat 14.2.1-8) Debian GNU/Linux 12 Kernel: 5.15 Compiler: gcc gcc (Debian 12.2.0-14+deb12u1) 12.2.0 Fedora Linux 40 Kernel: 5.15 Compiler: gcc gcc (GCC) 14.2.1 20240912 (Red Hat 14.2.1-3) Fedora Linux 41 Kernel: 5.15 Compiler: gcc gcc (GCC) 14.3.1 20250523 (Red Hat 14.3.1-1) Fedora Linux 42 Kernel: 5.15 Compiler: gcc gcc (GCC) 15.2.1 20250808 (Red Hat 15.2.1-1) Red Hat Enterprise Linux 8.10 Kernel: 5.15 Compiler: gcc gcc (GCC) 8.5.0 20210514 (Red Hat 8.5.0-22) Ubuntu 20.04 Kernel: 5.15 Compiler: gcc gcc (Ubuntu 9.4.0-1ubuntu1~20.04.2) 9.4.0 Ubuntu 22.04 Kernel: 5.15 Compiler: gcc gcc (Ubuntu 11.4.0-1ubuntu1~22.04) 11.4.0 Ubuntu 24.04 Kernel: 5.15 Compiler: gcc gcc (Ubuntu 13.3.0-6ubuntu2~24.04) 13.3.0 Red Hat Enterprise Linux 9.5 Kernel: 5.15 Compiler: gcc gcc (GCC) 11.5.0 20240719 (Red Hat 11.5.0-2) Windows Server 2022 Kernel: 10.0.20348.2031 Compiler: clang 15.0.7, gcc 14.1.0 (MinGW), and MSVC VS 19.39.33521 To view detailed results, visit: https://lab.dpdk.org/results/dashboard/patchsets/34404/ UNH-IOL DPDK Community Lab To manage your email subscriptions, visit: https://lab.dpdk.org/results/dashboard/preferences/subscriptions/