From mboxrd@z Thu Jan 1 00:00:00 1970 Return-Path: Received: from mails.dpdk.org (mails.dpdk.org [217.70.189.124]) by inbox.dpdk.org (Postfix) with ESMTP id 274D248A0A for ; Tue, 28 Oct 2025 23:07:31 +0100 (CET) Received: from mails.dpdk.org (localhost [127.0.0.1]) by mails.dpdk.org (Postfix) with ESMTP id 23DDB40262; Tue, 28 Oct 2025 23:07:31 +0100 (CET) Received: from mail-pl1-f228.google.com (mail-pl1-f228.google.com [209.85.214.228]) by mails.dpdk.org (Postfix) with ESMTP id D9A9B40262 for ; Tue, 28 Oct 2025 23:07:29 +0100 (CET) Received: by mail-pl1-f228.google.com with SMTP id d9443c01a7336-28a5b8b12a1so67661825ad.0 for ; Tue, 28 Oct 2025 15:07:29 -0700 (PDT) DKIM-Signature: v=1; a=rsa-sha256; c=relaxed/relaxed; d=iol.unh.edu; s=unh-iol; t=1761689249; x=1762294049; darn=dpdk.org; h=references:in-reply-to:cc:to:from:subject:message-id:date:from:to :cc:subject:date:message-id:reply-to; bh=8/E1bg9D3gjRxDBEA3i+0a35ABqipSgINjRnyvKMsUM=; b=QQ02J5n2XPqIl15DVmuUGgqO1QhwltQZUe0AHfw9K+2x5Hn3TmrUHElWgIhu0fxVpX duJ42Tp0h8nz4vTmWtmUfLFr0IMVCbBSzVE0L4TaQ5C8nTgrvoJ/Xr+zHW5HpTZieEpK MGwFujHPa5oDJmg+iLMq2ulrF22tha0XRhriI= X-Google-DKIM-Signature: v=1; a=rsa-sha256; c=relaxed/relaxed; d=1e100.net; s=20230601; t=1761689249; x=1762294049; h=references:in-reply-to:cc:to:from:subject:message-id:date :x-gm-message-state:from:to:cc:subject:date:message-id:reply-to; bh=8/E1bg9D3gjRxDBEA3i+0a35ABqipSgINjRnyvKMsUM=; b=Q2fNJIIRz/af1iX8rsV9VVqmmKGNWL8TFCrJJWfwa0VpGCzuJVLle5liecqZp10vde lrch04GWJMHL9FhnVKA1t3tbB0+ufTh/jzupupBl1LTTyqjnxCzQCVJsKP8G7CVZaZrN D/ZKVCKLZPTMqwSyc+AfFsdtVOWCXik6vOgnlPAxe6mlckq0t/Xi18bBjqob8934UxEK ent4y/mE64rosYkvWuT0mp6qpyOKJG7EOoVHCJ8QVKFqp1sWOGYzZ9aB1svwPP2P8sVs ACaCfUykCIRGV+JhH0K0VWXTvO/z7gGs5qlyPseKfrMj/sjqYervuzOx20ETvlY/FsdX Lknw== X-Gm-Message-State: AOJu0Yxh/hC1AIgUVuJ350PYIiw1KUSFE5w2B9MdTrlV6jV/lN68ADnn 9Q4skXw+Snr5L4CiFmE3G3zedc5fzgglma+xKhZ0vTQVgOcqHGv7bWpXh/o8bxWfkyGRHjoMrDF y2AMLJM/H25M5buU8WOtEF6t9Dol0j0Q+0K5+oA3UH5ATzRE/HWIGDRoQs5nA X-Gm-Gg: ASbGncucgzy++7xzJokHS+NonjTglUvU+VG62NrIS1TbaWhtBClWbvMfUSdjtZHaG05 QxksnCupeQ7oufyoBGk23FHljPdjamVI1RJH4oI7XY+9iGP6GoVFswES17wnTbGUOoMebW9oOVv 5EIY7gF0zXm0jYYrzFan8Owr0MqW4N5/R6i9QTxhsxL4Jq5Q2FCMGn8RclWuZLL8yF8v5h/lOSP F3LrjBw5MsLn5pkLoh+q2cYOsR9w5xd9WDEaGt7pGs5ntWwvqNRYH5+gpb8Ujfdp43d00oLDYRO QG7a6HDac9kwvVFXfrSesQjPXEoSDYPsd0nm33cy05yCwSwTsMb2XeU0zTwn9B7bqtUAGwJ1P3i i4YW7u4sN X-Google-Smtp-Source: AGHT+IEK4N676/Ey9zHo8hEqHTFlkScJ3FTPnO9R1j4qRWLCV96V7p1ETZSIxxg5/EvoAgyEoXYPb89MkvAS X-Received: by 2002:a17:902:da85:b0:25c:b1d6:c41a with SMTP id d9443c01a7336-294dedd08femr7791795ad.11.1761689249073; Tue, 28 Oct 2025 15:07:29 -0700 (PDT) Received: from postal.iol.unh.edu (postal.iol.unh.edu. [2606:4100:3880:1234::84]) by smtp-relay.gmail.com with ESMTPS id d9443c01a7336-29498e50e3fsm11789445ad.66.2025.10.28.15.07.28 (version=TLS1_2 cipher=ECDHE-ECDSA-AES128-GCM-SHA256 bits=128/128); Tue, 28 Oct 2025 15:07:29 -0700 (PDT) X-Relaying-Domain: iol.unh.edu Date: Tue, 28 Oct 2025 15:07:29 -0700 (PDT) Message-ID: <69013ea1.170a0220.3acf84.6da1SMTPIN_ADDED_MISSING@mx.google.com> Received: from [172.21.0.2] (unknown [172.18.0.240]) by postal.iol.unh.edu (Postfix) with ESMTP id 030C86051830; Tue, 28 Oct 2025 18:07:28 -0400 (EDT) Subject: |SUCCESS| pw158190-158192 [PATCH] [v10,3/3] doc: note on unsupported From: dpdklab@iol.unh.edu To: Test Report Cc: dpdk-test-reports@iol.unh.edu, Bruce Richardson In-Reply-To: <20251028142202.137392-4-shaiq.wani@intel.com> References: <20251028142202.137392-4-shaiq.wani@intel.com> Content-Type: text/plain X-BeenThere: test-report@dpdk.org X-Mailman-Version: 2.1.29 Precedence: list List-Id: automatic DPDK test reports List-Unsubscribe: , List-Archive: List-Post: List-Help: List-Subscribe: , Errors-To: test-report-bounces@dpdk.org Test-Label: iol-unit-amd64-testing Test-Status: SUCCESS http://dpdk.org/patch/158192 _Testing PASS_ Submitter: Shaiq Wani Date: Tuesday, October 28 2025 14:22:02 DPDK git baseline: Repo:dpdk-next-net-intel Branch: master CommitID:6b997d6b9ffdbb4f8ecd14d1f217da69cdc783af 158190-158192 --> testing pass Upstream job id: Generic-VM-Unit-Test-DPDK#32130 Test environment and result as below: +-------------------------------+----------------+ | Environment | dpdk_unit_test | +===============================+================+ | CentOS Stream 9 | PASS | +-------------------------------+----------------+ | CentOS Stream 10 | PASS | +-------------------------------+----------------+ | Debian GNU/Linux 12 | PASS | +-------------------------------+----------------+ | Fedora Linux 40 | PASS | +-------------------------------+----------------+ | Fedora Linux 41 | PASS | +-------------------------------+----------------+ | Fedora Linux 42 | PASS | +-------------------------------+----------------+ | Red Hat Enterprise Linux 8.10 | PASS | +-------------------------------+----------------+ | Ubuntu 20.04 | PASS | +-------------------------------+----------------+ | Ubuntu 22.04 | PASS | +-------------------------------+----------------+ | Ubuntu 24.04 | PASS | +-------------------------------+----------------+ | Red Hat Enterprise Linux 9.5 | PASS | +-------------------------------+----------------+ | Windows Server 2022 | PASS | +-------------------------------+----------------+ CentOS Stream 9 Kernel: 5.15 Compiler: gcc gcc (GCC) 11.5.0 20240719 (Red Hat 11.5.0-11) CentOS Stream 10 Kernel: 5.15 Compiler: gcc gcc (GCC) 14.2.1 20250110 (Red Hat 14.2.1-8) Debian GNU/Linux 12 Kernel: 5.15 Compiler: gcc gcc (Debian 12.2.0-14+deb12u1) 12.2.0 Fedora Linux 40 Kernel: 5.15 Compiler: gcc gcc (GCC) 14.2.1 20240912 (Red Hat 14.2.1-3) Fedora Linux 41 Kernel: 5.15 Compiler: gcc gcc (GCC) 14.3.1 20250523 (Red Hat 14.3.1-1) Fedora Linux 42 Kernel: 5.15 Compiler: gcc gcc (GCC) 15.2.1 20250808 (Red Hat 15.2.1-1) Red Hat Enterprise Linux 8.10 Kernel: 5.15 Compiler: gcc gcc (GCC) 8.5.0 20210514 (Red Hat 8.5.0-22) Ubuntu 20.04 Kernel: 5.15 Compiler: gcc gcc (Ubuntu 9.4.0-1ubuntu1~20.04.2) 9.4.0 Ubuntu 22.04 Kernel: 5.15 Compiler: gcc gcc (Ubuntu 11.4.0-1ubuntu1~22.04) 11.4.0 Ubuntu 24.04 Kernel: 5.15 Compiler: gcc gcc (Ubuntu 13.3.0-6ubuntu2~24.04) 13.3.0 Red Hat Enterprise Linux 9.5 Kernel: 5.15 Compiler: gcc gcc (GCC) 11.5.0 20240719 (Red Hat 11.5.0-2) Windows Server 2022 Kernel: 10.0.20348.2031 Compiler: clang 15.0.7, gcc 14.1.0 (MinGW), and MSVC VS 19.39.33521 To view detailed results, visit: https://lab.dpdk.org/results/dashboard/patchsets/34404/ UNH-IOL DPDK Community Lab To manage your email subscriptions, visit: https://lab.dpdk.org/results/dashboard/preferences/subscriptions/