From: dpdklab@iol.unh.edu
To: Test Report <test-report@dpdk.org>
Cc: dpdk-test-reports@iol.unh.edu
Subject: |WARNING| pw158203 [PATCH] [v3] fib6: implement RCU rule reclamation
Date: Tue, 28 Oct 2025 15:09:29 -0700 (PDT) [thread overview]
Message-ID: <69013f19.170a0220.267809.1795SMTPIN_ADDED_MISSING@mx.google.com> (raw)
In-Reply-To: <20251028173703.548656-3-rjarry@redhat.com>
Test-Label: iol-sample-apps-testing
Test-Status: WARNING
http://dpdk.org/patch/158203
_Testing issues_
Submitter: Robin Jarry <rjarry@redhat.com>
Date: Tuesday, October 28 2025 17:37:05
DPDK git baseline: Repo:dpdk
Branch: master
CommitID:39b54f2dcf44ad1f91eabc7080cd5dea763607fd
158203 --> testing issues
Upstream job id: Template-DTS-Pipeline#251786
Test environment and result as below:
+--------------+----------------------+----------------------+
| Environment | compressdev_zlib_pmd | dpdk_fips_validation |
+==============+======================+======================+
| Ubuntu 22.04 | PASS | SKIPPED |
+--------------+----------------------+----------------------+
| Ubuntu 20.04 | SKIPPED | WARN |
+--------------+----------------------+----------------------+
==== 20 line log output for Ubuntu 20.04 (dpdk_fips_validation): ====
Traceback (most recent call last):
File "/dpdk-ci/tools/acvp/acvp_tool.py", line 368, in <module>
main(
File "/dpdk-ci/tools/acvp/acvp_tool.py", line 314, in main
with open(response_path, 'r') as upload_file:
FileNotFoundError: [Errno 2] No such file or directory: '/root/workspace/ACVP-FIPS-testing/out/hmac-sha-1-answers.rsp'
INFO:root:Using response file...
Traceback (most recent call last):
File "/dpdk-ci/tools/acvp/acvp_tool.py", line 368, in <module>
main(
File "/dpdk-ci/tools/acvp/acvp_tool.py", line 314, in main
with open(response_path, 'r') as upload_file:
FileNotFoundError: [Errno 2] No such file or directory: '/root/workspace/ACVP-FIPS-testing/out/acvp-tdes-cbc-answers.rsp'
INFO:root:Using response file...
Traceback (most recent call last):
File "/dpdk-ci/tools/acvp/acvp_tool.py", line 368, in <module>
main(
File "/dpdk-ci/tools/acvp/acvp_tool.py", line 314, in main
with open(response_path, 'r') as upload_file:
FileNotFoundError: [Errno 2] No such file or directory: '/root/workspace/ACVP-FIPS-testing/out/acvp-aes-ctr-answers.rsp'
==== End log output ====
Ubuntu 22.04
Kernel: 5.15
Compiler: gcc gcc (Ubuntu 11.4.0-1ubuntu1~22.04.2) 11.4.0
Ubuntu 20.04
Kernel: 5.15
Compiler: gcc gcc (Ubuntu 9.4.0-1ubuntu1~20.04.2) 9.4.0
To view detailed results, visit:
https://lab.dpdk.org/results/dashboard/patchsets/34407/
UNH-IOL DPDK Community Lab
To manage your email subscriptions, visit:
https://lab.dpdk.org/results/dashboard/preferences/subscriptions/
next prev parent reply other threads:[~2025-10-28 22:09 UTC|newest]
Thread overview: 31+ messages / expand[flat|nested] mbox.gz Atom feed top
[not found] <20251028173703.548656-3-rjarry@redhat.com>
2025-10-28 17:03 ` |SUCCESS| pw158203 [PATCH dpdk v3] " qemudev
2025-10-28 17:08 ` qemudev
2025-10-28 17:38 ` checkpatch
2025-10-28 18:04 ` |SUCCESS| pw158203 [PATCH] [v3] " dpdklab
2025-10-28 18:07 ` |PENDING| " dpdklab
2025-10-28 18:09 ` |SUCCESS| " dpdklab
2025-10-28 18:09 ` dpdklab
2025-10-28 18:13 ` dpdklab
2025-10-28 18:21 ` dpdklab
2025-10-28 18:24 ` dpdklab
2025-10-28 18:25 ` |PENDING| " dpdklab
2025-10-28 18:26 ` |SUCCESS| " dpdklab
2025-10-28 18:26 ` dpdklab
2025-10-28 19:51 ` |SUCCESS| pw158203 [PATCH dpdk v3] " 0-day Robot
2025-10-28 19:51 ` 0-day Robot
2025-10-28 20:48 ` |WARNING| pw158203 [PATCH] [v3] " dpdklab
2025-10-28 21:28 ` |SUCCESS| " dpdklab
2025-10-28 21:44 ` |PENDING| " dpdklab
2025-10-28 22:09 ` dpdklab [this message]
2025-10-28 22:13 ` |WARNING| " dpdklab
2025-10-28 22:22 ` |PENDING| " dpdklab
2025-10-28 22:55 ` |SUCCESS| " dpdklab
2025-10-28 23:03 ` dpdklab
2025-10-28 23:06 ` |WARNING| " dpdklab
2025-10-28 23:17 ` |SUCCESS| " dpdklab
2025-10-28 23:19 ` |WARNING| " dpdklab
2025-10-28 23:21 ` dpdklab
2025-10-28 23:27 ` |SUCCESS| " dpdklab
2025-10-28 23:49 ` dpdklab
2025-10-29 2:06 ` dpdklab
2025-10-29 10:32 ` dpdklab
Reply instructions:
You may reply publicly to this message via plain-text email
using any one of the following methods:
* Save the following mbox file, import it into your mail client,
and reply-to-all from there: mbox
Avoid top-posting and favor interleaved quoting:
https://en.wikipedia.org/wiki/Posting_style#Interleaved_style
* Reply using the --to, --cc, and --in-reply-to
switches of git-send-email(1):
git send-email \
--in-reply-to=69013f19.170a0220.267809.1795SMTPIN_ADDED_MISSING@mx.google.com \
--to=dpdklab@iol.unh.edu \
--cc=dpdk-test-reports@iol.unh.edu \
--cc=test-report@dpdk.org \
/path/to/YOUR_REPLY
https://kernel.org/pub/software/scm/git/docs/git-send-email.html
* If your mail client supports setting the In-Reply-To header
via mailto: links, try the mailto: link
Be sure your reply has a Subject: header at the top and a blank line
before the message body.
This is a public inbox, see mirroring instructions
for how to clone and mirror all data and code used for this inbox;
as well as URLs for NNTP newsgroup(s).