From mboxrd@z Thu Jan 1 00:00:00 1970 Return-Path: Received: from mails.dpdk.org (mails.dpdk.org [217.70.189.124]) by inbox.dpdk.org (Postfix) with ESMTP id D5B7F48A0A for ; Tue, 28 Oct 2025 23:13:46 +0100 (CET) Received: from mails.dpdk.org (localhost [127.0.0.1]) by mails.dpdk.org (Postfix) with ESMTP id B070C40262; Tue, 28 Oct 2025 23:13:46 +0100 (CET) Received: from mail-pf1-f228.google.com (mail-pf1-f228.google.com [209.85.210.228]) by mails.dpdk.org (Postfix) with ESMTP id 5B5B940262 for ; Tue, 28 Oct 2025 23:13:45 +0100 (CET) Received: by mail-pf1-f228.google.com with SMTP id d2e1a72fcca58-7a26dab3a97so4089267b3a.0 for ; Tue, 28 Oct 2025 15:13:45 -0700 (PDT) DKIM-Signature: v=1; a=rsa-sha256; c=relaxed/relaxed; d=iol.unh.edu; s=unh-iol; t=1761689624; x=1762294424; darn=dpdk.org; h=references:in-reply-to:cc:to:from:subject:message-id:date:from:to :cc:subject:date:message-id:reply-to; bh=JUrDL7yoS5i0pALQealyxJw2P3ZDmKP8g3Z2POS8qbE=; b=O9tMhnMRWlmFOk9FVqqhJL01zv0E+5sSLxlAV/rpT+jDLfTkc35YX+3MPwocqHih1N KXa0OdkChBhZVH+e8btIpXAIlS2n3Gk3r79CgTz+XZGLrwexwoVpmQaDJHK36VAXXboC BYz2Q75eyG4PayZRkbU6dPvSd593tWSTBSx/A= X-Google-DKIM-Signature: v=1; a=rsa-sha256; c=relaxed/relaxed; d=1e100.net; s=20230601; t=1761689624; x=1762294424; h=references:in-reply-to:cc:to:from:subject:message-id:date :x-gm-message-state:from:to:cc:subject:date:message-id:reply-to; bh=JUrDL7yoS5i0pALQealyxJw2P3ZDmKP8g3Z2POS8qbE=; b=HAHuF9fmc5yifs+W8/xfescEsbrEVlDaqwEnAx51NuqKhWvsj58K7XUG/IFKkqOwtF mDB6BmnT/HBy292q07dARs03zRmO04H+aH1DNOoY/89M+y7NYiEchE0kZBKblw/kxUni wC61dudB+ZddfBTOT0yIj9bNuUtz26NeIjo0WpPkfes6eqNGj+AfhE61+/lI1xo8oRVC Bl7Kut8cYayTlpnM217HwjFUSj3Kly99k1uy7d3KNeoxJReoNCrqCVG5S7ZwZ5nIIMU8 rgbcizLpqF3YmEjRPA8H4R1zJgjez2UcOgcv0+B5boOalDm4+9h7G5fh/INjmGOAF67V HdtQ== X-Gm-Message-State: AOJu0YzGMt669SJXJKRZ0YkI6P86UUlxowizsvQxjdSnHa5ze96cP1qM rLhsq6rLpEkU9UUDp74Yn9hRtuU6Gjqstj1L8LioPfbUf32LLBi6XXfSi5Kgu+pNG1iwxpuzA4m grWKd2MfZrBCLXw6t59LFp1TndJBMluZK3ctf/cyAvJ7q X-Gm-Gg: ASbGnctsBlnDo4Nq0UUPVYw+pX14JtbWbNrkwHNDgT5WIii8iXeXLCa7cediYnDSUKP O41jPz7TgH6TSkTYQMcfhXa2IFPa8dTvl9Puyhga+KmCkTWwpn1QVxxb6ka+FnPkXEoYQwpFnJ5 ItvMbO/MdjIoyJRhm6A11yXcH5vMSHexvOOYV543WBnTalKN0V+WMNxb1HB1CxEv4rEoydokFcH UcXx5X5hauZnrD+6Z7U/nD5kPzXk24LvyJgOsjONKDRYDjTGXZhsclKOjVmJ1KUNk+e5wMcvE+w 0su3K/b/uJozvHjCo6P3gWQMnwPq0R6tEYiEwS/mEXtZUr3ttFcdhgL0pOm/ZDbL71Rhd6Ui6VB YmowSYF7Qd80fJXHhQUPi7eHHW+8WVuc= X-Google-Smtp-Source: AGHT+IHu4Lw381Y6pK1G2kkBdF85bamnSi4TWIagc3vLG5rzZ9eJ5chYH07YwbvY1gJvuOmXz4zjISRmlpQL X-Received: by 2002:a17:902:d2ce:b0:269:8f2d:5221 with SMTP id d9443c01a7336-294dee535c7mr7728625ad.9.1761689624305; Tue, 28 Oct 2025 15:13:44 -0700 (PDT) Received: from postal.iol.unh.edu (postal.iol.unh.edu. [132.177.123.84]) by smtp-relay.gmail.com with ESMTPS id d9443c01a7336-29498e42e9asm11200765ad.64.2025.10.28.15.13.44 (version=TLS1_2 cipher=ECDHE-ECDSA-AES128-GCM-SHA256 bits=128/128); Tue, 28 Oct 2025 15:13:44 -0700 (PDT) X-Relaying-Domain: iol.unh.edu Date: Tue, 28 Oct 2025 15:13:44 -0700 (PDT) Message-ID: <69014018.170a0220.29798b.3c5fSMTPIN_ADDED_MISSING@mx.google.com> Received: from [172.21.0.2] (unknown [172.18.0.240]) by postal.iol.unh.edu (Postfix) with ESMTP id B7DB96051830; Tue, 28 Oct 2025 18:13:43 -0400 (EDT) Subject: |WARNING| pw158203 [PATCH] [v3] fib6: implement RCU rule reclamation From: dpdklab@iol.unh.edu To: Test Report Cc: dpdk-test-reports@iol.unh.edu In-Reply-To: <20251028173703.548656-3-rjarry@redhat.com> References: <20251028173703.548656-3-rjarry@redhat.com> Content-Type: text/plain X-BeenThere: test-report@dpdk.org X-Mailman-Version: 2.1.29 Precedence: list List-Id: automatic DPDK test reports List-Unsubscribe: , List-Archive: List-Post: List-Help: List-Subscribe: , Errors-To: test-report-bounces@dpdk.org Test-Label: iol-compile-amd64-testing Test-Status: WARNING http://dpdk.org/patch/158203 _Testing issues_ Submitter: Robin Jarry Date: Tuesday, October 28 2025 17:37:05 DPDK git baseline: Repo:dpdk Branch: master CommitID:39b54f2dcf44ad1f91eabc7080cd5dea763607fd 158203 --> testing issues Upstream job id: Generic-DPDK-Compile-Meson#438725 Test environment and result as below: +-------------------------------+--------------------+-------------------+-------------------+------------------+ | Environment | dpdk_meson_compile | dpdk_msvc_compile | dpdk_compile_spdk | dpdk_compile_ovs | +===============================+====================+===================+===================+==================+ | FreeBSD 14.2 | PASS | SKIPPED | SKIPPED | SKIPPED | +-------------------------------+--------------------+-------------------+-------------------+------------------+ | Ubuntu 20.04 | PEND | SKIPPED | SKIPPED | SKIPPED | +-------------------------------+--------------------+-------------------+-------------------+------------------+ | CentOS Stream 10 | PASS | SKIPPED | SKIPPED | SKIPPED | +-------------------------------+--------------------+-------------------+-------------------+------------------+ | CentOS Stream 9 | PEND | SKIPPED | PEND | SKIPPED | +-------------------------------+--------------------+-------------------+-------------------+------------------+ | Debian GNU/Linux 12 | PASS | SKIPPED | WARN | SKIPPED | +-------------------------------+--------------------+-------------------+-------------------+------------------+ | Fedora Linux 42 | PEND | SKIPPED | PEND | PEND | +-------------------------------+--------------------+-------------------+-------------------+------------------+ | Red Hat Enterprise Linux 8.10 | PEND | SKIPPED | SKIPPED | SKIPPED | +-------------------------------+--------------------+-------------------+-------------------+------------------+ | Red Hat Enterprise Linux 9.5 | PEND | SKIPPED | SKIPPED | SKIPPED | +-------------------------------+--------------------+-------------------+-------------------+------------------+ | openSUSE Leap 15.6 | PEND | SKIPPED | SKIPPED | SKIPPED | +-------------------------------+--------------------+-------------------+-------------------+------------------+ | Ubuntu 22.04 | PEND | SKIPPED | PEND | SKIPPED | +-------------------------------+--------------------+-------------------+-------------------+------------------+ | Ubuntu 24.04 | PEND | SKIPPED | PEND | PEND | +-------------------------------+--------------------+-------------------+-------------------+------------------+ | Windows Server 2022 | SKIPPED | PASS | SKIPPED | SKIPPED | +-------------------------------+--------------------+-------------------+-------------------+------------------+ ==== 20 line log output for Debian GNU/Linux 12 (dpdk_compile_spdk): ==== --- Failed to get log output --- ==== End log output ==== FreeBSD 14.2 Kernel: 14.2-RELEASE Compiler: clang 18.1.6 Ubuntu 20.04 Kernel: 4.19 Compiler: gcc gcc (Ubuntu 9.4.0-1ubuntu1~20.04.2) 9.4.0 CentOS Stream 10 Kernel: 5.15 Compiler: gcc gcc (GCC) 14.2.1 20250110 (Red Hat 14.2.1-8) CentOS Stream 9 Kernel: 5.15 Compiler: gcc gcc (GCC) 11.5.0 20240719 (Red Hat 11.5.0-11) Debian GNU/Linux 12 Kernel: 5.15 Compiler: gcc gcc (Debian 12.2.0-14+deb12u1) 12.2.0 Fedora Linux 42 Kernel: 5.15 Compiler: clang gcc (GCC) 15.2.1 20250808 (Red Hat 15.2.1-1) Red Hat Enterprise Linux 8.10 Kernel: 5.15 Compiler: gcc gcc (GCC) 8.5.0 20210514 (Red Hat 8.5.0-22) Red Hat Enterprise Linux 9.5 Kernel: 5.15 Compiler: gcc gcc (GCC) 11.5.0 20240719 (Red Hat 11.5.0-2) openSUSE Leap 15.6 Kernel: 5.15 Compiler: gcc gcc (SUSE Linux) 7.5.0 Ubuntu 22.04 Kernel: 5.15 Compiler: gcc gcc (Ubuntu 11.4.0-1ubuntu1~22.04) 11.4.0 Ubuntu 24.04 Kernel: 5.15 Compiler: gcc gcc (Ubuntu 13.3.0-6ubuntu2~24.04) 13.3.0 Windows Server 2022 Kernel: 10.0.20348.2031 Compiler: clang 15.0.7, gcc 14.1.0 (MinGW), and MSVC VS 19.39.33521 To view detailed results, visit: https://lab.dpdk.org/results/dashboard/patchsets/34407/ UNH-IOL DPDK Community Lab To manage your email subscriptions, visit: https://lab.dpdk.org/results/dashboard/preferences/subscriptions/