From mboxrd@z Thu Jan 1 00:00:00 1970 Return-Path: Received: from mails.dpdk.org (mails.dpdk.org [217.70.189.124]) by inbox.dpdk.org (Postfix) with ESMTP id 8B63E48A0A for ; Tue, 28 Oct 2025 23:18:56 +0100 (CET) Received: from mails.dpdk.org (localhost [127.0.0.1]) by mails.dpdk.org (Postfix) with ESMTP id 869A440262; Tue, 28 Oct 2025 23:18:56 +0100 (CET) Received: from mail-il1-f227.google.com (mail-il1-f227.google.com [209.85.166.227]) by mails.dpdk.org (Postfix) with ESMTP id 728FA40262 for ; Tue, 28 Oct 2025 23:18:55 +0100 (CET) Received: by mail-il1-f227.google.com with SMTP id e9e14a558f8ab-430c52703b3so59831175ab.1 for ; Tue, 28 Oct 2025 15:18:55 -0700 (PDT) DKIM-Signature: v=1; a=rsa-sha256; c=relaxed/relaxed; d=iol.unh.edu; s=unh-iol; t=1761689935; x=1762294735; darn=dpdk.org; h=references:in-reply-to:cc:to:from:subject:message-id:date:from:to :cc:subject:date:message-id:reply-to; bh=p6dfscXoBMFj9sT8kWFlspd0ed95ZwUF/6PDGmeAmms=; b=F3m8YwW3L73JcK+8lGUUtxcTSzp+sOP2YSWwrZqnZdxxCR6ULJ843/T5irbkbF9Zpx xuOpBBBUEKZAEXlOnKOSmc+pHK9HTV/8mAKg/KobnQ1nvjSsFcdTEhW+gGzxRhQ+C2ko ihkSIr0fszCEOqolyHxp1+usBGum3I8IzOdys= X-Google-DKIM-Signature: v=1; a=rsa-sha256; c=relaxed/relaxed; d=1e100.net; s=20230601; t=1761689935; x=1762294735; h=references:in-reply-to:cc:to:from:subject:message-id:date :x-gm-message-state:from:to:cc:subject:date:message-id:reply-to; bh=p6dfscXoBMFj9sT8kWFlspd0ed95ZwUF/6PDGmeAmms=; b=ps+FcqdlVAJxXqeLKX+6iKjhex3tPlMlfWHuiF+tjCTDK8AM8e8uKF3v8Z+AIO8XUh yu3MThXzbzi64gjc8YTytnkZ3pUjRbsW4fES3+CyD8Ue/Gy3klWFVm+gBAwmxmjmS/6M gZcYs/H2RUDFSyAH/4kr77y0fLxj0NpM0bxzA5q8uQkil8fbKYhA4HSugxPGGsuXdUQ7 +skjhs/q0f5x2Iap9cAE6DienVQhb0CpAE+XDSTgPXK3X7vwBZBPH04P8x/ciHoDXd59 zZAoDlEjzLv4NQCruGaOUqPGMJ/pPcFlMju17AHfsbOp/cBskNXHBYK0HtZ7/sYPe4aY Q36w== X-Gm-Message-State: AOJu0Yy090Er4iMAAZC+aG2bYNcFhp1/eB15nGdcz58WRV7mb8x5Q9p0 h/7aHukltvYuoTb7SWsw7ZRb9gHFBWLu1gT0KCP3fVK3XKeLvsLyftds0KGylaopAoFntfje77z qdRIvTl/16izeKIHNB5MgwYM0R01VGJF+0F4TGp3xaW2a/oua8zUtY+amUXKX X-Gm-Gg: ASbGncvaABxbTbBp7zFZGcc1axYQQ+hRwFa9+qm3strX/RH1zg646UI9FIJNgj10CJ/ i60vTZlb2rmQ0acvbVh+WY+XJqNJ1EFq+Rhk7Mq+pFuF0VFw/cyCe1rbGA76KuriJP6gfnhu36/ P9ESktx9l09/ukmHKCCngYwnPMWFQm4j5en0aEPHFnmM8o32BCzN7CqIa/DqPyMBoybbIbnINhr AIEAD6IPOrA1AxprR6MWOFDqIRLfjXrvL07/w0/O0jPhqB4dCufQQtMiNsciQOpyirZZ/zUX7hQ DKqGLY1cTC0H8XEQgI7yX+OvkUHKBf6Dw4Gh5MEHVKxdOFrdq1QEF15sdb86oBihZRSEkzEhd8K hGIGU+3ja X-Google-Smtp-Source: AGHT+IHbr4xhBqkRjH1OybROhs1Ew4rS0I9a52dSJsFmhEiASeiCkPQsV3g671z9FWiyl8QcBCScL9InJJEb X-Received: by 2002:a05:6e02:3009:b0:425:951f:52fa with SMTP id e9e14a558f8ab-432f8fcdc4amr13205855ab.14.1761689934728; Tue, 28 Oct 2025 15:18:54 -0700 (PDT) Received: from postal.iol.unh.edu (postal.iol.unh.edu. [2606:4100:3880:1234::84]) by smtp-relay.gmail.com with ESMTPS id 8926c6da1cb9f-5aea9e33387sm936484173.31.2025.10.28.15.18.54 (version=TLS1_2 cipher=ECDHE-ECDSA-AES128-GCM-SHA256 bits=128/128); Tue, 28 Oct 2025 15:18:54 -0700 (PDT) X-Relaying-Domain: iol.unh.edu Date: Tue, 28 Oct 2025 15:18:54 -0700 (PDT) Message-ID: <6901414e.050a0220.1d7db8.b6faSMTPIN_ADDED_MISSING@mx.google.com> Received: from [172.21.0.2] (unknown [172.18.0.240]) by postal.iol.unh.edu (Postfix) with ESMTP id 474C66051830; Tue, 28 Oct 2025 18:18:54 -0400 (EDT) Subject: |SUCCESS| pw158184 [PATCH] [v2] graph: fix xstats description alloca From: dpdklab@iol.unh.edu To: Test Report Cc: dpdk-test-reports@iol.unh.edu In-Reply-To: <20251028110920.16353-1-cfontain@redhat.com> References: <20251028110920.16353-1-cfontain@redhat.com> Content-Type: text/plain X-BeenThere: test-report@dpdk.org X-Mailman-Version: 2.1.29 Precedence: list List-Id: automatic DPDK test reports List-Unsubscribe: , List-Archive: List-Post: List-Help: List-Subscribe: , Errors-To: test-report-bounces@dpdk.org Test-Label: iol-unit-arm64-testing Test-Status: SUCCESS http://dpdk.org/patch/158184 _Testing PASS_ Submitter: Christophe Fontaine Date: Tuesday, October 28 2025 11:09:20 DPDK git baseline: Repo:dpdk Branch: master CommitID:39b54f2dcf44ad1f91eabc7080cd5dea763607fd 158184 --> testing pass Upstream job id: Generic-Unit-Test-DPDK#386136 Test environment and result as below: +------------------------------+---------------------------+--------------+------------------------------+----------------+ | Environment | cryptodev_sw_zuc_autotest | lpm_autotest | cryptodev_sw_snow3g_autotest | dpdk_unit_test | +==============================+===========================+==============+==============================+================+ | Debian 12 (arm) | PASS | SKIPPED | PASS | SKIPPED | +------------------------------+---------------------------+--------------+------------------------------+----------------+ | Ubuntu 20.04 | SKIPPED | PASS | SKIPPED | PASS | +------------------------------+---------------------------+--------------+------------------------------+----------------+ | CentOS Stream 10 | SKIPPED | SKIPPED | SKIPPED | PASS | +------------------------------+---------------------------+--------------+------------------------------+----------------+ | CentOS Stream 9 | SKIPPED | SKIPPED | SKIPPED | PASS | +------------------------------+---------------------------+--------------+------------------------------+----------------+ | Fedora Linux 40 | SKIPPED | SKIPPED | SKIPPED | PASS | +------------------------------+---------------------------+--------------+------------------------------+----------------+ | Debian GNU/Linux 12 | SKIPPED | SKIPPED | SKIPPED | PASS | +------------------------------+---------------------------+--------------+------------------------------+----------------+ | Ubuntu 22.04 | SKIPPED | SKIPPED | SKIPPED | PASS | +------------------------------+---------------------------+--------------+------------------------------+----------------+ | Fedora Linux 41 | SKIPPED | SKIPPED | SKIPPED | PASS | +------------------------------+---------------------------+--------------+------------------------------+----------------+ | Fedora Linux 42 | SKIPPED | SKIPPED | SKIPPED | PASS | +------------------------------+---------------------------+--------------+------------------------------+----------------+ | Red Hat Enterprise Linux 9.5 | SKIPPED | SKIPPED | SKIPPED | PASS | +------------------------------+---------------------------+--------------+------------------------------+----------------+ | Ubuntu 24.04 | SKIPPED | SKIPPED | SKIPPED | PASS | +------------------------------+---------------------------+--------------+------------------------------+----------------+ Debian 12 (arm) Kernel: Depends on container host Compiler: gcc (Debian 12.2.0-14) 12.2.0 Ubuntu 20.04 Kernel: 5.4 Compiler: gcc gcc (Ubuntu 9.4.0-1ubuntu1~20.04.2) 9.4.0 CentOS Stream 10 Kernel: 5.4 Compiler: gcc gcc (GCC) 14.2.1 20250110 (Red Hat 14.2.1-8) CentOS Stream 9 Kernel: 5.4 Compiler: gcc gcc (GCC) 11.5.0 20240719 (Red Hat 11.5.0-11) Fedora Linux 40 Kernel: 5.4 Compiler: gcc gcc (GCC) 14.2.1 20240912 (Red Hat 14.2.1-3) Debian GNU/Linux 12 Kernel: 5.4 Compiler: gcc gcc (Debian 12.2.0-14+deb12u1) 12.2.0 Ubuntu 22.04 Kernel: 5.15 Compiler: gcc gcc (Ubuntu 11.4.0-1ubuntu1~22.04.2) 11.4.0 Fedora Linux 41 Kernel: 5.4 Compiler: gcc gcc (GCC) 14.3.1 20250523 (Red Hat 14.3.1-1) Fedora Linux 42 Kernel: 5.4 Compiler: gcc gcc (GCC) 15.2.1 20250808 (Red Hat 15.2.1-1) Red Hat Enterprise Linux 9.5 Kernel: 5.4 Compiler: gcc gcc (GCC) 11.5.0 20240719 (Red Hat 11.5.0-2) Ubuntu 24.04 Kernel: 5.4 Compiler: gcc gcc (Ubuntu 13.3.0-6ubuntu2~24.04) 13.3.0 To view detailed results, visit: https://lab.dpdk.org/results/dashboard/patchsets/34400/ UNH-IOL DPDK Community Lab To manage your email subscriptions, visit: https://lab.dpdk.org/results/dashboard/preferences/subscriptions/