From mboxrd@z Thu Jan 1 00:00:00 1970 Return-Path: Received: from mails.dpdk.org (mails.dpdk.org [217.70.189.124]) by inbox.dpdk.org (Postfix) with ESMTP id A6CE048A0A for ; Tue, 28 Oct 2025 23:19:07 +0100 (CET) Received: from mails.dpdk.org (localhost [127.0.0.1]) by mails.dpdk.org (Postfix) with ESMTP id A20FA40262; Tue, 28 Oct 2025 23:19:07 +0100 (CET) Received: from mail-pg1-f225.google.com (mail-pg1-f225.google.com [209.85.215.225]) by mails.dpdk.org (Postfix) with ESMTP id BAEC340262 for ; Tue, 28 Oct 2025 23:19:03 +0100 (CET) Received: by mail-pg1-f225.google.com with SMTP id 41be03b00d2f7-b62e7221351so5749542a12.1 for ; Tue, 28 Oct 2025 15:19:03 -0700 (PDT) DKIM-Signature: v=1; a=rsa-sha256; c=relaxed/relaxed; d=iol.unh.edu; s=unh-iol; t=1761689943; x=1762294743; darn=dpdk.org; h=references:in-reply-to:cc:to:from:subject:message-id:date:from:to :cc:subject:date:message-id:reply-to; bh=ebfYElHRGJOZeJNJ/MI7RSsRKKwyH1ygnSy1N5gnX0c=; b=DGbNx1ulDeZ8Nyj6nMMZXkJ4LIN8xlejNHHDlOnX0j6KL2HJyWjQTIpuIyxfl1TGkb HJrekc/cl0kHtqadzLeol6gIktIt67p9CKEpENzLO5WJnTnqamznOeqmgEzU4zDsku7A tVUMcSrNmefhX9Hv3wmiRCDjrjlD0rbpu0hOU= X-Google-DKIM-Signature: v=1; a=rsa-sha256; c=relaxed/relaxed; d=1e100.net; s=20230601; t=1761689943; x=1762294743; h=references:in-reply-to:cc:to:from:subject:message-id:date :x-gm-message-state:from:to:cc:subject:date:message-id:reply-to; bh=ebfYElHRGJOZeJNJ/MI7RSsRKKwyH1ygnSy1N5gnX0c=; b=UiaR93AfvbUmvA6NvkS3P3CHrT/wWOgHyqClg9rR+vkMRChZAMhsOaTPoozPH8ZY0z Gyu3JPK9CCyidTWDrcM1smUV2GDY+gFFjsRHgO0FlxHMvgQ4bst1WtEdhQKuNABICx54 mDFvKPSdO0H8SkJdm1Mkb3AZ8HvaBfZmF8WHrFQ5ex/kGZy/NksRo2ogEx9hlg/8XSF6 7/3SeHT7DU96TprVJWPkQJMh8D6zZ2LO1c9A9MRkkLJPAquyCRvaQJUZRGP2mmLDnTQn W0yWfgPIho/QngIG8AGfjAmSmPIqVaUoufJLtcMh2hnhJoAfvjqsIYOFqQUmigdsKI4r FNYQ== X-Gm-Message-State: AOJu0YzndlZFTOx/5GrwY9R4nzKTlLl5NJj/eRrNNcb0QeNYeyi+yhQL EZJgNhELtF3/lXPcpHWVBYWWC4+e4FynWERREx9A5fW07/QKx+DuZTBponmofvRS9HXmp/wH+lX ikzN6Zcq6NjWz1xE+K9D/AILwCa8Aur1KDNagKg0eVs1rii0QXnVbqwY4C/dy X-Gm-Gg: ASbGnct9dyPOJ5w3u50Fu9x4l2veJafAAekONfOdfMXoPxUhJq/pbYClT8Cx2G8T5o4 2XQsgIC9/01kqIQH2V/P9vuE5qmvQuBkHQuky9AGRmWPNd8jPboHt7i4BKz7SZKoYc5AfXEgDBx VodBAZTJq4kwGjfcuao8qf5EaWNwMiC8bmAhD+lVr27Kz+cGe0yzw88RYMTVufxLmiJDRufZYv0 sCo1knZXJ9QVuaqMkPe2JKC0Z25gjnl0vVy7Y2J6v2f6miOlTV2x/2O2umOxCTfJmvdzGb0MtN6 aEJ5+zRNIVlpPFLVPdQjm0e9NFvz8N+WPV++tQ/vIiZ2ptHnSDMaj4ByRaVu6k4kjarF+Js+3kH jI8ffPfQR X-Google-Smtp-Source: AGHT+IFI70EwCV4WbE7blfBQKJb34Xo94ZROUpDdjTpD947Q58zaMGdmIWMAFD/+04N25jwz9+iSdn5W7Hd0 X-Received: by 2002:a17:903:1a43:b0:26f:f489:bba6 with SMTP id d9443c01a7336-294def00e7emr8458005ad.50.1761689942949; Tue, 28 Oct 2025 15:19:02 -0700 (PDT) Received: from postal.iol.unh.edu (postal.iol.unh.edu. [2606:4100:3880:1234::84]) by smtp-relay.gmail.com with ESMTPS id 41be03b00d2f7-b712772afd6sm882153a12.0.2025.10.28.15.19.02 (version=TLS1_2 cipher=ECDHE-ECDSA-AES128-GCM-SHA256 bits=128/128); Tue, 28 Oct 2025 15:19:02 -0700 (PDT) X-Relaying-Domain: iol.unh.edu Date: Tue, 28 Oct 2025 15:19:02 -0700 (PDT) Message-ID: <69014156.050a0220.33f9e5.9647SMTPIN_ADDED_MISSING@mx.google.com> Received: from [172.21.0.2] (unknown [172.18.0.240]) by postal.iol.unh.edu (Postfix) with ESMTP id 282F56051830; Tue, 28 Oct 2025 18:19:02 -0400 (EDT) Subject: |WARNING| pw158184 [PATCH] [v2] graph: fix xstats description alloca From: dpdklab@iol.unh.edu To: Test Report Cc: dpdk-test-reports@iol.unh.edu In-Reply-To: <20251028110920.16353-1-cfontain@redhat.com> References: <20251028110920.16353-1-cfontain@redhat.com> Content-Type: text/plain X-BeenThere: test-report@dpdk.org X-Mailman-Version: 2.1.29 Precedence: list List-Id: automatic DPDK test reports List-Unsubscribe: , List-Archive: List-Post: List-Help: List-Subscribe: , Errors-To: test-report-bounces@dpdk.org Test-Label: iol-compile-amd64-testing Test-Status: WARNING http://dpdk.org/patch/158184 _Testing issues_ Submitter: Christophe Fontaine Date: Tuesday, October 28 2025 11:09:20 DPDK git baseline: Repo:dpdk Branch: master CommitID:39b54f2dcf44ad1f91eabc7080cd5dea763607fd 158184 --> testing issues Upstream job id: Windows-Compile-DPDK-Native#31948 Test environment and result as below: +-------------------------------+--------------------+-------------------+------------------+-------------------+-------------------------+----------------------+ | Environment | dpdk_meson_compile | dpdk_compile_spdk | dpdk_compile_ovs | dpdk_msvc_compile | dpdk_llvm_clang_compile | dpdk_mingw64_compile | +===============================+====================+===================+==================+===================+=========================+======================+ | Ubuntu 20.04 | PASS | SKIPPED | SKIPPED | SKIPPED | SKIPPED | SKIPPED | +-------------------------------+--------------------+-------------------+------------------+-------------------+-------------------------+----------------------+ | FreeBSD 14.2 | PASS | SKIPPED | SKIPPED | SKIPPED | SKIPPED | SKIPPED | +-------------------------------+--------------------+-------------------+------------------+-------------------+-------------------------+----------------------+ | CentOS Stream 9 | PASS | WARN | SKIPPED | SKIPPED | SKIPPED | SKIPPED | +-------------------------------+--------------------+-------------------+------------------+-------------------+-------------------------+----------------------+ | CentOS Stream 10 | PASS | SKIPPED | SKIPPED | SKIPPED | SKIPPED | SKIPPED | +-------------------------------+--------------------+-------------------+------------------+-------------------+-------------------------+----------------------+ | Debian GNU/Linux 12 | PASS | WARN | SKIPPED | SKIPPED | SKIPPED | SKIPPED | +-------------------------------+--------------------+-------------------+------------------+-------------------+-------------------------+----------------------+ | Fedora Linux 42 | PASS | WARN | PASS | SKIPPED | SKIPPED | SKIPPED | +-------------------------------+--------------------+-------------------+------------------+-------------------+-------------------------+----------------------+ | openSUSE Leap 15.6 | PASS | SKIPPED | SKIPPED | SKIPPED | SKIPPED | SKIPPED | +-------------------------------+--------------------+-------------------+------------------+-------------------+-------------------------+----------------------+ | Red Hat Enterprise Linux 8.10 | PASS | SKIPPED | SKIPPED | SKIPPED | SKIPPED | SKIPPED | +-------------------------------+--------------------+-------------------+------------------+-------------------+-------------------------+----------------------+ | Red Hat Enterprise Linux 9.5 | PASS | SKIPPED | SKIPPED | SKIPPED | SKIPPED | SKIPPED | +-------------------------------+--------------------+-------------------+------------------+-------------------+-------------------------+----------------------+ | Ubuntu 22.04 | PASS | WARN | SKIPPED | SKIPPED | SKIPPED | SKIPPED | +-------------------------------+--------------------+-------------------+------------------+-------------------+-------------------------+----------------------+ | Ubuntu 24.04 | PASS | WARN | PASS | SKIPPED | SKIPPED | SKIPPED | +-------------------------------+--------------------+-------------------+------------------+-------------------+-------------------------+----------------------+ | Alpine Linux 3.22.0 | PASS | SKIPPED | SKIPPED | SKIPPED | SKIPPED | SKIPPED | +-------------------------------+--------------------+-------------------+------------------+-------------------+-------------------------+----------------------+ | Windows Server 2022 | SKIPPED | SKIPPED | SKIPPED | PASS | PASS | PASS | +-------------------------------+--------------------+-------------------+------------------+-------------------+-------------------------+----------------------+ ==== 20 line log output for Ubuntu 24.04 (dpdk_compile_spdk): ==== --- Failed to get log output --- ==== End log output ==== Ubuntu 20.04 Kernel: 4.19 Compiler: gcc gcc (Ubuntu 9.4.0-1ubuntu1~20.04.2) 9.4.0 FreeBSD 14.2 Kernel: 14.2-RELEASE Compiler: clang 18.1.6 CentOS Stream 9 Kernel: 5.15 Compiler: gcc gcc (GCC) 11.5.0 20240719 (Red Hat 11.5.0-11) CentOS Stream 10 Kernel: 5.15 Compiler: gcc gcc (GCC) 14.2.1 20250110 (Red Hat 14.2.1-8) Debian GNU/Linux 12 Kernel: 5.15 Compiler: gcc gcc (Debian 12.2.0-14+deb12u1) 12.2.0 Fedora Linux 42 Kernel: 5.15 Compiler: clang gcc (GCC) 15.2.1 20250808 (Red Hat 15.2.1-1) openSUSE Leap 15.6 Kernel: 5.15 Compiler: gcc gcc (SUSE Linux) 7.5.0 Red Hat Enterprise Linux 8.10 Kernel: 5.15 Compiler: gcc gcc (GCC) 8.5.0 20210514 (Red Hat 8.5.0-22) Red Hat Enterprise Linux 9.5 Kernel: 5.15 Compiler: gcc gcc (GCC) 11.5.0 20240719 (Red Hat 11.5.0-2) Ubuntu 22.04 Kernel: 5.15 Compiler: gcc gcc (Ubuntu 11.4.0-1ubuntu1~22.04) 11.4.0 Ubuntu 24.04 Kernel: 5.15 Compiler: gcc gcc (Ubuntu 13.3.0-6ubuntu2~24.04) 13.3.0 Alpine Linux 3.22.0 Kernel: 5.15 Compiler: gcc gcc (Alpine 14.2.0) 14.2.0 Windows Server 2022 Kernel: 10.0.20348.2031 Compiler: clang 15.0.7, gcc 14.1.0 (MinGW), and MSVC VS 19.39.33521 To view detailed results, visit: https://lab.dpdk.org/results/dashboard/patchsets/34400/ UNH-IOL DPDK Community Lab To manage your email subscriptions, visit: https://lab.dpdk.org/results/dashboard/preferences/subscriptions/