From mboxrd@z Thu Jan 1 00:00:00 1970 Return-Path: Received: from mails.dpdk.org (mails.dpdk.org [217.70.189.124]) by inbox.dpdk.org (Postfix) with ESMTP id 5E85448A0A for ; Tue, 28 Oct 2025 23:25:37 +0100 (CET) Received: from mails.dpdk.org (localhost [127.0.0.1]) by mails.dpdk.org (Postfix) with ESMTP id 3E74E40262; Tue, 28 Oct 2025 23:25:37 +0100 (CET) Received: from mail-pf1-f228.google.com (mail-pf1-f228.google.com [209.85.210.228]) by mails.dpdk.org (Postfix) with ESMTP id 129A040262 for ; Tue, 28 Oct 2025 23:25:35 +0100 (CET) Received: by mail-pf1-f228.google.com with SMTP id d2e1a72fcca58-7a27ab05a2dso5657688b3a.2 for ; Tue, 28 Oct 2025 15:25:34 -0700 (PDT) DKIM-Signature: v=1; a=rsa-sha256; c=relaxed/relaxed; d=iol.unh.edu; s=unh-iol; t=1761690334; x=1762295134; darn=dpdk.org; h=references:in-reply-to:cc:to:from:subject:message-id:date:from:to :cc:subject:date:message-id:reply-to; bh=O77jkfkeu9HaPm5xpHRTBw3xzZrk3fhtNUDRBZsLf/U=; b=Tw7wt6MfxfvhDu8bobEMFg6oUyX2T6P709acngwYfEIRIct2wNVtpMiKx+rqFHHMKR uC4eeQo/yxOBHPjFSLB29SYxiF8f40Xwk+yfMEak6JlmucmwUeya5FjvKp41dcDXFxeo USU/SPZKWX9PypMbdFU8s1m8Zkn4PmQfTvwg4= X-Google-DKIM-Signature: v=1; a=rsa-sha256; c=relaxed/relaxed; d=1e100.net; s=20230601; t=1761690334; x=1762295134; h=references:in-reply-to:cc:to:from:subject:message-id:date :x-gm-message-state:from:to:cc:subject:date:message-id:reply-to; bh=O77jkfkeu9HaPm5xpHRTBw3xzZrk3fhtNUDRBZsLf/U=; b=MJTfiZ7M0tmK/wmCpy/KTEJwOMdUfvhlkma4pYOuAUoEipNOvfSkbUFxbXzpWuFU/3 p/fpwqqPRt9IqIzEhgnTbeBC/7bCLuAHKuKrUqtdF+KsKMoyB33RdYRMVFIP85pJAeEe mL0P1SBqt9hwUrTu8v9QpwzcGKCL+QkiWILnXyCn6W9tXFzDsWKuylB+Gwg+poURPavm rSzOGZ4F3J9cblLb5bFdt1yvniIRXvY/IakFY01736Rd5DNhtstLqctPKGX0+uhDlSkb ZMVpRcYvevDOphvrkKUGm8+g36vCJgBmJ5PV6EdcMrusNRullsOIVS4y5L+nK1+QHQoG kRkw== X-Gm-Message-State: AOJu0YwQKLR2wAAekwv3r55RPzNqu8+RaLp6Oqsgo6TmS4KI9V08Gabp QULcSocuI2uthEC0WcYAR4nybxDBGnq0hVDRP90xps6W3LUSt2NPWVUwNjBfOAhci3Uf3oVdwII t7J7xAt6VG+dS/Mz4RhnfDLCXyYXew5c+duSBgXdlp2CQWob9EVStvCuSUL/N X-Gm-Gg: ASbGnctmmY2J6P7xiRMLBXJIko2DS5AE3JXG3o7pEvyKkdw999c96eIbH8uAKJ9M3Mg YC8DnJiO9wzCIR7lEWifL7ZFh4CXQ+OD1qEOcD0LuZRO6hERDkqBB4r9QfDY+fUJ4mgP8xsgz0u Eh4Sgb86LRbkhH4MMCVeyFr0Ts9N1bIj2OXDterDUKasztKjyEwn0sMjHSMmcqF0PICj2B7jUkw gZvcVdVoC/TECP47JCVtlSvL+hYDRvAMA3RuSp0D60f3GFtQrIDOEi1E76WBdmjqK1wyIFv/ZP9 cK6ho6j6Grty/3iVr3nNHi2hlLpljHjO7eq5p0paNHgRrTX8vGLzZVhi/nuQQPVirnJz8spT5kV QGflrzfjN X-Google-Smtp-Source: AGHT+IEK0y1F4nDVzhhjt9e6DjZ+F1Qw2Vx4mdYWaJMPJ6mBCOreIExxxI4XVfADrqsaABhc1nzRP8lgL4+L X-Received: by 2002:a05:6a00:2e09:b0:77e:f03b:d49a with SMTP id d2e1a72fcca58-7a4e4e12a02mr696429b3a.19.1761690334148; Tue, 28 Oct 2025 15:25:34 -0700 (PDT) Received: from postal.iol.unh.edu (postal.iol.unh.edu. [2606:4100:3880:1234::84]) by smtp-relay.gmail.com with ESMTPS id d2e1a72fcca58-7a4140c2b84sm841755b3a.10.2025.10.28.15.25.34 (version=TLS1_2 cipher=ECDHE-ECDSA-AES128-GCM-SHA256 bits=128/128); Tue, 28 Oct 2025 15:25:34 -0700 (PDT) X-Relaying-Domain: iol.unh.edu Date: Tue, 28 Oct 2025 15:25:34 -0700 (PDT) Message-ID: <690142de.050a0220.28acf9.7bcfSMTPIN_ADDED_MISSING@mx.google.com> Received: from [172.21.0.2] (unknown [172.18.0.240]) by postal.iol.unh.edu (Postfix) with ESMTP id D92036051830; Tue, 28 Oct 2025 18:25:32 -0400 (EDT) Subject: |SUCCESS| pw158194-158201 [PATCH] [v1,8/8] vfio: deprecate group-bas From: dpdklab@iol.unh.edu To: Test Report Cc: dpdk-test-reports@iol.unh.edu In-Reply-To: References: Content-Type: text/plain X-BeenThere: test-report@dpdk.org X-Mailman-Version: 2.1.29 Precedence: list List-Id: automatic DPDK test reports List-Unsubscribe: , List-Archive: List-Post: List-Help: List-Subscribe: , Errors-To: test-report-bounces@dpdk.org Test-Label: iol-unit-amd64-testing Test-Status: SUCCESS http://dpdk.org/patch/158201 _Testing PASS_ Submitter: Anatoly Burakov Date: Tuesday, October 28 2025 16:43:21 DPDK git baseline: Repo:dpdk Branch: master CommitID:39b54f2dcf44ad1f91eabc7080cd5dea763607fd 158194-158201 --> testing pass Upstream job id: Generic-Unit-Test-DPDK#386315 Test environment and result as below: +-------------------------------+----------------+ | Environment | dpdk_unit_test | +===============================+================+ | CentOS Stream 9 | PASS | +-------------------------------+----------------+ | CentOS Stream 10 | PASS | +-------------------------------+----------------+ | Debian GNU/Linux 12 | PASS | +-------------------------------+----------------+ | Fedora Linux 40 | PASS | +-------------------------------+----------------+ | Fedora Linux 41 | PASS | +-------------------------------+----------------+ | Fedora Linux 42 | PASS | +-------------------------------+----------------+ | Ubuntu 22.04 | PASS | +-------------------------------+----------------+ | Red Hat Enterprise Linux 9.5 | PASS | +-------------------------------+----------------+ | Ubuntu 24.04 | PASS | +-------------------------------+----------------+ | Red Hat Enterprise Linux 8.10 | PASS | +-------------------------------+----------------+ | Ubuntu 20.04 | PASS | +-------------------------------+----------------+ CentOS Stream 9 Kernel: 5.15 Compiler: gcc gcc (GCC) 11.5.0 20240719 (Red Hat 11.5.0-11) CentOS Stream 10 Kernel: 5.15 Compiler: gcc gcc (GCC) 14.2.1 20250110 (Red Hat 14.2.1-8) Debian GNU/Linux 12 Kernel: 5.15 Compiler: gcc gcc (Debian 12.2.0-14+deb12u1) 12.2.0 Fedora Linux 40 Kernel: 5.15 Compiler: clang gcc (GCC) 14.2.1 20240912 (Red Hat 14.2.1-3) Fedora Linux 41 Kernel: 5.15 Compiler: clang gcc (GCC) 14.3.1 20250523 (Red Hat 14.3.1-1) Fedora Linux 42 Kernel: 5.15 Compiler: gcc gcc (GCC) 15.2.1 20250808 (Red Hat 15.2.1-1) Ubuntu 22.04 Kernel: 5.15 Compiler: gcc gcc (Ubuntu 11.4.0-1ubuntu1~22.04) 11.4.0 Red Hat Enterprise Linux 9.5 Kernel: 5.15 Compiler: gcc gcc (GCC) 11.5.0 20240719 (Red Hat 11.5.0-2) Ubuntu 24.04 Kernel: 5.15 Compiler: gcc gcc (Ubuntu 13.3.0-6ubuntu2~24.04) 13.3.0 Red Hat Enterprise Linux 8.10 Kernel: 5.15 Compiler: gcc gcc (GCC) 8.5.0 20210514 (Red Hat 8.5.0-22) Ubuntu 20.04 Kernel: 5.15 Compiler: gcc gcc (Ubuntu 9.4.0-1ubuntu1~20.04.2) 9.4.0 To view detailed results, visit: https://lab.dpdk.org/results/dashboard/patchsets/34406/ UNH-IOL DPDK Community Lab To manage your email subscriptions, visit: https://lab.dpdk.org/results/dashboard/preferences/subscriptions/