From mboxrd@z Thu Jan 1 00:00:00 1970 Return-Path: Received: from mails.dpdk.org (mails.dpdk.org [217.70.189.124]) by inbox.dpdk.org (Postfix) with ESMTP id 630E248A0A for ; Tue, 28 Oct 2025 23:26:42 +0100 (CET) Received: from mails.dpdk.org (localhost [127.0.0.1]) by mails.dpdk.org (Postfix) with ESMTP id 5D7A340262; Tue, 28 Oct 2025 23:26:42 +0100 (CET) Received: from mail-oi1-f228.google.com (mail-oi1-f228.google.com [209.85.167.228]) by mails.dpdk.org (Postfix) with ESMTP id 332D840262 for ; Tue, 28 Oct 2025 23:26:41 +0100 (CET) Received: by mail-oi1-f228.google.com with SMTP id 5614622812f47-44f7adb9eb1so103148b6e.3 for ; Tue, 28 Oct 2025 15:26:41 -0700 (PDT) DKIM-Signature: v=1; a=rsa-sha256; c=relaxed/relaxed; d=iol.unh.edu; s=unh-iol; t=1761690400; x=1762295200; darn=dpdk.org; h=references:in-reply-to:cc:to:from:subject:message-id:date:from:to :cc:subject:date:message-id:reply-to; bh=ZLKHKKOraIyTWVWvt71j1KpwLJqK21UrN3e5L9gOpdY=; b=ZB0gysBQOrGCLVY1/hxQ68ZhgCx0Y9DO2msRt5SPj9EJNY1x2tX7Ba0JCBW+FSJy/I cLIIXaUvK3eaNXkA+mfmmWA2lPdRPfx9OwKKJKihuMHfhTd2vNCv5EVX8v1nu6J2Rng6 7yjCaXTWeiMeRX59jcZYkMbx04WjHFehkfTUI= X-Google-DKIM-Signature: v=1; a=rsa-sha256; c=relaxed/relaxed; d=1e100.net; s=20230601; t=1761690400; x=1762295200; h=references:in-reply-to:cc:to:from:subject:message-id:date :x-gm-message-state:from:to:cc:subject:date:message-id:reply-to; bh=ZLKHKKOraIyTWVWvt71j1KpwLJqK21UrN3e5L9gOpdY=; b=wsYN6qynbxmli6hS6UhjvZMAce2p69UgPxDTtimxGpS31u+OxOtZ97dqtzliZXkBhz iQZ/N/TLu5VH/JbX2v9T2/nvby6q4uAHJpvbE12isuax7fjkwQM3EWkRPdrV/yeNQlzS /N7pHJzlTCXevKZazznLabk7UJ/0ipXLvtY+3+tRE9tKo+XD3pfMnYZhWAqXxPXPGnNB SiYVPRhMPAAae/de5w0LlSN5tWMYzZ7mKDFxT17jrjHerA0hlR8sdBZBGd70a0Z0sf3+ TK/lgv+sCqPN/hHQEYjJ91YlNXgDsmgvf5xaPo3IRGBN/Qhe/pnpsc7QYFWULz1cWK3w imIw== X-Gm-Message-State: AOJu0YxKbhRA+1J6nrBOAR19LwGGeKgJeasd2xzQSIelwkFpqG3379rD nETe64+MLmAHXxirxxJt+pJpi8CDxirrsCiAS4F3wHlJm2NGdpc+YHeJnKwUULA0oAbadQ2luo/ v6Bfbmd4p+4p2WJRq5CBb0zonjaBOm2lJunE/ArRSiPrMYB6pXYci+Bnjk05D X-Gm-Gg: ASbGncu3z7fVHLfbAbyyObT/qi7eKsbvrUMUmecqD/mA0JrUYSZo1OE0b24VTKgJPEN k9HsiGR+3kzOFrhveG5BblTzg3+HddoUCXK265gN+law00q0LtPNc8pa0LS/Pi79saIoAVjmspF F6cKnlWJIx6mki64RFNRkd0zD+HFUq4AVynQ0V5On0rZeswCQ6/noojnZpoP9ues/vjHc3YYkCd c1t22xO3TAOJ/ugAAdM4ekqUqh54bPnJMjaka6HDLUiVQeSBnohHStZ1qE9jcWKqtP8vXn5guh2 QRgXX8PJfGu8kUwW6YEY0kR4nurt1OTVYg/aRx0KeqVmDNKwYj3mOZJi2a3hK3tnBQyQOmGX2GX cx6EpyC3x X-Google-Smtp-Source: AGHT+IGZwxOHmArJgNiGJs1LZTZL+Gg3sSzfETgJlOF5ThzLtiQZES7hwn4vWRn34d4pGJvjOkI3aPP/ZeYe X-Received: by 2002:a05:6808:3997:b0:44d:bf5a:d367 with SMTP id 5614622812f47-44f7a556d6dmr532825b6e.57.1761690400329; Tue, 28 Oct 2025 15:26:40 -0700 (PDT) Received: from postal.iol.unh.edu (postal.iol.unh.edu. [2606:4100:3880:1234::84]) by smtp-relay.gmail.com with ESMTPS id 006d021491bc7-6566ef8af78sm219928eaf.1.2025.10.28.15.26.40 (version=TLS1_2 cipher=ECDHE-ECDSA-AES128-GCM-SHA256 bits=128/128); Tue, 28 Oct 2025 15:26:40 -0700 (PDT) X-Relaying-Domain: iol.unh.edu Date: Tue, 28 Oct 2025 15:26:40 -0700 (PDT) Message-ID: <69014320.050a0220.27f2bc.ac6dSMTPIN_ADDED_MISSING@mx.google.com> Received: from [172.21.0.2] (unknown [172.18.0.240]) by postal.iol.unh.edu (Postfix) with ESMTP id D9007604D420; Tue, 28 Oct 2025 18:26:39 -0400 (EDT) Subject: |SUCCESS| pw158193 [PATCH] trace: fix build with clang 21 From: dpdklab@iol.unh.edu To: Test Report Cc: dpdk-test-reports@iol.unh.edu In-Reply-To: <20251028143952.4160487-1-david.marchand@redhat.com> References: <20251028143952.4160487-1-david.marchand@redhat.com> Content-Type: text/plain X-BeenThere: test-report@dpdk.org X-Mailman-Version: 2.1.29 Precedence: list List-Id: automatic DPDK test reports List-Unsubscribe: , List-Archive: List-Post: List-Help: List-Subscribe: , Errors-To: test-report-bounces@dpdk.org Test-Label: iol-unit-amd64-testing Test-Status: SUCCESS http://dpdk.org/patch/158193 _Testing PASS_ Submitter: David Marchand Date: Tuesday, October 28 2025 14:39:52 DPDK git baseline: Repo:dpdk Branch: master CommitID:39b54f2dcf44ad1f91eabc7080cd5dea763607fd 158193 --> testing pass Upstream job id: Generic-VM-Unit-Test-DPDK#32131 Test environment and result as below: +-------------------------------+----------------+ | Environment | dpdk_unit_test | +===============================+================+ | CentOS Stream 10 | PASS | +-------------------------------+----------------+ | CentOS Stream 9 | PASS | +-------------------------------+----------------+ | Debian GNU/Linux 12 | PASS | +-------------------------------+----------------+ | Fedora Linux 41 | PASS | +-------------------------------+----------------+ | Fedora Linux 40 | PASS | +-------------------------------+----------------+ | Red Hat Enterprise Linux 8.10 | PASS | +-------------------------------+----------------+ | Fedora Linux 42 | PASS | +-------------------------------+----------------+ | Ubuntu 20.04 | PASS | +-------------------------------+----------------+ | Red Hat Enterprise Linux 9.5 | PASS | +-------------------------------+----------------+ | Ubuntu 22.04 | PASS | +-------------------------------+----------------+ | Ubuntu 24.04 | PASS | +-------------------------------+----------------+ | Windows Server 2022 | PASS | +-------------------------------+----------------+ CentOS Stream 10 Kernel: 5.15 Compiler: gcc gcc (GCC) 14.2.1 20250110 (Red Hat 14.2.1-8) CentOS Stream 9 Kernel: 5.15 Compiler: gcc gcc (GCC) 11.5.0 20240719 (Red Hat 11.5.0-11) Debian GNU/Linux 12 Kernel: 5.15 Compiler: gcc gcc (Debian 12.2.0-14+deb12u1) 12.2.0 Fedora Linux 41 Kernel: 5.15 Compiler: gcc gcc (GCC) 14.3.1 20250523 (Red Hat 14.3.1-1) Fedora Linux 40 Kernel: 5.15 Compiler: gcc gcc (GCC) 14.2.1 20240912 (Red Hat 14.2.1-3) Red Hat Enterprise Linux 8.10 Kernel: 5.15 Compiler: gcc gcc (GCC) 8.5.0 20210514 (Red Hat 8.5.0-22) Fedora Linux 42 Kernel: 5.15 Compiler: clang gcc (GCC) 15.2.1 20250808 (Red Hat 15.2.1-1) Ubuntu 20.04 Kernel: 5.15 Compiler: gcc gcc (Ubuntu 9.4.0-1ubuntu1~20.04.2) 9.4.0 Red Hat Enterprise Linux 9.5 Kernel: 5.15 Compiler: gcc gcc (GCC) 11.5.0 20240719 (Red Hat 11.5.0-2) Ubuntu 22.04 Kernel: 5.15 Compiler: gcc gcc (Ubuntu 11.4.0-1ubuntu1~22.04) 11.4.0 Ubuntu 24.04 Kernel: 5.15 Compiler: gcc gcc (Ubuntu 13.3.0-6ubuntu2~24.04) 13.3.0 Windows Server 2022 Kernel: 10.0.20348.2031 Compiler: clang 15.0.7, gcc 14.1.0 (MinGW), and MSVC VS 19.39.33521 To view detailed results, visit: https://lab.dpdk.org/results/dashboard/patchsets/34405/ UNH-IOL DPDK Community Lab To manage your email subscriptions, visit: https://lab.dpdk.org/results/dashboard/preferences/subscriptions/