From mboxrd@z Thu Jan 1 00:00:00 1970 Return-Path: Received: from mails.dpdk.org (mails.dpdk.org [217.70.189.124]) by inbox.dpdk.org (Postfix) with ESMTP id 77ED448A0A for ; Tue, 28 Oct 2025 23:27:33 +0100 (CET) Received: from mails.dpdk.org (localhost [127.0.0.1]) by mails.dpdk.org (Postfix) with ESMTP id 73E2A40262; Tue, 28 Oct 2025 23:27:33 +0100 (CET) Received: from mail-qv1-f100.google.com (mail-qv1-f100.google.com [209.85.219.100]) by mails.dpdk.org (Postfix) with ESMTP id 6B56240262 for ; Tue, 28 Oct 2025 23:27:32 +0100 (CET) Received: by mail-qv1-f100.google.com with SMTP id 6a1803df08f44-78ea15d3489so57409896d6.3 for ; Tue, 28 Oct 2025 15:27:32 -0700 (PDT) DKIM-Signature: v=1; a=rsa-sha256; c=relaxed/relaxed; d=iol.unh.edu; s=unh-iol; t=1761690452; x=1762295252; darn=dpdk.org; h=references:in-reply-to:cc:to:from:subject:message-id:date:from:to :cc:subject:date:message-id:reply-to; bh=32aDU0QPG64Jl4h1MXa+W2Q8Beo6Ou9ZYXF2SeKsJBk=; b=Fof8UZZDIYZ3OTQEq+upd1jbuj4ZhpkZONvk7Zjn0v1otKCmsl1L93lIQpx+e1sRzt nNOL3XgBE39pTzT6a0EUThc3pPWhKhcgLVnK4HlaO5Uq3GR7rvLQ94wggu66fWRnLlh3 cRejrzcBkZmMp0xNNRK/p9Bo4ryVue6B/RLNY= X-Google-DKIM-Signature: v=1; a=rsa-sha256; c=relaxed/relaxed; d=1e100.net; s=20230601; t=1761690452; x=1762295252; h=references:in-reply-to:cc:to:from:subject:message-id:date :x-gm-message-state:from:to:cc:subject:date:message-id:reply-to; bh=32aDU0QPG64Jl4h1MXa+W2Q8Beo6Ou9ZYXF2SeKsJBk=; b=Np20nR92eZG2rAAc1vf711L+5OoCbtJE08UIC1XnadGv0HzYB2GcDzyuPI2xpLdwqb pUF1F+HOhQ+sbMT2XQDBRTMrejrPyhdKYfMUD6iUgcRGPT3Knh62s7NWSDN3AOxWAPic 0ZJoXorSxEt82d3ymIY2MrHLDiDSpOjpR2gqWAH7YzPjfSZ9reph1P7sEsBdxS4K/CIl cb4QxIue0eoVpNAostfP7wZgoQI9qegf87Z6OWwyTgxrBmjrYjjm6/26R8eFf4ToWSfE PhliwAEti/r44R2muz+gDLqGhocoBXktHVp3Esppq8gqX0J6vA0uSS8UjZ0J+w76w0Ae Eveg== X-Gm-Message-State: AOJu0YwdBC9Q3ulwX1M1G07iMsv7ODenDA0h5TyyFaQyijqeNRKw7Ptj 98n0BabCKxDjUoVgXoMxvnYD2aHlr1rkppjkv8gD8+eTfamjoYT90A6NYd7XY6PkvAQi/gzEiCO rtVf4WzK392EWzM8dW0zQc0lHtrpd4snmx05iUkoOyhJU X-Gm-Gg: ASbGncuKFQBY/tcKt0HwqB1sB4P9DuQoI05N50i1uOCRgRMR9exQy36uwkScWa5dusE Jh5yQLvP/0gF++fsmzfLMYNCIih+p2cWpkM+z6rLmtH5Fjv1MWJNFkP2L8tBUgPjDNI8HnDsDO6 JaXIPb/Wa1/mVoFSaerCY/ZxQlSOUUf3h/EHQj1c+stFRfG9AA8tLIX3u3qkzSd+7PFxxTnbl0n nRIVCcLjdyxIf9dnkrgPtwefBdjob5yenwccZjlYD51KzaPg+jZmS+eyEUaB9lN8b3Mgg7hay44 m0jXVDyv0ZsMfewZlm/ZNELSvEu2P8fGxA7EnmicPIm/krHNua58YsBsbEpGWWbi756UpwKbv7V o4KoAWEDf4BlocOpteziSeNiPCx0Ys7Q= X-Google-Smtp-Source: AGHT+IGl5fVD0FoA2PBH3qLpYIrLg5nl57p67wKye5LeyzvAHXeaBPzBy9U6wwRcty3qJYhVscmqmxDn67UP X-Received: by 2002:a05:6214:19e1:b0:87c:2559:fa28 with SMTP id 6a1803df08f44-88009bd6ea6mr9514136d6.43.1761690451756; Tue, 28 Oct 2025 15:27:31 -0700 (PDT) Received: from postal.iol.unh.edu (postal.iol.unh.edu. [132.177.123.84]) by smtp-relay.gmail.com with ESMTPS id 6a1803df08f44-87fc49c2772sm11586116d6.32.2025.10.28.15.27.31 (version=TLS1_2 cipher=ECDHE-ECDSA-AES128-GCM-SHA256 bits=128/128); Tue, 28 Oct 2025 15:27:31 -0700 (PDT) X-Relaying-Domain: iol.unh.edu Date: Tue, 28 Oct 2025 15:27:31 -0700 (PDT) Message-ID: <69014353.050a0220.2bb60a.6c06SMTPIN_ADDED_MISSING@mx.google.com> Received: from [172.21.0.3] (unknown [172.18.0.240]) by postal.iol.unh.edu (Postfix) with ESMTP id 7D6F5604D420; Tue, 28 Oct 2025 18:27:31 -0400 (EDT) Subject: |SUCCESS| pw158189 [PATCH] doc: fix doxygen errors with v1.15.0 From: dpdklab@iol.unh.edu To: Test Report Cc: dpdk-test-reports@iol.unh.edu In-Reply-To: <20251028141159.177727-1-jerinj@marvell.com> References: <20251028141159.177727-1-jerinj@marvell.com> Content-Type: text/plain X-BeenThere: test-report@dpdk.org X-Mailman-Version: 2.1.29 Precedence: list List-Id: automatic DPDK test reports List-Unsubscribe: , List-Archive: List-Post: List-Help: List-Subscribe: , Errors-To: test-report-bounces@dpdk.org Test-Label: iol-compile-arm64-testing Test-Status: SUCCESS http://dpdk.org/patch/158189 _Testing PASS_ Submitter: Jerin Jacob Date: Tuesday, October 28 2025 14:11:59 DPDK git baseline: Repo:dpdk Branch: master CommitID:39b54f2dcf44ad1f91eabc7080cd5dea763607fd 158189 --> testing pass Upstream job id: Generic-DPDK-Compile-Meson#438618 Test environment and result as below: +------------------------------+--------------------+ | Environment | dpdk_meson_compile | +==============================+====================+ | Ubuntu 20.04 | PASS | +------------------------------+--------------------+ | Red Hat Enterprise Linux 9.5 | PASS | +------------------------------+--------------------+ | Debian GNU/Linux 12 | PASS | +------------------------------+--------------------+ | Fedora Linux 42 | PASS | +------------------------------+--------------------+ | Ubuntu 22.04 | PASS | +------------------------------+--------------------+ | Ubuntu 24.04 | PASS | +------------------------------+--------------------+ | CentOS Stream 9 | PASS | +------------------------------+--------------------+ | CentOS Stream 10 | PASS | +------------------------------+--------------------+ Ubuntu 20.04 Kernel: 5.15 Compiler: aarch64-linux-gnu-gcc gcc (Ubuntu 9.4.0-1ubuntu1~20.04.2) 9.4.0 Red Hat Enterprise Linux 9.5 Kernel: 5.4 Compiler: gcc gcc (GCC) 11.5.0 20240719 (Red Hat 11.5.0-2) Debian GNU/Linux 12 Kernel: 5.4 Compiler: gcc gcc (Debian 12.2.0-14+deb12u1) 12.2.0 Fedora Linux 42 Kernel: 5.4 Compiler: gcc gcc (GCC) 15.2.1 20250808 (Red Hat 15.2.1-1) Ubuntu 22.04 Kernel: 5.4 Compiler: gcc gcc (Ubuntu 11.4.0-1ubuntu1~22.04) 11.4.0 Ubuntu 24.04 Kernel: 5.4 Compiler: gcc gcc (Ubuntu 13.3.0-6ubuntu2~24.04) 13.3.0 CentOS Stream 9 Kernel: 5.4 Compiler: gcc gcc (GCC) 11.5.0 20240719 (Red Hat 11.5.0-11) CentOS Stream 10 Kernel: 5.4 Compiler: gcc gcc (GCC) 14.2.1 20250110 (Red Hat 14.2.1-8) To view detailed results, visit: https://lab.dpdk.org/results/dashboard/patchsets/34403/ UNH-IOL DPDK Community Lab To manage your email subscriptions, visit: https://lab.dpdk.org/results/dashboard/preferences/subscriptions/