From mboxrd@z Thu Jan 1 00:00:00 1970 Return-Path: Received: from mails.dpdk.org (mails.dpdk.org [217.70.189.124]) by inbox.dpdk.org (Postfix) with ESMTP id 67B6148A0A for ; Tue, 28 Oct 2025 23:43:31 +0100 (CET) Received: from mails.dpdk.org (localhost [127.0.0.1]) by mails.dpdk.org (Postfix) with ESMTP id 3AC2840262; Tue, 28 Oct 2025 23:43:31 +0100 (CET) Received: from mail-pj1-f97.google.com (mail-pj1-f97.google.com [209.85.216.97]) by mails.dpdk.org (Postfix) with ESMTP id 6660940262 for ; Tue, 28 Oct 2025 23:43:30 +0100 (CET) Received: by mail-pj1-f97.google.com with SMTP id 98e67ed59e1d1-33292adb180so6601713a91.3 for ; Tue, 28 Oct 2025 15:43:30 -0700 (PDT) DKIM-Signature: v=1; a=rsa-sha256; c=relaxed/relaxed; d=iol.unh.edu; s=unh-iol; t=1761691409; x=1762296209; darn=dpdk.org; h=references:in-reply-to:cc:to:from:subject:message-id:date:from:to :cc:subject:date:message-id:reply-to; bh=jux4Ld42m6bnbB2CGQdRThfed9VJbRnqd+tFGv2kfyM=; b=HlrV9V2klUCGSCX4ZYggbZKOp33X1/NLO108basZkqsCAcQLMDyBwb2XG54WqaY9hp b/3oyyEUo9N7pePTZflONy5T6ZAoOdRIYkh0TyLA7eMDuhx/OyewoXc30ho2a516EosR IZ2HLxgTk1I1A5UlpcDgWuTuSiIDvKpF4T1gk= X-Google-DKIM-Signature: v=1; a=rsa-sha256; c=relaxed/relaxed; d=1e100.net; s=20230601; t=1761691409; x=1762296209; h=references:in-reply-to:cc:to:from:subject:message-id:date :x-gm-message-state:from:to:cc:subject:date:message-id:reply-to; bh=jux4Ld42m6bnbB2CGQdRThfed9VJbRnqd+tFGv2kfyM=; b=WPhCT2wU88KhehY0LvfbHzBH5x2QW/m1S4mTDaZ1Suuj7WkR8JXT+LP/qiK6ghZOFd zKH9sxDV5pJTt1/RT1mpDz8Hhafvl+Fy31aPaIp0StU59sv8TV474FPUoxhO3d3heCrG zkpt1DcboRYxnhil36bfiBoqZZmjs/2D1Lp4ImmKbyHWoTjUD3qbzt7pxiSfXyKO7S4j MVk+vrVVp+w6W+QisRwGC8KnOrrBQmpIyqYhXwsHFlx7BObxIi/fAAyGIwNwfSFpabsj aloYIe6D+EZDy11pEUtUeNUCBxwp4UB8rVwALMQ+bVMaYs/DOjnVE/dSBY2FyJEQRgAP biuw== X-Gm-Message-State: AOJu0YxGJaVOl7BZDgr/PtbiQ5zttGJ3QlHp2PGuj/H4lPA8gwbJvzrE F5fgIFvEDG2jMBE8fY8Qos9nN7cUBZvdNOz/ypJ9v46xuH+8sjGeG7XeaqouLr9aLE7xXwfAYx+ 2hHwHS9SmcHDoq+mxMkZkMMNiYibgRtAR+VKi5G1DoFcp X-Gm-Gg: ASbGncvDvpStUx3U6DaImfNdEWWwtlP4pFZ4MIuMULzlkQ3F81LWjhlig6A1c9tDvmE h+P5YBDCdPJKqbl5Ac0RtC5Jdce7sdt8DzCFEIk4mcgmDLyL53WUiZ5HEY6g7wOpyCcgkxhMnTi 00r6qpzTEzXHq55ZC671iHq8J6JfiTJ7NhCReJnzYfp4CJ2HZ7XfyC2jH0Mn9ItwiG9VmJWc2Vg f2kF8zmlUrH4+cyNECRhU83S0pnvifImmm108OXeysO++o2nFq8L9JBW9hZJUV3YKWOSJi2pMT4 HcK7sYIGsUZyB6VweaGCzGxmrptQrt/OwWuH9DfLQR1+qP1iAEo/uwF9IECCJgACoXogJySumG2 vp8XNXFVMzG87Qd0yjEzUeUZWKKw+1Ek= X-Google-Smtp-Source: AGHT+IETsnj6pQyltoY9g0ZaxGoJQ2cXOQEe0My4ilkBeQh9QsGzWpKvryjjJC/ci/vxbMg7UGABnHWwivd3 X-Received: by 2002:a17:90b:288f:b0:33f:ebc2:634 with SMTP id 98e67ed59e1d1-3403a15ad32mr661104a91.9.1761691409427; Tue, 28 Oct 2025 15:43:29 -0700 (PDT) Received: from postal.iol.unh.edu (postal.iol.unh.edu. [132.177.123.84]) by smtp-relay.gmail.com with ESMTPS id 98e67ed59e1d1-33fed7adf1asm1252920a91.0.2025.10.28.15.43.29 (version=TLS1_2 cipher=ECDHE-ECDSA-AES128-GCM-SHA256 bits=128/128); Tue, 28 Oct 2025 15:43:29 -0700 (PDT) X-Relaying-Domain: iol.unh.edu Date: Tue, 28 Oct 2025 15:43:29 -0700 (PDT) Message-ID: <69014711.170a0220.233b7d.a7f7SMTPIN_ADDED_MISSING@mx.google.com> Received: from [172.21.0.2] (unknown [172.18.0.240]) by postal.iol.unh.edu (Postfix) with ESMTP id A856C604D420; Tue, 28 Oct 2025 18:43:28 -0400 (EDT) Subject: |SUCCESS| pw158206 [PATCH] bitmap: change return value of rte_bitmap From: dpdklab@iol.unh.edu To: Test Report Cc: dpdk-test-reports@iol.unh.edu In-Reply-To: <20251028204432.880074-1-stephen@networkplumber.org> References: <20251028204432.880074-1-stephen@networkplumber.org> Content-Type: text/plain X-BeenThere: test-report@dpdk.org X-Mailman-Version: 2.1.29 Precedence: list List-Id: automatic DPDK test reports List-Unsubscribe: , List-Archive: List-Post: List-Help: List-Subscribe: , Errors-To: test-report-bounces@dpdk.org Test-Label: iol-compile-amd64-testing Test-Status: SUCCESS http://dpdk.org/patch/158206 _Testing PASS_ Submitter: Stephen Hemminger Date: Tuesday, October 28 2025 20:44:32 DPDK git baseline: Repo:dpdk Branch: master CommitID:39b54f2dcf44ad1f91eabc7080cd5dea763607fd 158206 --> testing pass Upstream job id: Windows-Compile-DPDK-VS#7354 Test environment and result as below: +---------------------+--------------------+-------------------+ | Environment | dpdk_meson_compile | dpdk_msvc_compile | +=====================+====================+===================+ | Ubuntu 20.04 | PASS | SKIPPED | +---------------------+--------------------+-------------------+ | FreeBSD 14.2 | PASS | SKIPPED | +---------------------+--------------------+-------------------+ | Windows Server 2022 | SKIPPED | PASS | +---------------------+--------------------+-------------------+ Ubuntu 20.04 Kernel: 4.19 Compiler: gcc gcc (Ubuntu 9.4.0-1ubuntu1~20.04.2) 9.4.0 FreeBSD 14.2 Kernel: 14.2-RELEASE Compiler: clang 18.1.6 Windows Server 2022 Kernel: 10.0.20348.2031 Compiler: clang 15.0.7, gcc 14.1.0 (MinGW), and MSVC VS 19.39.33521 To view detailed results, visit: https://lab.dpdk.org/results/dashboard/patchsets/34409/ UNH-IOL DPDK Community Lab To manage your email subscriptions, visit: https://lab.dpdk.org/results/dashboard/preferences/subscriptions/