From mboxrd@z Thu Jan 1 00:00:00 1970 Return-Path: Received: from mails.dpdk.org (mails.dpdk.org [217.70.189.124]) by inbox.dpdk.org (Postfix) with ESMTP id 8421048A0C for ; Tue, 28 Oct 2025 23:45:54 +0100 (CET) Received: from mails.dpdk.org (localhost [127.0.0.1]) by mails.dpdk.org (Postfix) with ESMTP id 7E96B40262; Tue, 28 Oct 2025 23:45:54 +0100 (CET) Received: from mail-oa1-f100.google.com (mail-oa1-f100.google.com [209.85.160.100]) by mails.dpdk.org (Postfix) with ESMTP id 4AD6540262 for ; Tue, 28 Oct 2025 23:45:53 +0100 (CET) Received: by mail-oa1-f100.google.com with SMTP id 586e51a60fabf-3d275090417so2465884fac.1 for ; Tue, 28 Oct 2025 15:45:53 -0700 (PDT) DKIM-Signature: v=1; a=rsa-sha256; c=relaxed/relaxed; d=iol.unh.edu; s=unh-iol; t=1761691552; x=1762296352; darn=dpdk.org; h=references:in-reply-to:cc:to:from:subject:message-id:date:from:to :cc:subject:date:message-id:reply-to; bh=t7bqaG7khlfy5J7+8HmjcE7lUDi9q2U2KY2Zy4Bqy6Y=; b=VhWqcyCoYmKeoPQ4LNHCEYKuvZ/3yerTH091qt9AX6ty+sJLDh3uwAVtctF0bllhSC zakzpFtW5nbOzJt4GolDP/yEIMMpR3nahElmAc78Uag4Dxf916MYjM6jVuZNILaWpdje MJ/6ebWaeSHU7zYdu8ZdFUvR8ymNzdFm72OYA= X-Google-DKIM-Signature: v=1; a=rsa-sha256; c=relaxed/relaxed; d=1e100.net; s=20230601; t=1761691552; x=1762296352; h=references:in-reply-to:cc:to:from:subject:message-id:date :x-gm-message-state:from:to:cc:subject:date:message-id:reply-to; bh=t7bqaG7khlfy5J7+8HmjcE7lUDi9q2U2KY2Zy4Bqy6Y=; b=IuU6cMmkKloAULYbeB5wEm5KMslxAAJhJtAmKEgbv8vTDI5QYTduilPqymdJkdJ0de bVxMVx74QX0hBgWeZOr0Y0W0blAFU5XHq7bls8q2xOKg/MTs6uc7HHaZCkXXFj6UQ6C2 rQtiPeV5xXlKUa++DJPaoBSDwxaixJVdQ6dfOr2AkywHVpw9tBg/YFbWpwKbL4gr/3dM vwvUHrgnrc9YEAmZ3RksCAh2lkaxC+nlX81lWTU3iUu6irKy5lA3ETim77DKUql/mItE sKYiOWhjpHIj2EASTc8mWsQx/P0gA4ypY5o7tr9i5QoGJA/fYS8SsO3OwalPd517VMpW cn+Q== X-Gm-Message-State: AOJu0YymuXjPjOmWu6uiBvX8fnsdk7VZo6xn+NhNPNLVSpX4+Er08exv KQnopFgYdbT/XI0tjMNN9KMaSkG3y2HAGL/vy6VqrQc1Ac+Mhfokap0m8cbVFeQQ1FFVHD42xEJ c/Rl9jJpii7890b2coAf7cSfHKjypzSGpU2Ln365RTwJNwF+VUC80MwcIQVJn X-Gm-Gg: ASbGnctH/vsZLn9VjMYy2zS5d5ZKzSP49fxsrneA6i5b8KmBzoQcAHzHnsrE4TG6q0f jUqqi53ArsVTB1OD93Wdo6OlCqr8TEdTcnfIJfVB1y8H6U1/EGqk4Sm4L8m521Z83SCtr+h/MGP iBPiPnSYni+R1UNzZbiv9K5jcL5feBPyqy3Qe9oa9njxCFR5VV4uDTdGxIlHYVf9YV1ra9gJ+5X 5WGAi3hfRn6ubg89ZCc4mpJFqiID3VsUN+83cpzojxuL2vv1GDYzH4BhSmMo4LG7Uk/qiJIUUsJ 5r9NaGTSibrLHzevmGq0Fm1m22x4YS656zwXsW4dh8QapBz9+DOQAxWsPB0xX+vIKmUTzVCFiNv h4pGHNMo1 X-Google-Smtp-Source: AGHT+IH9fFixkFKFzOhKPEk6I3+dS6d0JPk4kfTsY9VjhYfTx/wWtwMUYWdNdYnlWcErIROprESwwaEWS8Cu X-Received: by 2002:a05:6871:2b1b:b0:3d2:be9c:6b1c with SMTP id 586e51a60fabf-3d7467ec61dmr427748fac.8.1761691552475; Tue, 28 Oct 2025 15:45:52 -0700 (PDT) Received: from postal.iol.unh.edu (postal.iol.unh.edu. [2606:4100:3880:1234::84]) by smtp-relay.gmail.com with ESMTPS id 586e51a60fabf-3d1e21f22c8sm1106317fac.1.2025.10.28.15.45.52 (version=TLS1_2 cipher=ECDHE-ECDSA-AES128-GCM-SHA256 bits=128/128); Tue, 28 Oct 2025 15:45:52 -0700 (PDT) X-Relaying-Domain: iol.unh.edu Date: Tue, 28 Oct 2025 15:45:52 -0700 (PDT) Message-ID: <690147a0.050a0220.1fb12.484aSMTPIN_ADDED_MISSING@mx.google.com> Received: from [172.21.0.2] (unknown [172.18.0.240]) by postal.iol.unh.edu (Postfix) with ESMTP id F323F604D420; Tue, 28 Oct 2025 18:45:51 -0400 (EDT) Subject: |WARNING| pw158185-158187 [PATCH] [v11,3/3] dts: add Rx Tx offload t From: dpdklab@iol.unh.edu To: Test Report Cc: dpdk-test-reports@iol.unh.edu In-Reply-To: <20251028122240.112773-4-abailey@iol.unh.edu> References: <20251028122240.112773-4-abailey@iol.unh.edu> Content-Type: text/plain X-BeenThere: test-report@dpdk.org X-Mailman-Version: 2.1.29 Precedence: list List-Id: automatic DPDK test reports List-Unsubscribe: , List-Archive: List-Post: List-Help: List-Subscribe: , Errors-To: test-report-bounces@dpdk.org Test-Label: iol-compile-amd64-testing Test-Status: WARNING http://dpdk.org/patch/158187 _Testing issues_ Submitter: Andrew Bailey Date: Tuesday, October 28 2025 12:22:40 DPDK git baseline: Repo:dpdk-next-dts Branch: master CommitID:39b54f2dcf44ad1f91eabc7080cd5dea763607fd 158185-158187 --> testing issues Upstream job id: Windows-Compile-DPDK-Native#31949 Test environment and result as below: +-------------------------------+--------------------+-------------------+------------------+-------------------+-------------------------+ | Environment | dpdk_meson_compile | dpdk_compile_spdk | dpdk_compile_ovs | dpdk_msvc_compile | dpdk_llvm_clang_compile | +===============================+====================+===================+==================+===================+=========================+ | FreeBSD 14.2 | PASS | SKIPPED | SKIPPED | SKIPPED | SKIPPED | +-------------------------------+--------------------+-------------------+------------------+-------------------+-------------------------+ | Ubuntu 20.04 | PASS | SKIPPED | SKIPPED | SKIPPED | SKIPPED | +-------------------------------+--------------------+-------------------+------------------+-------------------+-------------------------+ | CentOS Stream 9 | PASS | WARN | SKIPPED | SKIPPED | SKIPPED | +-------------------------------+--------------------+-------------------+------------------+-------------------+-------------------------+ | CentOS Stream 10 | PASS | SKIPPED | SKIPPED | SKIPPED | SKIPPED | +-------------------------------+--------------------+-------------------+------------------+-------------------+-------------------------+ | Alpine Linux 3.22.0 | PASS | SKIPPED | SKIPPED | SKIPPED | SKIPPED | +-------------------------------+--------------------+-------------------+------------------+-------------------+-------------------------+ | Debian GNU/Linux 12 | PASS | WARN | SKIPPED | SKIPPED | SKIPPED | +-------------------------------+--------------------+-------------------+------------------+-------------------+-------------------------+ | Fedora Linux 42 | PASS | WARN | PASS | SKIPPED | SKIPPED | +-------------------------------+--------------------+-------------------+------------------+-------------------+-------------------------+ | openSUSE Leap 15.6 | PASS | SKIPPED | SKIPPED | SKIPPED | SKIPPED | +-------------------------------+--------------------+-------------------+------------------+-------------------+-------------------------+ | Red Hat Enterprise Linux 8.10 | PASS | SKIPPED | SKIPPED | SKIPPED | SKIPPED | +-------------------------------+--------------------+-------------------+------------------+-------------------+-------------------------+ | Red Hat Enterprise Linux 9.5 | PASS | SKIPPED | SKIPPED | SKIPPED | SKIPPED | +-------------------------------+--------------------+-------------------+------------------+-------------------+-------------------------+ | Ubuntu 22.04 | PASS | WARN | SKIPPED | SKIPPED | SKIPPED | +-------------------------------+--------------------+-------------------+------------------+-------------------+-------------------------+ | Ubuntu 24.04 | PASS | WARN | PASS | SKIPPED | SKIPPED | +-------------------------------+--------------------+-------------------+------------------+-------------------+-------------------------+ | Windows Server 2022 | SKIPPED | SKIPPED | SKIPPED | PASS | PASS | +-------------------------------+--------------------+-------------------+------------------+-------------------+-------------------------+ ==== 20 line log output for Ubuntu 24.04 (dpdk_compile_spdk): ==== --- Failed to get log output --- ==== End log output ==== FreeBSD 14.2 Kernel: 14.2-RELEASE Compiler: clang 18.1.6 Ubuntu 20.04 Kernel: 4.19 Compiler: gcc gcc (Ubuntu 9.4.0-1ubuntu1~20.04.2) 9.4.0 CentOS Stream 9 Kernel: 5.15 Compiler: gcc gcc (GCC) 11.5.0 20240719 (Red Hat 11.5.0-11) CentOS Stream 10 Kernel: 5.15 Compiler: gcc gcc (GCC) 14.2.1 20250110 (Red Hat 14.2.1-8) Alpine Linux 3.22.0 Kernel: 5.15 Compiler: gcc gcc (Alpine 14.2.0) 14.2.0 Debian GNU/Linux 12 Kernel: 5.15 Compiler: gcc gcc (Debian 12.2.0-14+deb12u1) 12.2.0 Fedora Linux 42 Kernel: 5.15 Compiler: clang gcc (GCC) 15.2.1 20250808 (Red Hat 15.2.1-1) openSUSE Leap 15.6 Kernel: 5.15 Compiler: gcc gcc (SUSE Linux) 7.5.0 Red Hat Enterprise Linux 8.10 Kernel: 5.15 Compiler: gcc gcc (GCC) 8.5.0 20210514 (Red Hat 8.5.0-22) Red Hat Enterprise Linux 9.5 Kernel: 5.15 Compiler: gcc gcc (GCC) 11.5.0 20240719 (Red Hat 11.5.0-2) Ubuntu 22.04 Kernel: 5.15 Compiler: gcc gcc (Ubuntu 11.4.0-1ubuntu1~22.04) 11.4.0 Ubuntu 24.04 Kernel: 5.15 Compiler: gcc gcc (Ubuntu 13.3.0-6ubuntu2~24.04) 13.3.0 Windows Server 2022 Kernel: 10.0.20348.2031 Compiler: clang 15.0.7, gcc 14.1.0 (MinGW), and MSVC VS 19.39.33521 To view detailed results, visit: https://lab.dpdk.org/results/dashboard/patchsets/34401/ UNH-IOL DPDK Community Lab To manage your email subscriptions, visit: https://lab.dpdk.org/results/dashboard/preferences/subscriptions/