From mboxrd@z Thu Jan 1 00:00:00 1970 Return-Path: Received: from mails.dpdk.org (mails.dpdk.org [217.70.189.124]) by inbox.dpdk.org (Postfix) with ESMTP id A26BE48A0C for ; Tue, 28 Oct 2025 23:47:05 +0100 (CET) Received: from mails.dpdk.org (localhost [127.0.0.1]) by mails.dpdk.org (Postfix) with ESMTP id 9D06540262; Tue, 28 Oct 2025 23:47:05 +0100 (CET) Received: from mail-il1-f228.google.com (mail-il1-f228.google.com [209.85.166.228]) by mails.dpdk.org (Postfix) with ESMTP id 6F2B640262 for ; Tue, 28 Oct 2025 23:47:04 +0100 (CET) Received: by mail-il1-f228.google.com with SMTP id e9e14a558f8ab-430ccd45f19so69347985ab.1 for ; Tue, 28 Oct 2025 15:47:04 -0700 (PDT) DKIM-Signature: v=1; a=rsa-sha256; c=relaxed/relaxed; d=iol.unh.edu; s=unh-iol; t=1761691624; x=1762296424; darn=dpdk.org; h=references:in-reply-to:cc:to:from:subject:message-id:date:from:to :cc:subject:date:message-id:reply-to; bh=0NWTLou/qqWKcpZZXHcioeVC/0FkD6Yq13bq+mMR1aI=; b=gqER+JTdCTDRyBy/VxtN3+H6W44u6lRZDCj7Xq2Unk96LjfjmzhJgEXxWK3kRR4pZR RwkQsHLPW8QCha2ZUXhPc77s6l0rOHHmuARIvXvfjV7oJs9xv8xeNbUiwkZ1t19HpMWp IP9xi2q1DHVG0gNcLP6mad7HfTeSp647O09l8= X-Google-DKIM-Signature: v=1; a=rsa-sha256; c=relaxed/relaxed; d=1e100.net; s=20230601; t=1761691624; x=1762296424; h=references:in-reply-to:cc:to:from:subject:message-id:date :x-gm-message-state:from:to:cc:subject:date:message-id:reply-to; bh=0NWTLou/qqWKcpZZXHcioeVC/0FkD6Yq13bq+mMR1aI=; b=u7a90DL+FKA6M82oJcvMiOS/vAFMVQD3c3xHXZ/7VrcBKPro0wPs6bdGrifj3Bc3Xs frAAjVEwQoS8w9PozCwj0T6RlDwVjZ7ZwrRvSWO0xSKAcsx+Oe1kNfwNENZAYe4c97HM 6YGYXPn+YsS8D00DywLn8x2Y9JjQMsPnjPVinrF4ATQFG2YLY3XrgO5QrJAjWMNwZxj7 mlnBfzuTnjYifefAQgR+qZ8IrQJihWs2aMPXtBaysYq3Vq5KGpOjhNpRsqNlNh+55x1K mxPKZ6N0RzCWkofutrt2EilcBpOSfa+8VovRoJex6VQYcPdT8Kv6Y9ELuiIqBFAUfwYz wPtQ== X-Gm-Message-State: AOJu0YxruJ6ZjnM1BXr8+WqBNO0vyo/BH/mDyOPPrIgzk+e+HMEChOIb NzJlYInX0s97CeXD0k1/tEK7UJwJ60WyGVhgPP+sV2JTlMAkHwrx0rpadwzsbFAKx/WgmEIIW9O GTzggXbZEH8eqLiY4KMtSoy0YqQ5Oyuk4VoUnwn7sToIK X-Gm-Gg: ASbGncta5KZ1Yb145CtgD27ifVop7PAARnO5sP3X4yOXlD2Qna6bFAaK6FaUdNtb3FT tYcWLqvNr/KzzCDQUo13XeWVxMr2ugNWMvz8olj7I/z6g8i64APTA4JlPjFXu8xQ+qERWsSOqNv 31UiioyNaH6JRvfhpNmXdSiTEBVJsLEmP+sTwGlTFWTRUQ6wWMRa4uE98bZIsZwfWa15aCPsjol fbUo8qtT3p1BO5ScU+KrHhjHiINAolIPSFi5hy2BeWlL6KPehUXzDO83zgkhUVkfuLevaoP4tHF 1KGV/ZfBlR4V5Dh62EXD368LJ6rvmLB+NNg+NNCx4A8GUjTJyaayaZN2D516ebCoc5T0ibwtWUV EgnUWBfx4sgRcDKmnKIfntMqz772rNE8= X-Google-Smtp-Source: AGHT+IE1jJjzxv49CA2hm4saeU2gnqIF0KQ1CnyyZir+93KDGIB2mr3Wza4J9yzKEHTPyKcZQGKXtl7sz3p2 X-Received: by 2002:a05:6e02:1805:b0:430:a538:25e7 with SMTP id e9e14a558f8ab-432f90651b6mr13711525ab.29.1761691623741; Tue, 28 Oct 2025 15:47:03 -0700 (PDT) Received: from postal.iol.unh.edu (postal.iol.unh.edu. [132.177.123.84]) by smtp-relay.gmail.com with ESMTPS id e9e14a558f8ab-431f67ea723sm11895055ab.7.2025.10.28.15.47.03 (version=TLS1_2 cipher=ECDHE-ECDSA-AES128-GCM-SHA256 bits=128/128); Tue, 28 Oct 2025 15:47:03 -0700 (PDT) X-Relaying-Domain: iol.unh.edu Date: Tue, 28 Oct 2025 15:47:03 -0700 (PDT) Message-ID: <690147e7.050a0220.181dda.6c84SMTPIN_ADDED_MISSING@mx.google.com> Received: from [172.21.0.2] (unknown [172.18.0.240]) by postal.iol.unh.edu (Postfix) with ESMTP id 28D54604D420; Tue, 28 Oct 2025 18:47:03 -0400 (EDT) Subject: |WARNING| pw158185-158187 [PATCH] [v11,3/3] dts: add Rx Tx offload t From: dpdklab@iol.unh.edu To: Test Report Cc: dpdk-test-reports@iol.unh.edu In-Reply-To: <20251028122240.112773-4-abailey@iol.unh.edu> References: <20251028122240.112773-4-abailey@iol.unh.edu> Content-Type: text/plain X-BeenThere: test-report@dpdk.org X-Mailman-Version: 2.1.29 Precedence: list List-Id: automatic DPDK test reports List-Unsubscribe: , List-Archive: List-Post: List-Help: List-Subscribe: , Errors-To: test-report-bounces@dpdk.org Test-Label: iol-compile-amd64-testing Test-Status: WARNING http://dpdk.org/patch/158187 _Testing issues_ Submitter: Andrew Bailey Date: Tuesday, October 28 2025 12:22:40 DPDK git baseline: Repo:dpdk-next-dts Branch: master CommitID:39b54f2dcf44ad1f91eabc7080cd5dea763607fd 158185-158187 --> testing issues Upstream job id: Windows-Compile-DPDK-Native#31950 Test environment and result as below: +-------------------------------+--------------------+-------------------+------------------+-------------------+-------------------------+----------------------+ | Environment | dpdk_meson_compile | dpdk_compile_spdk | dpdk_compile_ovs | dpdk_msvc_compile | dpdk_llvm_clang_compile | dpdk_mingw64_compile | +===============================+====================+===================+==================+===================+=========================+======================+ | FreeBSD 14.2 | PASS | SKIPPED | SKIPPED | SKIPPED | SKIPPED | SKIPPED | +-------------------------------+--------------------+-------------------+------------------+-------------------+-------------------------+----------------------+ | Ubuntu 20.04 | PASS | SKIPPED | SKIPPED | SKIPPED | SKIPPED | SKIPPED | +-------------------------------+--------------------+-------------------+------------------+-------------------+-------------------------+----------------------+ | CentOS Stream 9 | PASS | WARN | SKIPPED | SKIPPED | SKIPPED | SKIPPED | +-------------------------------+--------------------+-------------------+------------------+-------------------+-------------------------+----------------------+ | CentOS Stream 10 | PASS | SKIPPED | SKIPPED | SKIPPED | SKIPPED | SKIPPED | +-------------------------------+--------------------+-------------------+------------------+-------------------+-------------------------+----------------------+ | Alpine Linux 3.22.0 | PASS | SKIPPED | SKIPPED | SKIPPED | SKIPPED | SKIPPED | +-------------------------------+--------------------+-------------------+------------------+-------------------+-------------------------+----------------------+ | Debian GNU/Linux 12 | PASS | WARN | SKIPPED | SKIPPED | SKIPPED | SKIPPED | +-------------------------------+--------------------+-------------------+------------------+-------------------+-------------------------+----------------------+ | Fedora Linux 42 | PASS | WARN | PASS | SKIPPED | SKIPPED | SKIPPED | +-------------------------------+--------------------+-------------------+------------------+-------------------+-------------------------+----------------------+ | openSUSE Leap 15.6 | PASS | SKIPPED | SKIPPED | SKIPPED | SKIPPED | SKIPPED | +-------------------------------+--------------------+-------------------+------------------+-------------------+-------------------------+----------------------+ | Red Hat Enterprise Linux 8.10 | PASS | SKIPPED | SKIPPED | SKIPPED | SKIPPED | SKIPPED | +-------------------------------+--------------------+-------------------+------------------+-------------------+-------------------------+----------------------+ | Red Hat Enterprise Linux 9.5 | PASS | SKIPPED | SKIPPED | SKIPPED | SKIPPED | SKIPPED | +-------------------------------+--------------------+-------------------+------------------+-------------------+-------------------------+----------------------+ | Ubuntu 22.04 | PASS | WARN | SKIPPED | SKIPPED | SKIPPED | SKIPPED | +-------------------------------+--------------------+-------------------+------------------+-------------------+-------------------------+----------------------+ | Ubuntu 24.04 | PASS | WARN | PASS | SKIPPED | SKIPPED | SKIPPED | +-------------------------------+--------------------+-------------------+------------------+-------------------+-------------------------+----------------------+ | Windows Server 2022 | SKIPPED | SKIPPED | SKIPPED | PASS | PASS | PASS | +-------------------------------+--------------------+-------------------+------------------+-------------------+-------------------------+----------------------+ ==== 20 line log output for Ubuntu 24.04 (dpdk_compile_spdk): ==== --- Failed to get log output --- ==== End log output ==== FreeBSD 14.2 Kernel: 14.2-RELEASE Compiler: clang 18.1.6 Ubuntu 20.04 Kernel: 4.19 Compiler: gcc gcc (Ubuntu 9.4.0-1ubuntu1~20.04.2) 9.4.0 CentOS Stream 9 Kernel: 5.15 Compiler: gcc gcc (GCC) 11.5.0 20240719 (Red Hat 11.5.0-11) CentOS Stream 10 Kernel: 5.15 Compiler: gcc gcc (GCC) 14.2.1 20250110 (Red Hat 14.2.1-8) Alpine Linux 3.22.0 Kernel: 5.15 Compiler: gcc gcc (Alpine 14.2.0) 14.2.0 Debian GNU/Linux 12 Kernel: 5.15 Compiler: gcc gcc (Debian 12.2.0-14+deb12u1) 12.2.0 Fedora Linux 42 Kernel: 5.15 Compiler: clang gcc (GCC) 15.2.1 20250808 (Red Hat 15.2.1-1) openSUSE Leap 15.6 Kernel: 5.15 Compiler: gcc gcc (SUSE Linux) 7.5.0 Red Hat Enterprise Linux 8.10 Kernel: 5.15 Compiler: gcc gcc (GCC) 8.5.0 20210514 (Red Hat 8.5.0-22) Red Hat Enterprise Linux 9.5 Kernel: 5.15 Compiler: gcc gcc (GCC) 11.5.0 20240719 (Red Hat 11.5.0-2) Ubuntu 22.04 Kernel: 5.15 Compiler: gcc gcc (Ubuntu 11.4.0-1ubuntu1~22.04) 11.4.0 Ubuntu 24.04 Kernel: 5.15 Compiler: gcc gcc (Ubuntu 13.3.0-6ubuntu2~24.04) 13.3.0 Windows Server 2022 Kernel: 10.0.20348.2031 Compiler: clang 15.0.7, gcc 14.1.0 (MinGW), and MSVC VS 19.39.33521 To view detailed results, visit: https://lab.dpdk.org/results/dashboard/patchsets/34401/ UNH-IOL DPDK Community Lab To manage your email subscriptions, visit: https://lab.dpdk.org/results/dashboard/preferences/subscriptions/