From mboxrd@z Thu Jan 1 00:00:00 1970 Return-Path: Received: from mails.dpdk.org (mails.dpdk.org [217.70.189.124]) by inbox.dpdk.org (Postfix) with ESMTP id B162048A0C for ; Tue, 28 Oct 2025 23:47:29 +0100 (CET) Received: from mails.dpdk.org (localhost [127.0.0.1]) by mails.dpdk.org (Postfix) with ESMTP id AD7B740262; Tue, 28 Oct 2025 23:47:29 +0100 (CET) Received: from mail-qv1-f97.google.com (mail-qv1-f97.google.com [209.85.219.97]) by mails.dpdk.org (Postfix) with ESMTP id C491940262 for ; Tue, 28 Oct 2025 23:47:28 +0100 (CET) Received: by mail-qv1-f97.google.com with SMTP id 6a1803df08f44-87d8fa51993so76070116d6.1 for ; Tue, 28 Oct 2025 15:47:28 -0700 (PDT) DKIM-Signature: v=1; a=rsa-sha256; c=relaxed/relaxed; d=iol.unh.edu; s=unh-iol; t=1761691648; x=1762296448; darn=dpdk.org; h=references:in-reply-to:cc:to:from:subject:message-id:date:from:to :cc:subject:date:message-id:reply-to; bh=9z99K6cwj9Ts+IV9kK69hDINLMoFScgZ52VRDIhpZJU=; b=fj2HuDHls+9sZAVp5CFcQINhqgTUnpJYW6zMf+d2MDwPis1HKirlwebSfDKtoHXtKg IeICYXIY1cozpdIRb3XG4QqLHSs5LT03mIE6riI/3sg5HxjpTjDs8+wcTJ+z2C2G1KWm K/ux2VeE2ov/RcktWFur7MvbgXVFExiYK5dB0= X-Google-DKIM-Signature: v=1; a=rsa-sha256; c=relaxed/relaxed; d=1e100.net; s=20230601; t=1761691648; x=1762296448; h=references:in-reply-to:cc:to:from:subject:message-id:date :x-gm-message-state:from:to:cc:subject:date:message-id:reply-to; bh=9z99K6cwj9Ts+IV9kK69hDINLMoFScgZ52VRDIhpZJU=; b=GiVnTgMKtDhHdQ62bZ87ZfhBgvT/LmU2VCIb7uVZo/MW6gIaRhGRj7Lwzj9XDVZtP9 99HLZDa+f8ytNl7+lRvWFQTjarJ7JjxEYKFNhuSREbpRyQvKTuz1HGXAwQwS8zboSa6X ZEiulnM1zJSEL6niA/Dl9GVG0/ORw5qBDuXuY2+CqlTJuzEaz6mOgwxVJ1HO7vRF5+ta zX8V8TuvRhYEUNo3fWW1vcoaNs5YFdjX8jq7wvWXdxHXsHMY1AFYrTHN2ksSOFpVs6bc Dgee7SOSANs5yJfYX6G0HYbRxbBCPyfbIfG45FfDU14S+S2BCO32LAHVizrdfT4OMkca k3Ew== X-Gm-Message-State: AOJu0YzhWv+jVLteo2NH0t6mkMFXp5poE0Qt329s06CYRWwY/Dz2Qr0T PfpGIuddQASzrR0DvZzut5YNKmOL6BCnx8za2y0cMoZNkFHGqQ1el1kf6Ka4saoK2/ksYwiHwjG yTr2c35cpv4maOE28Mo5gQ0skFy1Tk7Di7yZLQUAVf4Cr X-Gm-Gg: ASbGncuH/RcS/c+7Qyip1hOUklOEGYWUlZIV0ZmL9I70HfLfFQJNyQkGnR2129MPLvn 2vdHRC4tIMeO5TH+hSh8tKMTm2xm6yv49mYUVYm6QTNrnMF71mVPY1zLkNdecpIrPBJs427FUPv azdlHlFwPqX52iZBpulXPPnQBDMFm7deXvxMJyO/0LtO5yFYlRrEwR31IK3ogE5Bj4NvSSxMevh 95FI86CNEqeG4Gn8KD7cpRga8iSzd9rR1rv8fHIoj1CF8dPlQSHfI0pn6JxNJYqEENUrJh+wNCV N13ErQIg+SuVb6UczAVzwrLItk47GajqGJ4xywhuB37tGFFvTELBev5PMq/l6puZkHyZyLQD4Pf br7LArUWWWu75QjFJugZqD0nfnr1f6os= X-Google-Smtp-Source: AGHT+IFtY+T1Cwt7px4uwyyJ81dIabMqhc3CwgPisL1VQHnmPoK0gpvMTDLfGaZrRAhe1yBz5kWyT5pacIGm X-Received: by 2002:a05:6214:b61:b0:87f:b58f:154f with SMTP id 6a1803df08f44-88009bfa39emr13251386d6.50.1761691648216; Tue, 28 Oct 2025 15:47:28 -0700 (PDT) Received: from postal.iol.unh.edu (postal.iol.unh.edu. [132.177.123.84]) by smtp-relay.gmail.com with ESMTPS id 6a1803df08f44-87fc49bf0casm11078256d6.31.2025.10.28.15.47.28 (version=TLS1_2 cipher=ECDHE-ECDSA-AES128-GCM-SHA256 bits=128/128); Tue, 28 Oct 2025 15:47:28 -0700 (PDT) X-Relaying-Domain: iol.unh.edu Date: Tue, 28 Oct 2025 15:47:28 -0700 (PDT) Message-ID: <69014800.050a0220.366eb9.42cbSMTPIN_ADDED_MISSING@mx.google.com> Received: from [172.21.0.3] (unknown [172.18.0.240]) by postal.iol.unh.edu (Postfix) with ESMTP id EE824604D420; Tue, 28 Oct 2025 18:47:27 -0400 (EDT) Subject: |SUCCESS| pw158193 [PATCH] trace: fix build with clang 21 From: dpdklab@iol.unh.edu To: Test Report Cc: dpdk-test-reports@iol.unh.edu In-Reply-To: <20251028143952.4160487-1-david.marchand@redhat.com> References: <20251028143952.4160487-1-david.marchand@redhat.com> Content-Type: text/plain X-BeenThere: test-report@dpdk.org X-Mailman-Version: 2.1.29 Precedence: list List-Id: automatic DPDK test reports List-Unsubscribe: , List-Archive: List-Post: List-Help: List-Subscribe: , Errors-To: test-report-bounces@dpdk.org Test-Label: iol-unit-amd64-testing Test-Status: SUCCESS http://dpdk.org/patch/158193 _Testing PASS_ Submitter: David Marchand Date: Tuesday, October 28 2025 14:39:52 DPDK git baseline: Repo:dpdk Branch: master CommitID:39b54f2dcf44ad1f91eabc7080cd5dea763607fd 158193 --> testing pass Upstream job id: Generic-VM-Unit-Test-DPDK#32132 Test environment and result as below: +-------------------------------+----------------+ | Environment | dpdk_unit_test | +===============================+================+ | CentOS Stream 10 | PASS | +-------------------------------+----------------+ | CentOS Stream 9 | PASS | +-------------------------------+----------------+ | Debian GNU/Linux 12 | PASS | +-------------------------------+----------------+ | Fedora Linux 41 | PASS | +-------------------------------+----------------+ | Fedora Linux 40 | PASS | +-------------------------------+----------------+ | Red Hat Enterprise Linux 8.10 | PASS | +-------------------------------+----------------+ | Fedora Linux 42 | PASS | +-------------------------------+----------------+ | Ubuntu 20.04 | PASS | +-------------------------------+----------------+ | Red Hat Enterprise Linux 9.5 | PASS | +-------------------------------+----------------+ | Ubuntu 22.04 | PASS | +-------------------------------+----------------+ | Ubuntu 24.04 | PASS | +-------------------------------+----------------+ | Windows Server 2022 | PASS | +-------------------------------+----------------+ CentOS Stream 10 Kernel: 5.15 Compiler: gcc gcc (GCC) 14.2.1 20250110 (Red Hat 14.2.1-8) CentOS Stream 9 Kernel: 5.15 Compiler: gcc gcc (GCC) 11.5.0 20240719 (Red Hat 11.5.0-11) Debian GNU/Linux 12 Kernel: 5.15 Compiler: gcc gcc (Debian 12.2.0-14+deb12u1) 12.2.0 Fedora Linux 41 Kernel: 5.15 Compiler: gcc gcc (GCC) 14.3.1 20250523 (Red Hat 14.3.1-1) Fedora Linux 40 Kernel: 5.15 Compiler: gcc gcc (GCC) 14.2.1 20240912 (Red Hat 14.2.1-3) Red Hat Enterprise Linux 8.10 Kernel: 5.15 Compiler: gcc gcc (GCC) 8.5.0 20210514 (Red Hat 8.5.0-22) Fedora Linux 42 Kernel: 5.15 Compiler: clang gcc (GCC) 15.2.1 20250808 (Red Hat 15.2.1-1) Ubuntu 20.04 Kernel: 5.15 Compiler: gcc gcc (Ubuntu 9.4.0-1ubuntu1~20.04.2) 9.4.0 Red Hat Enterprise Linux 9.5 Kernel: 5.15 Compiler: gcc gcc (GCC) 11.5.0 20240719 (Red Hat 11.5.0-2) Ubuntu 22.04 Kernel: 5.15 Compiler: gcc gcc (Ubuntu 11.4.0-1ubuntu1~22.04) 11.4.0 Ubuntu 24.04 Kernel: 5.15 Compiler: gcc gcc (Ubuntu 13.3.0-6ubuntu2~24.04) 13.3.0 Windows Server 2022 Kernel: 10.0.20348.2031 Compiler: clang 15.0.7, gcc 14.1.0 (MinGW), and MSVC VS 19.39.33521 To view detailed results, visit: https://lab.dpdk.org/results/dashboard/patchsets/34405/ UNH-IOL DPDK Community Lab To manage your email subscriptions, visit: https://lab.dpdk.org/results/dashboard/preferences/subscriptions/