From mboxrd@z Thu Jan 1 00:00:00 1970 Return-Path: Received: from mails.dpdk.org (mails.dpdk.org [217.70.189.124]) by inbox.dpdk.org (Postfix) with ESMTP id 1A67148A0A for ; Tue, 28 Oct 2025 23:50:28 +0100 (CET) Received: from mails.dpdk.org (localhost [127.0.0.1]) by mails.dpdk.org (Postfix) with ESMTP id EFCDD40262; Tue, 28 Oct 2025 23:50:27 +0100 (CET) Received: from mail-il1-f226.google.com (mail-il1-f226.google.com [209.85.166.226]) by mails.dpdk.org (Postfix) with ESMTP id 1096D40262 for ; Tue, 28 Oct 2025 23:50:27 +0100 (CET) Received: by mail-il1-f226.google.com with SMTP id e9e14a558f8ab-430c773eec6so62526155ab.0 for ; Tue, 28 Oct 2025 15:50:26 -0700 (PDT) DKIM-Signature: v=1; a=rsa-sha256; c=relaxed/relaxed; d=iol.unh.edu; s=unh-iol; t=1761691826; x=1762296626; darn=dpdk.org; h=references:in-reply-to:cc:to:from:subject:message-id:date:from:to :cc:subject:date:message-id:reply-to; bh=QGtapkRvOSEpquZjAELzgqt58dBqXQJstUIKslec30s=; b=AED0WYr9OW2iRg/jhsqxgyGyNIl6Fb/QUKtIl35Jy11EgNQPDZW9qw/Aascgx+HmZt 3fll7b+wlj7mJIjm6R5OT+uR20WlQ5GXuXJhowzsAMHmmw1IaYGsF/Bn6QUioAt2uMt+ MR/35a1SmRdmaZOeBdE0P+WxA4D7PBL1iE+Tk= X-Google-DKIM-Signature: v=1; a=rsa-sha256; c=relaxed/relaxed; d=1e100.net; s=20230601; t=1761691826; x=1762296626; h=references:in-reply-to:cc:to:from:subject:message-id:date :x-gm-message-state:from:to:cc:subject:date:message-id:reply-to; bh=QGtapkRvOSEpquZjAELzgqt58dBqXQJstUIKslec30s=; b=EY/OurWLH433wXtPbuG/iHYnEJ+RDObkVp3G2xarRSpPAQNDIk8f2GKldm86Miojfd 0y4+dGN3/TZDpyPkbbhbGJtW7pXuyake/btXO49EjrE/OdQs/W3L9pq9oVEhoqo2VyPo WWZOz1KFEMhGC118zxdPSTfmT11G/gxZRWc3gMYBbr5b2kWPywHdON7wl1W4em/BIvhR gOnTQWW56NsiM/0Q7LdI7c0CMLI1zgfQ8/ulM7GhcNae2MX7laxiEiqRg/uIHcysFr6R UY3q951QkxYOR9QB7hUt7ZkXB1vT8073iGHDA3neRhFMDZAecQEk/yMZaK9PjyAJN51o +x4g== X-Gm-Message-State: AOJu0Yxdw1MOKNfR2ZvF13vQkxwFqIfn3d+hHPJQGxJFimbw7NDBWsG3 cG3rsb+WZ5jkWfSRh+pcecKmPhVLEJ2UPnopxXhFv5Ndb7d4X4SOrM1vgErysb9sbvSYfV75HXp 1nv60I9sTxsKNWiR/mlmpJOgDDKFAdXxgdUH6P6hx6yv2 X-Gm-Gg: ASbGncsFk7xOxXf0/jdFfL2pN6pBWAB/0fivxN3imt2E3+IfvYYv90AV/0gVE41RFzc w9N4qKax+HZQM/u7aQAvfEQR1z907e4itCiJFOm7Xo2DsNjZCJq38AyQhhw8H2CuX3sTTJP2oVi VHx1kEnjXk6ii+I9Fj2vn2qpkmHtxY9JBRzvOPloAn7/cbJ6Uea/nzxOwXLBOtSvw2Vh03qtRAw RwTrb1TXoZWJmT4/XTYuqRnwdPGxqtuP1Ynu0/xqQud8VzB6cxNFdvQ+M3BFyNW0Xy36NHF9vwP pejptB2Luf0OIUfQNUgRELn6IWTSj5d4MmSbFhc3IUX/8PVYFkAEtTUZtyD0hW7DiXkljqelb8o 03/+R5joxfw8q5lKkFmz2RHVd5SLQwhg= X-Google-Smtp-Source: AGHT+IE+cLQ1CN5PZOPpgJrzNnL5nzuhGOQ1vsdcKqieJQcYjUvOwdkZZIOqVWhsqL5CBWEgBMpCEZWNIF3N X-Received: by 2002:a05:6e02:3983:b0:432:108f:427a with SMTP id e9e14a558f8ab-432f906651fmr13729775ab.32.1761691826244; Tue, 28 Oct 2025 15:50:26 -0700 (PDT) Received: from postal.iol.unh.edu (postal.iol.unh.edu. [132.177.123.84]) by smtp-relay.gmail.com with ESMTPS id e9e14a558f8ab-431f689a18fsm11449125ab.28.2025.10.28.15.50.26 (version=TLS1_2 cipher=ECDHE-ECDSA-AES128-GCM-SHA256 bits=128/128); Tue, 28 Oct 2025 15:50:26 -0700 (PDT) X-Relaying-Domain: iol.unh.edu Date: Tue, 28 Oct 2025 15:50:26 -0700 (PDT) Message-ID: <690148b2.050a0220.28ef38.7071SMTPIN_ADDED_MISSING@mx.google.com> Received: from [172.21.0.2] (unknown [172.18.0.240]) by postal.iol.unh.edu (Postfix) with ESMTP id C6C8D604D420; Tue, 28 Oct 2025 18:50:25 -0400 (EDT) Subject: |SUCCESS| pw158188 [PATCH] vhost: fix external buffer in VDUSE From: dpdklab@iol.unh.edu To: Test Report Cc: dpdk-test-reports@iol.unh.edu, Chenbo Xia , Maxime Coquelin In-Reply-To: <20251028123453.4127525-1-david.marchand@redhat.com> References: <20251028123453.4127525-1-david.marchand@redhat.com> Content-Type: text/plain X-BeenThere: test-report@dpdk.org X-Mailman-Version: 2.1.29 Precedence: list List-Id: automatic DPDK test reports List-Unsubscribe: , List-Archive: List-Post: List-Help: List-Subscribe: , Errors-To: test-report-bounces@dpdk.org Test-Label: iol-compile-amd64-testing Test-Status: SUCCESS http://dpdk.org/patch/158188 _Testing PASS_ Submitter: David Marchand Date: Tuesday, October 28 2025 12:34:53 DPDK git baseline: Repo:dpdk-next-virtio Branch: master CommitID:a62b0fbf8e367c88d28d78210db1b28c8eac4b1b 158188 --> testing pass Upstream job id: Windows-Compile-DPDK-Native#31951 Test environment and result as below: +-------------------------------+--------------------+-------------------+------------------+-------------------+-------------------------+ | Environment | dpdk_meson_compile | dpdk_compile_spdk | dpdk_compile_ovs | dpdk_msvc_compile | dpdk_llvm_clang_compile | +===============================+====================+===================+==================+===================+=========================+ | Ubuntu 20.04 | PASS | SKIPPED | SKIPPED | SKIPPED | SKIPPED | +-------------------------------+--------------------+-------------------+------------------+-------------------+-------------------------+ | FreeBSD 14.2 | PASS | SKIPPED | SKIPPED | SKIPPED | SKIPPED | +-------------------------------+--------------------+-------------------+------------------+-------------------+-------------------------+ | CentOS Stream 9 | PASS | PASS | SKIPPED | SKIPPED | SKIPPED | +-------------------------------+--------------------+-------------------+------------------+-------------------+-------------------------+ | Debian GNU/Linux 12 | PASS | PASS | SKIPPED | SKIPPED | SKIPPED | +-------------------------------+--------------------+-------------------+------------------+-------------------+-------------------------+ | CentOS Stream 10 | PASS | SKIPPED | SKIPPED | SKIPPED | SKIPPED | +-------------------------------+--------------------+-------------------+------------------+-------------------+-------------------------+ | Fedora Linux 42 | PASS | PASS | PASS | SKIPPED | SKIPPED | +-------------------------------+--------------------+-------------------+------------------+-------------------+-------------------------+ | openSUSE Leap 15.6 | PASS | SKIPPED | SKIPPED | SKIPPED | SKIPPED | +-------------------------------+--------------------+-------------------+------------------+-------------------+-------------------------+ | Red Hat Enterprise Linux 9.5 | PASS | SKIPPED | SKIPPED | SKIPPED | SKIPPED | +-------------------------------+--------------------+-------------------+------------------+-------------------+-------------------------+ | Red Hat Enterprise Linux 8.10 | PASS | SKIPPED | SKIPPED | SKIPPED | SKIPPED | +-------------------------------+--------------------+-------------------+------------------+-------------------+-------------------------+ | Ubuntu 22.04 | PASS | PASS | SKIPPED | SKIPPED | SKIPPED | +-------------------------------+--------------------+-------------------+------------------+-------------------+-------------------------+ | Ubuntu 24.04 | PASS | PASS | PASS | SKIPPED | SKIPPED | +-------------------------------+--------------------+-------------------+------------------+-------------------+-------------------------+ | Alpine Linux 3.22.0 | PASS | SKIPPED | SKIPPED | SKIPPED | SKIPPED | +-------------------------------+--------------------+-------------------+------------------+-------------------+-------------------------+ | Windows Server 2022 | SKIPPED | SKIPPED | SKIPPED | PASS | PASS | +-------------------------------+--------------------+-------------------+------------------+-------------------+-------------------------+ Ubuntu 20.04 Kernel: 4.19 Compiler: gcc gcc (Ubuntu 9.4.0-1ubuntu1~20.04.2) 9.4.0 FreeBSD 14.2 Kernel: 14.2-RELEASE Compiler: clang 18.1.6 CentOS Stream 9 Kernel: 5.15 Compiler: gcc gcc (GCC) 11.5.0 20240719 (Red Hat 11.5.0-11) Debian GNU/Linux 12 Kernel: 5.15 Compiler: gcc gcc (Debian 12.2.0-14+deb12u1) 12.2.0 CentOS Stream 10 Kernel: 5.15 Compiler: gcc gcc (GCC) 14.2.1 20250110 (Red Hat 14.2.1-8) Fedora Linux 42 Kernel: 5.15 Compiler: clang gcc (GCC) 15.2.1 20250808 (Red Hat 15.2.1-1) openSUSE Leap 15.6 Kernel: 5.15 Compiler: gcc gcc (SUSE Linux) 7.5.0 Red Hat Enterprise Linux 9.5 Kernel: 5.15 Compiler: gcc gcc (GCC) 11.5.0 20240719 (Red Hat 11.5.0-2) Red Hat Enterprise Linux 8.10 Kernel: 5.15 Compiler: gcc gcc (GCC) 8.5.0 20210514 (Red Hat 8.5.0-22) Ubuntu 22.04 Kernel: 5.15 Compiler: gcc gcc (Ubuntu 11.4.0-1ubuntu1~22.04) 11.4.0 Ubuntu 24.04 Kernel: 5.15 Compiler: gcc gcc (Ubuntu 13.3.0-6ubuntu2~24.04) 13.3.0 Alpine Linux 3.22.0 Kernel: 5.15 Compiler: gcc gcc (Alpine 14.2.0) 14.2.0 Windows Server 2022 Kernel: 10.0.20348.2031 Compiler: clang 15.0.7, gcc 14.1.0 (MinGW), and MSVC VS 19.39.33521 To view detailed results, visit: https://lab.dpdk.org/results/dashboard/patchsets/34402/ UNH-IOL DPDK Community Lab To manage your email subscriptions, visit: https://lab.dpdk.org/results/dashboard/preferences/subscriptions/