From mboxrd@z Thu Jan 1 00:00:00 1970 Return-Path: Received: from mails.dpdk.org (mails.dpdk.org [217.70.189.124]) by inbox.dpdk.org (Postfix) with ESMTP id 4D07C48A0A for ; Tue, 28 Oct 2025 23:53:02 +0100 (CET) Received: from mails.dpdk.org (localhost [127.0.0.1]) by mails.dpdk.org (Postfix) with ESMTP id 39E0F40262; Tue, 28 Oct 2025 23:53:02 +0100 (CET) Received: from mail-vs1-f97.google.com (mail-vs1-f97.google.com [209.85.217.97]) by mails.dpdk.org (Postfix) with ESMTP id 94D2B40262 for ; Tue, 28 Oct 2025 23:53:00 +0100 (CET) Received: by mail-vs1-f97.google.com with SMTP id ada2fe7eead31-5db3b074f58so6493141137.2 for ; Tue, 28 Oct 2025 15:53:00 -0700 (PDT) DKIM-Signature: v=1; a=rsa-sha256; c=relaxed/relaxed; d=iol.unh.edu; s=unh-iol; t=1761691980; x=1762296780; darn=dpdk.org; h=references:in-reply-to:cc:to:from:subject:message-id:date:from:to :cc:subject:date:message-id:reply-to; bh=GAHPk+ea7k+egnBj7YTy62UVaw6J6iYEsOIO7SXko84=; b=jNPKXNJD5OH/FjDGRrQxF6Z3KifGIhcMh2uUPySeNELLRXCuJtHaZeu45dooQSZE0Z FuUBi+uw6s8C3VrcYf2U3mQwQyS4gvpCoh5A2mPFQfZc7iv3mBiUg70HScTVA1f7WCoS N13nDqJSa0l/+fyf2tunHEVYAHLx7mRtt03oA= X-Google-DKIM-Signature: v=1; a=rsa-sha256; c=relaxed/relaxed; d=1e100.net; s=20230601; t=1761691980; x=1762296780; h=references:in-reply-to:cc:to:from:subject:message-id:date :x-gm-message-state:from:to:cc:subject:date:message-id:reply-to; bh=GAHPk+ea7k+egnBj7YTy62UVaw6J6iYEsOIO7SXko84=; b=SW5lxe4CAG1SlAbggd8z+/1Y9Qn5RwDSqbHdOthSNC6nutqVvVj9PE667FPGowyhxl 6Kk8FQNyNU4dPszZPBnPB4mwnv9jk2fTkWEfmPZjUQhJCpLatvlO5H9o0BeOfj0fpiQ1 /BcN+hOHRMO9wJkDu3tcXNCyDBBzk69qflRN/f1BXdZMaxoCJBY4rPtwhsnmtlAnqwvy 3Qtd31bAbaK92CugPpmnk5xU1QRs9eCy5U7PXyB5yqRn2oD6v6EkC2PtOY7KlVQnJdpI oUKIM49ka23Bb5kKqqgrC22/FIYuzXFY7NsChZKTcAH6CQI6SlVN9RddFXFBPTo8CMzz /wEA== X-Gm-Message-State: AOJu0YwNDWkb1iybnd8TM9VY/i5lABCuTEwHF2kgtHDGdJR53s/HW2cX Js8y1aqxpdl+9g3JuJIjDVw2MOMa3zbKtujlxtzYG3wASFHdK+47RuMywVCct+3IyPMsvDoizkE uPO36h7ph5DC18X1uJuHqRWUIeqHwtO9N2RiIDkpbWQ+G4V0tvE+gOYyLKzlQ X-Gm-Gg: ASbGncvglE6uAFOXADMRibyxxtQ2tDwps/7MFZUjpzVVvL0+IK+zNJNjd59wUkP2nZR 6gcg4lzEvLvp8mu9kz5LJMueNnhshsr9dzNXjXoYuojkBiyjJXSEENHx8DRRJEf4uWBucbaCF7y CKPlTkSSaBWwbMe7mdxFdYHsVvFA19zeWMyN+rrX2yACwj/HKF7ncqT7/fKM0o94Py4SdONivTA R7b560Xpp8SBBuhYHeuRB66y1xGDl0W0FiVm/9DYeIDpQWN8iait0068dutJCGN5H9WtOXRtoO6 95cXGtdn6FPXJzN4q8d8K00oWm1ivhf9Xg4RtDvO2SY8JP9spVmYJ/QYuGpADAMuhX9XsxV+rrU SszatrY9X X-Google-Smtp-Source: AGHT+IG/1DBfJjRR/rBmKlRYFiRAthRYkfAxoYBwm+Ek14YE1/rlAe2lQ0iPBxcgAmL4WjO7s7TG/7K5YC8A X-Received: by 2002:a05:6102:390e:b0:5d3:fef5:8724 with SMTP id ada2fe7eead31-5db906918dcmr280511137.26.1761691979819; Tue, 28 Oct 2025 15:52:59 -0700 (PDT) Received: from postal.iol.unh.edu (postal.iol.unh.edu. [2606:4100:3880:1234::84]) by smtp-relay.gmail.com with ESMTPS id ada2fe7eead31-5db4e552b30sm1336411137.0.2025.10.28.15.52.59 (version=TLS1_2 cipher=ECDHE-ECDSA-AES128-GCM-SHA256 bits=128/128); Tue, 28 Oct 2025 15:52:59 -0700 (PDT) X-Relaying-Domain: iol.unh.edu Date: Tue, 28 Oct 2025 15:52:59 -0700 (PDT) Message-ID: <6901494b.050a0220.31d5e3.ea2aSMTPIN_ADDED_MISSING@mx.google.com> Received: from [172.21.0.2] (unknown [172.18.0.240]) by postal.iol.unh.edu (Postfix) with ESMTP id 57C0F604D420; Tue, 28 Oct 2025 18:52:59 -0400 (EDT) Subject: |SUCCESS| pw158188 [PATCH] vhost: fix external buffer in VDUSE From: dpdklab@iol.unh.edu To: Test Report Cc: dpdk-test-reports@iol.unh.edu, Chenbo Xia , Maxime Coquelin In-Reply-To: <20251028123453.4127525-1-david.marchand@redhat.com> References: <20251028123453.4127525-1-david.marchand@redhat.com> Content-Type: text/plain X-BeenThere: test-report@dpdk.org X-Mailman-Version: 2.1.29 Precedence: list List-Id: automatic DPDK test reports List-Unsubscribe: , List-Archive: List-Post: List-Help: List-Subscribe: , Errors-To: test-report-bounces@dpdk.org Test-Label: iol-compile-amd64-testing Test-Status: SUCCESS http://dpdk.org/patch/158188 _Testing PASS_ Submitter: David Marchand Date: Tuesday, October 28 2025 12:34:53 DPDK git baseline: Repo:dpdk-next-virtio Branch: master CommitID:a62b0fbf8e367c88d28d78210db1b28c8eac4b1b 158188 --> testing pass Upstream job id: Windows-Compile-DPDK-Native#31952 Test environment and result as below: +-------------------------------+--------------------+-------------------+------------------+-------------------+-------------------------+----------------------+ | Environment | dpdk_meson_compile | dpdk_compile_spdk | dpdk_compile_ovs | dpdk_msvc_compile | dpdk_llvm_clang_compile | dpdk_mingw64_compile | +===============================+====================+===================+==================+===================+=========================+======================+ | Ubuntu 20.04 | PASS | SKIPPED | SKIPPED | SKIPPED | SKIPPED | SKIPPED | +-------------------------------+--------------------+-------------------+------------------+-------------------+-------------------------+----------------------+ | FreeBSD 14.2 | PASS | SKIPPED | SKIPPED | SKIPPED | SKIPPED | SKIPPED | +-------------------------------+--------------------+-------------------+------------------+-------------------+-------------------------+----------------------+ | CentOS Stream 9 | PASS | PASS | SKIPPED | SKIPPED | SKIPPED | SKIPPED | +-------------------------------+--------------------+-------------------+------------------+-------------------+-------------------------+----------------------+ | Debian GNU/Linux 12 | PASS | PASS | SKIPPED | SKIPPED | SKIPPED | SKIPPED | +-------------------------------+--------------------+-------------------+------------------+-------------------+-------------------------+----------------------+ | CentOS Stream 10 | PASS | SKIPPED | SKIPPED | SKIPPED | SKIPPED | SKIPPED | +-------------------------------+--------------------+-------------------+------------------+-------------------+-------------------------+----------------------+ | Fedora Linux 42 | PASS | PASS | PASS | SKIPPED | SKIPPED | SKIPPED | +-------------------------------+--------------------+-------------------+------------------+-------------------+-------------------------+----------------------+ | openSUSE Leap 15.6 | PASS | SKIPPED | SKIPPED | SKIPPED | SKIPPED | SKIPPED | +-------------------------------+--------------------+-------------------+------------------+-------------------+-------------------------+----------------------+ | Red Hat Enterprise Linux 9.5 | PASS | SKIPPED | SKIPPED | SKIPPED | SKIPPED | SKIPPED | +-------------------------------+--------------------+-------------------+------------------+-------------------+-------------------------+----------------------+ | Red Hat Enterprise Linux 8.10 | PASS | SKIPPED | SKIPPED | SKIPPED | SKIPPED | SKIPPED | +-------------------------------+--------------------+-------------------+------------------+-------------------+-------------------------+----------------------+ | Ubuntu 22.04 | PASS | PASS | SKIPPED | SKIPPED | SKIPPED | SKIPPED | +-------------------------------+--------------------+-------------------+------------------+-------------------+-------------------------+----------------------+ | Ubuntu 24.04 | PASS | PASS | PASS | SKIPPED | SKIPPED | SKIPPED | +-------------------------------+--------------------+-------------------+------------------+-------------------+-------------------------+----------------------+ | Alpine Linux 3.22.0 | PASS | SKIPPED | SKIPPED | SKIPPED | SKIPPED | SKIPPED | +-------------------------------+--------------------+-------------------+------------------+-------------------+-------------------------+----------------------+ | Windows Server 2022 | SKIPPED | SKIPPED | SKIPPED | PASS | PASS | PASS | +-------------------------------+--------------------+-------------------+------------------+-------------------+-------------------------+----------------------+ Ubuntu 20.04 Kernel: 4.19 Compiler: gcc gcc (Ubuntu 9.4.0-1ubuntu1~20.04.2) 9.4.0 FreeBSD 14.2 Kernel: 14.2-RELEASE Compiler: clang 18.1.6 CentOS Stream 9 Kernel: 5.15 Compiler: gcc gcc (GCC) 11.5.0 20240719 (Red Hat 11.5.0-11) Debian GNU/Linux 12 Kernel: 5.15 Compiler: gcc gcc (Debian 12.2.0-14+deb12u1) 12.2.0 CentOS Stream 10 Kernel: 5.15 Compiler: gcc gcc (GCC) 14.2.1 20250110 (Red Hat 14.2.1-8) Fedora Linux 42 Kernel: 5.15 Compiler: clang gcc (GCC) 15.2.1 20250808 (Red Hat 15.2.1-1) openSUSE Leap 15.6 Kernel: 5.15 Compiler: gcc gcc (SUSE Linux) 7.5.0 Red Hat Enterprise Linux 9.5 Kernel: 5.15 Compiler: gcc gcc (GCC) 11.5.0 20240719 (Red Hat 11.5.0-2) Red Hat Enterprise Linux 8.10 Kernel: 5.15 Compiler: gcc gcc (GCC) 8.5.0 20210514 (Red Hat 8.5.0-22) Ubuntu 22.04 Kernel: 5.15 Compiler: gcc gcc (Ubuntu 11.4.0-1ubuntu1~22.04) 11.4.0 Ubuntu 24.04 Kernel: 5.15 Compiler: gcc gcc (Ubuntu 13.3.0-6ubuntu2~24.04) 13.3.0 Alpine Linux 3.22.0 Kernel: 5.15 Compiler: gcc gcc (Alpine 14.2.0) 14.2.0 Windows Server 2022 Kernel: 10.0.20348.2031 Compiler: clang 15.0.7, gcc 14.1.0 (MinGW), and MSVC VS 19.39.33521 To view detailed results, visit: https://lab.dpdk.org/results/dashboard/patchsets/34402/ UNH-IOL DPDK Community Lab To manage your email subscriptions, visit: https://lab.dpdk.org/results/dashboard/preferences/subscriptions/