From mboxrd@z Thu Jan 1 00:00:00 1970 Return-Path: Received: from mails.dpdk.org (mails.dpdk.org [217.70.189.124]) by inbox.dpdk.org (Postfix) with ESMTP id 0B74448A0A for ; Tue, 28 Oct 2025 23:59:03 +0100 (CET) Received: from mails.dpdk.org (localhost [127.0.0.1]) by mails.dpdk.org (Postfix) with ESMTP id DB7F740262; Tue, 28 Oct 2025 23:59:02 +0100 (CET) Received: from mail-yw1-f225.google.com (mail-yw1-f225.google.com [209.85.128.225]) by mails.dpdk.org (Postfix) with ESMTP id 194EA40262 for ; Tue, 28 Oct 2025 23:59:01 +0100 (CET) Received: by mail-yw1-f225.google.com with SMTP id 00721157ae682-7861978aca2so6731867b3.1 for ; Tue, 28 Oct 2025 15:59:01 -0700 (PDT) DKIM-Signature: v=1; a=rsa-sha256; c=relaxed/relaxed; d=iol.unh.edu; s=unh-iol; t=1761692340; x=1762297140; darn=dpdk.org; h=references:in-reply-to:cc:to:from:subject:message-id:date:from:to :cc:subject:date:message-id:reply-to; bh=X090eAwaFs7NElUO91eD3UtOZbLhIZ7ktlIUrTmCqAQ=; b=OaubMXJtcs1ak2mlSD7cjXksvjIFF0FR9guOx5tyFdoYScwvxslgNnVHkGSQSeoqDP G3M4etmxkA+gWuOCNLcBRig6WhUytyrNqq+JChLOoM++cAvREtgV/992qhtJUTs9F3vl jdHSu0LQqF4JvF+c7mCPhmog8CRV+xIuMwSGw= X-Google-DKIM-Signature: v=1; a=rsa-sha256; c=relaxed/relaxed; d=1e100.net; s=20230601; t=1761692340; x=1762297140; h=references:in-reply-to:cc:to:from:subject:message-id:date :x-gm-message-state:from:to:cc:subject:date:message-id:reply-to; bh=X090eAwaFs7NElUO91eD3UtOZbLhIZ7ktlIUrTmCqAQ=; b=efHjMQwr3EfmffvJm1GE69+8V8TUkVPMjyqMNWoiB06maBXiC2P89J7xwBcRANmgLH F3NdYdcqlnJ08rjR6h2g2EuU4GkCV8c6OUyZAz3DJYjYo9lPJROJ2qdr7U6f+IOea7af DPP3iaJ45z9fAF7jszYvuUJ1FscxYDAp+QF3VVDMZJSsfBfjtDftKij8Ptl7wMCC/M2q u88XmVu5MsRlDtWqpsj1d/BacojAsk+KkrdR7dOAM8KBf/EpLKlJPu6pSj4td7T/08IZ d2nH3uCgj7pukyYmeWN7rh0gv4RtF3hGR+wl7XoFi/mKTi9eYG6IAYAnQjU1mJx4x0nL A55Q== X-Gm-Message-State: AOJu0YzEe2VVxcNNfDz3S9ytTQ87vzEXjvHYA0WdScrMB7MiyosyVfl3 U4fer6pTUJbXPgfF/4q8CXmRHkeLD+k+zJj2RlUPshd5hO9H7rMOPSDVlRM94Iik6J8nnEqO0vQ F87v5TlNfuRbDuVqCuJVYxyIOuGMYtlcmlQhCUxpkYoQ/34k4anKP4joS5G2C X-Gm-Gg: ASbGncuPpFyWN8MjVXr/I6FG6HWoikf1uxG6fHcvluy4VD1mOKvqw2NrnacyDdJ2lRd 8AWb9Jq+qsIRMSVd8/QYX2iOmalm88ytgUUwu7tUo234LZIo7ns9JAp2QKal6ZycwHIXifyrD+b wgCEfuPsnEtHrmTY+5G8YALw2EbJEcXEetLL/fbTczBZdu4DCcYUGj5W305FkXGBRQKt3B7p9oH UjKo6zdo2238Xz3PW7Ef5HQhF/pxWoXzJxgnAgwtuz46pUCIywUpuLb7XqKCBPVgHtMk8uYuEcB OiScID+ajaDeR3ZVX+/4qe6UbD6th3EGhKhf3dqgDIl3bdKs+y+XE7w7pCgzqiKFv7eXyMuFXLd Khi+NerP6 X-Google-Smtp-Source: AGHT+IGeqmyMeRpwdNa8SLgw5W2qkBlgo6M6DPkufw09lk95r3NtIgdX4tQ11zdtB+ZV6MeWGTIfKjmKUJjN X-Received: by 2002:a05:690c:7603:b0:784:8ada:6b20 with SMTP id 00721157ae682-786290187bcmr7920737b3.19.1761692340368; Tue, 28 Oct 2025 15:59:00 -0700 (PDT) Received: from postal.iol.unh.edu (postal.iol.unh.edu. [2606:4100:3880:1234::84]) by smtp-relay.gmail.com with ESMTPS id 00721157ae682-785ed144417sm8252307b3.4.2025.10.28.15.59.00 (version=TLS1_2 cipher=ECDHE-ECDSA-AES128-GCM-SHA256 bits=128/128); Tue, 28 Oct 2025 15:59:00 -0700 (PDT) X-Relaying-Domain: iol.unh.edu Date: Tue, 28 Oct 2025 15:59:00 -0700 (PDT) Message-ID: <69014ab4.050a0220.236b38.5c59SMTPIN_ADDED_MISSING@mx.google.com> Received: from [172.21.0.4] (unknown [172.18.0.240]) by postal.iol.unh.edu (Postfix) with ESMTP id F1838604D420; Tue, 28 Oct 2025 18:58:59 -0400 (EDT) Subject: |SUCCESS| pw158194-158201 [PATCH] [v1,8/8] vfio: deprecate group-bas From: dpdklab@iol.unh.edu To: Test Report Cc: dpdk-test-reports@iol.unh.edu In-Reply-To: References: Content-Type: text/plain X-BeenThere: test-report@dpdk.org X-Mailman-Version: 2.1.29 Precedence: list List-Id: automatic DPDK test reports List-Unsubscribe: , List-Archive: List-Post: List-Help: List-Subscribe: , Errors-To: test-report-bounces@dpdk.org Test-Label: iol-unit-amd64-testing Test-Status: SUCCESS http://dpdk.org/patch/158201 _Testing PASS_ Submitter: Anatoly Burakov Date: Tuesday, October 28 2025 16:43:21 DPDK git baseline: Repo:dpdk Branch: master CommitID:39b54f2dcf44ad1f91eabc7080cd5dea763607fd 158194-158201 --> testing pass Upstream job id: Generic-VM-Unit-Test-DPDK#32133 Test environment and result as below: +-------------------------------+----------------+ | Environment | dpdk_unit_test | +===============================+================+ | CentOS Stream 9 | PASS | +-------------------------------+----------------+ | CentOS Stream 10 | PASS | +-------------------------------+----------------+ | Debian GNU/Linux 12 | PASS | +-------------------------------+----------------+ | Fedora Linux 40 | PASS | +-------------------------------+----------------+ | Fedora Linux 41 | PASS | +-------------------------------+----------------+ | Fedora Linux 42 | PASS | +-------------------------------+----------------+ | Ubuntu 22.04 | PASS | +-------------------------------+----------------+ | Red Hat Enterprise Linux 9.5 | PASS | +-------------------------------+----------------+ | Ubuntu 24.04 | PASS | +-------------------------------+----------------+ | Red Hat Enterprise Linux 8.10 | PASS | +-------------------------------+----------------+ | Ubuntu 20.04 | PASS | +-------------------------------+----------------+ | Windows Server 2022 | PASS | +-------------------------------+----------------+ CentOS Stream 9 Kernel: 5.15 Compiler: gcc gcc (GCC) 11.5.0 20240719 (Red Hat 11.5.0-11) CentOS Stream 10 Kernel: 5.15 Compiler: gcc gcc (GCC) 14.2.1 20250110 (Red Hat 14.2.1-8) Debian GNU/Linux 12 Kernel: 5.15 Compiler: gcc gcc (Debian 12.2.0-14+deb12u1) 12.2.0 Fedora Linux 40 Kernel: 5.15 Compiler: clang gcc (GCC) 14.2.1 20240912 (Red Hat 14.2.1-3) Fedora Linux 41 Kernel: 5.15 Compiler: clang gcc (GCC) 14.3.1 20250523 (Red Hat 14.3.1-1) Fedora Linux 42 Kernel: 5.15 Compiler: gcc gcc (GCC) 15.2.1 20250808 (Red Hat 15.2.1-1) Ubuntu 22.04 Kernel: 5.15 Compiler: gcc gcc (Ubuntu 11.4.0-1ubuntu1~22.04) 11.4.0 Red Hat Enterprise Linux 9.5 Kernel: 5.15 Compiler: gcc gcc (GCC) 11.5.0 20240719 (Red Hat 11.5.0-2) Ubuntu 24.04 Kernel: 5.15 Compiler: gcc gcc (Ubuntu 13.3.0-6ubuntu2~24.04) 13.3.0 Red Hat Enterprise Linux 8.10 Kernel: 5.15 Compiler: gcc gcc (GCC) 8.5.0 20210514 (Red Hat 8.5.0-22) Ubuntu 20.04 Kernel: 5.15 Compiler: gcc gcc (Ubuntu 9.4.0-1ubuntu1~20.04.2) 9.4.0 Windows Server 2022 Kernel: 10.0.20348.2031 Compiler: clang 15.0.7, gcc 14.1.0 (MinGW), and MSVC VS 19.39.33521 To view detailed results, visit: https://lab.dpdk.org/results/dashboard/patchsets/34406/ UNH-IOL DPDK Community Lab To manage your email subscriptions, visit: https://lab.dpdk.org/results/dashboard/preferences/subscriptions/