From mboxrd@z Thu Jan 1 00:00:00 1970 Return-Path: Received: from mails.dpdk.org (mails.dpdk.org [217.70.189.124]) by inbox.dpdk.org (Postfix) with ESMTP id E7F3A48A0C for ; Wed, 29 Oct 2025 00:01:29 +0100 (CET) Received: from mails.dpdk.org (localhost [127.0.0.1]) by mails.dpdk.org (Postfix) with ESMTP id E35F740262; Wed, 29 Oct 2025 00:01:29 +0100 (CET) Received: from mail-qk1-f225.google.com (mail-qk1-f225.google.com [209.85.222.225]) by mails.dpdk.org (Postfix) with ESMTP id B301540262 for ; Wed, 29 Oct 2025 00:01:28 +0100 (CET) Received: by mail-qk1-f225.google.com with SMTP id af79cd13be357-8906eb94264so767998785a.0 for ; Tue, 28 Oct 2025 16:01:28 -0700 (PDT) DKIM-Signature: v=1; a=rsa-sha256; c=relaxed/relaxed; d=iol.unh.edu; s=unh-iol; t=1761692488; x=1762297288; darn=dpdk.org; h=references:in-reply-to:cc:to:from:subject:message-id:date:from:to :cc:subject:date:message-id:reply-to; bh=5rDHkxXwVYPhQjdUVYUD4PAVUKHJkoZzuLebyFygE+c=; b=AvQqoCZhPrI79roPaUk9Vw5+dmE6IAhumUC//WtEOWTevLBzVp71KuAr7OqI6A1Nrj /8taWusqSeX5q8vtsnERMGQmbQ4zFzBA9ikNXOx0SauZOw44JyktFO/9UZAcQRv8JVb0 LAiADzSw1BB2TLKKZ87ltJsaYVnTB7zD9ej84= X-Google-DKIM-Signature: v=1; a=rsa-sha256; c=relaxed/relaxed; d=1e100.net; s=20230601; t=1761692488; x=1762297288; h=references:in-reply-to:cc:to:from:subject:message-id:date :x-gm-message-state:from:to:cc:subject:date:message-id:reply-to; bh=5rDHkxXwVYPhQjdUVYUD4PAVUKHJkoZzuLebyFygE+c=; b=oIv+26khtpIBpi0YUjdfkjSz7ee6fxlAIngLLGxpUbB7tErrnD3zhZV219WZYiwn/e JdRUk6jVCYQMzRalR8FuUFDwhkgoA2+J8EpBs51fGf4KqHmoGxJtpm5aPv8j4HElka36 Z+Z7IAxOLbPydybZgU5+Z/SEDz7dk1bzNz/jUk9TTTUwKH6YuADsSGb9hANxWUe0SjVT QgewVlX4Xu8NQuGz19x4p57V/XZzgby8tOxj/RD13iO0SpSNXVA+Besikz8J3FBN9rJG 1PovO7tn4wLy+3WfO4h7ZnCfFKu6WW5+O2nGLcMvyf0UJxjLRTjBUtjXq1L47lyEAFIg /E9g== X-Gm-Message-State: AOJu0YwdTglpJcC6caAYuf/MPAj8KFqcmy9V5iRbf2z+PV+3ZtZOb6q5 J1L0BQPnUdMp4FgOOFVUakSCuT6ZR2eQYJ64i/TDRFo41zvBlX7zDVJ6Ugc48OzylQZwpg29Qvc VVl8WyXqY8ReQ92fWzmz9KwoTJGXRA7OLbhaLKcxdot50 X-Gm-Gg: ASbGnctf/luRDZSIHilE1e5EBnmBiUnFq3Juhf9DDN9jcEAoAkUyCJQw1239MfX/1LY DoqpK0w3ZD1Ea8wBgvGj3CeNiAmDyRAUGprHyB0lPvcMcIwkFKaFzOnY46EgrbjkVSDjaySzZmR ODCArBfHrFEdgH41m3Jen+7SHUYGUQhZz30bRDAa68J7EPB0JhgtX4XBUfqtRYKj3GQAMTIVDKh xhyGPIpXtQ8hcSQg8h8NfuzS5IYHLIfzDLcKTNMGCzctQEV4UEQNcqShGZyYpioyXSGZ7nQBofH MyhCK1jRvJx5Vn5iF34beY7GzsUIXilucO/FoEkWhoNQBwWfa+HtnKGzZcQQjCBG9mESEhLBHe3 awf0CkG9Omk5X47zsA6KBO33Ak1ujRVI= X-Google-Smtp-Source: AGHT+IHrEiErVcYyro9NmWysnq7yufkh8Bl/cI7cXNbNLknZojYOaC+ZGJ0SNv+GZhP7Lxk63pIeOQi7hrTJ X-Received: by 2002:a05:620a:199f:b0:890:ea32:2508 with SMTP id af79cd13be357-8a8e5aad52dmr154517285a.70.1761692487907; Tue, 28 Oct 2025 16:01:27 -0700 (PDT) Received: from postal.iol.unh.edu (postal.iol.unh.edu. [132.177.123.84]) by smtp-relay.gmail.com with ESMTPS id 6a1803df08f44-87fc49dbba7sm11803726d6.34.2025.10.28.16.01.27 (version=TLS1_2 cipher=ECDHE-ECDSA-AES128-GCM-SHA256 bits=128/128); Tue, 28 Oct 2025 16:01:27 -0700 (PDT) X-Relaying-Domain: iol.unh.edu Date: Tue, 28 Oct 2025 16:01:27 -0700 (PDT) Message-ID: <69014b47.050a0220.315307.6f42SMTPIN_ADDED_MISSING@mx.google.com> Received: from [172.21.0.3] (unknown [172.18.0.240]) by postal.iol.unh.edu (Postfix) with ESMTP id 9C0A2604D420; Tue, 28 Oct 2025 19:01:27 -0400 (EDT) Subject: |WARNING| pw158189 [PATCH] doc: fix doxygen errors with v1.15.0 From: dpdklab@iol.unh.edu To: Test Report Cc: dpdk-test-reports@iol.unh.edu In-Reply-To: <20251028141159.177727-1-jerinj@marvell.com> References: <20251028141159.177727-1-jerinj@marvell.com> Content-Type: text/plain X-BeenThere: test-report@dpdk.org X-Mailman-Version: 2.1.29 Precedence: list List-Id: automatic DPDK test reports List-Unsubscribe: , List-Archive: List-Post: List-Help: List-Subscribe: , Errors-To: test-report-bounces@dpdk.org Test-Label: iol-compile-amd64-testing Test-Status: WARNING http://dpdk.org/patch/158189 _Testing issues_ Submitter: Jerin Jacob Date: Tuesday, October 28 2025 14:11:59 DPDK git baseline: Repo:dpdk Branch: master CommitID:39b54f2dcf44ad1f91eabc7080cd5dea763607fd 158189 --> testing issues Upstream job id: Windows-Compile-DPDK-Native#31953 Test environment and result as below: +-------------------------------+--------------------+-------------------+------------------+-------------------+-------------------------+ | Environment | dpdk_meson_compile | dpdk_compile_spdk | dpdk_compile_ovs | dpdk_msvc_compile | dpdk_llvm_clang_compile | +===============================+====================+===================+==================+===================+=========================+ | FreeBSD 14.2 | PASS | SKIPPED | SKIPPED | SKIPPED | SKIPPED | +-------------------------------+--------------------+-------------------+------------------+-------------------+-------------------------+ | Ubuntu 20.04 | PASS | SKIPPED | SKIPPED | SKIPPED | SKIPPED | +-------------------------------+--------------------+-------------------+------------------+-------------------+-------------------------+ | CentOS Stream 9 | PASS | WARN | SKIPPED | SKIPPED | SKIPPED | +-------------------------------+--------------------+-------------------+------------------+-------------------+-------------------------+ | CentOS Stream 10 | PASS | SKIPPED | SKIPPED | SKIPPED | SKIPPED | +-------------------------------+--------------------+-------------------+------------------+-------------------+-------------------------+ | Debian GNU/Linux 12 | PASS | WARN | SKIPPED | SKIPPED | SKIPPED | +-------------------------------+--------------------+-------------------+------------------+-------------------+-------------------------+ | Fedora Linux 42 | PASS | WARN | PASS | SKIPPED | SKIPPED | +-------------------------------+--------------------+-------------------+------------------+-------------------+-------------------------+ | openSUSE Leap 15.6 | PASS | SKIPPED | SKIPPED | SKIPPED | SKIPPED | +-------------------------------+--------------------+-------------------+------------------+-------------------+-------------------------+ | Red Hat Enterprise Linux 8.10 | PASS | SKIPPED | SKIPPED | SKIPPED | SKIPPED | +-------------------------------+--------------------+-------------------+------------------+-------------------+-------------------------+ | Red Hat Enterprise Linux 9.5 | PASS | SKIPPED | SKIPPED | SKIPPED | SKIPPED | +-------------------------------+--------------------+-------------------+------------------+-------------------+-------------------------+ | Ubuntu 22.04 | PASS | WARN | SKIPPED | SKIPPED | SKIPPED | +-------------------------------+--------------------+-------------------+------------------+-------------------+-------------------------+ | Ubuntu 24.04 | PASS | WARN | PASS | SKIPPED | SKIPPED | +-------------------------------+--------------------+-------------------+------------------+-------------------+-------------------------+ | Alpine Linux 3.22.0 | PASS | SKIPPED | SKIPPED | SKIPPED | SKIPPED | +-------------------------------+--------------------+-------------------+------------------+-------------------+-------------------------+ | Windows Server 2022 | SKIPPED | SKIPPED | SKIPPED | PASS | PASS | +-------------------------------+--------------------+-------------------+------------------+-------------------+-------------------------+ ==== 20 line log output for Ubuntu 24.04 (dpdk_compile_spdk): ==== --- Failed to get log output --- ==== End log output ==== FreeBSD 14.2 Kernel: 14.2-RELEASE Compiler: clang 18.1.6 Ubuntu 20.04 Kernel: 4.19 Compiler: gcc gcc (Ubuntu 9.4.0-1ubuntu1~20.04.2) 9.4.0 CentOS Stream 9 Kernel: 5.15 Compiler: gcc gcc (GCC) 11.5.0 20240719 (Red Hat 11.5.0-11) CentOS Stream 10 Kernel: 5.15 Compiler: gcc gcc (GCC) 14.2.1 20250110 (Red Hat 14.2.1-8) Debian GNU/Linux 12 Kernel: 5.15 Compiler: gcc gcc (Debian 12.2.0-14+deb12u1) 12.2.0 Fedora Linux 42 Kernel: 5.15 Compiler: clang gcc (GCC) 15.2.1 20250808 (Red Hat 15.2.1-1) openSUSE Leap 15.6 Kernel: 5.15 Compiler: gcc gcc (SUSE Linux) 7.5.0 Red Hat Enterprise Linux 8.10 Kernel: 5.15 Compiler: gcc gcc (GCC) 8.5.0 20210514 (Red Hat 8.5.0-22) Red Hat Enterprise Linux 9.5 Kernel: 5.15 Compiler: gcc gcc (GCC) 11.5.0 20240719 (Red Hat 11.5.0-2) Ubuntu 22.04 Kernel: 5.15 Compiler: gcc gcc (Ubuntu 11.4.0-1ubuntu1~22.04) 11.4.0 Ubuntu 24.04 Kernel: 5.15 Compiler: gcc gcc (Ubuntu 13.3.0-6ubuntu2~24.04) 13.3.0 Alpine Linux 3.22.0 Kernel: 5.15 Compiler: gcc gcc (Alpine 14.2.0) 14.2.0 Windows Server 2022 Kernel: 10.0.20348.2031 Compiler: clang 15.0.7, gcc 14.1.0 (MinGW), and MSVC VS 19.39.33521 To view detailed results, visit: https://lab.dpdk.org/results/dashboard/patchsets/34403/ UNH-IOL DPDK Community Lab To manage your email subscriptions, visit: https://lab.dpdk.org/results/dashboard/preferences/subscriptions/