From mboxrd@z Thu Jan 1 00:00:00 1970 Return-Path: Received: from mails.dpdk.org (mails.dpdk.org [217.70.189.124]) by inbox.dpdk.org (Postfix) with ESMTP id 1DA7F48A0C for ; Wed, 29 Oct 2025 00:02:33 +0100 (CET) Received: from mails.dpdk.org (localhost [127.0.0.1]) by mails.dpdk.org (Postfix) with ESMTP id 18A5340262; Wed, 29 Oct 2025 00:02:33 +0100 (CET) Received: from mail-qk1-f228.google.com (mail-qk1-f228.google.com [209.85.222.228]) by mails.dpdk.org (Postfix) with ESMTP id A6CCC40262 for ; Wed, 29 Oct 2025 00:02:32 +0100 (CET) Received: by mail-qk1-f228.google.com with SMTP id af79cd13be357-8a479c772cfso163992085a.0 for ; Tue, 28 Oct 2025 16:02:32 -0700 (PDT) DKIM-Signature: v=1; a=rsa-sha256; c=relaxed/relaxed; d=iol.unh.edu; s=unh-iol; t=1761692552; x=1762297352; darn=dpdk.org; h=references:in-reply-to:cc:to:from:subject:message-id:date:from:to :cc:subject:date:message-id:reply-to; bh=sMSyMORBikuktaIakDDwfFkJscTk+FLXfkU7ZtMVnk0=; b=jqaTML2u1lF4pMRnBBwuFrRKOKQrmDJKoaEMQcWZp5N1jhSlaSIXWvApHHx6+JxQWT pJ2qwF3sKSxTvIDh1p+daXtK4HyIObxyFvGiIroqnifPyLiNTUQ5RMDs3a2V17zYXX6l RMU7s+qfM5K+xg726Vn5GOc/aa10XZskQafZY= X-Google-DKIM-Signature: v=1; a=rsa-sha256; c=relaxed/relaxed; d=1e100.net; s=20230601; t=1761692552; x=1762297352; h=references:in-reply-to:cc:to:from:subject:message-id:date :x-gm-message-state:from:to:cc:subject:date:message-id:reply-to; bh=sMSyMORBikuktaIakDDwfFkJscTk+FLXfkU7ZtMVnk0=; b=cWrtGopPOB+qB/UPXNNDs9uAQ8QQKqKlsVbn3ZJ5X8rciMMplv9KD8B6X5jCGX50GO pFFU8MWtTe60a+elRHsYM7lSI9tNiOn0tCOZxbTgVKHghxnoYTU60sFqSOEv3yrK2+Ww GXXTTZtyBOr7shKPy5mRyfMUjNs5FvAFkPWRP31jj92lbZA9DHOW6EhRhDTrFJgT0dD1 Nq419G+mQGoQi5ylKJOs3ZwquAwPrlCriPwpNfcYfCN4im6hzo90Kgp1x+U04EeWgxK3 odKrKtOY04nmTIK73UKZbvpyPhaf5uZjgbmKLoN5mHa5Ef0Jecs21PAjKqS7qfwClmwr ASIw== X-Gm-Message-State: AOJu0YzGVYwy4/ZnOmGztRUPAjk63gTTH73xHJQtud8+OacEH3pzcoXM JEa90vUt96ZbyKKh4iotOEzmWaIvHOFcSJGDciiEFk1YCHnQLb09rHbFNaaYKypvGmKM6JszXtL G9Z6ZsdzyucK5i2rADRmeAKu1kcMJjeRx4T5aYLZM7T2u X-Gm-Gg: ASbGncte86w9OOUYNPPyC7viz81xH4USWa5k6ShuOcuzM/hvf/nmct+c3r9Aara+OcW e7h3g1I6voGP2izCh5x5KxtN379asT/vwyWT/TPt1OPQcLqXVvFs0q2qEM1HqZil6xXZbZQxswg KnPM7vmpC9Pf2SuLsBXxKgEtB5IQZ2GuSGyQcErC7sg1Y+3VmIeTxxHFz5HNdQC5gGe/bCLRAxv /wnZPYGxnCaKTuaOiOQlBjrvktbHPPP0uY6dQVVZE2+TRIRNsa1GuYQLYeYGInoS5OmtCMpGG7q 904zru5QpKMVjJUdX6BNmP+OQP3ZgbSxcGZN0+DCZlBHlkOj/Ord4IUjuxLBy5PzhKhsBIM/+0U FTLQOP1T1mmp3BujlR7TNkTdm2S3tQtA= X-Google-Smtp-Source: AGHT+IERKXWMpKIIVXoefhd9ATEj9HpG2mcRi8hpuGGMIxcUyMS6WO8DsS1FfY/fiZMH/yQOR04EenXhaPGb X-Received: by 2002:a05:620a:31a4:b0:864:1d18:497e with SMTP id af79cd13be357-8a8e3ba13b3mr126920785a.23.1761692552014; Tue, 28 Oct 2025 16:02:32 -0700 (PDT) Received: from postal.iol.unh.edu (postal.iol.unh.edu. [132.177.123.84]) by smtp-relay.gmail.com with ESMTPS id 6a1803df08f44-87fc494d47csm11785416d6.18.2025.10.28.16.02.31 (version=TLS1_2 cipher=ECDHE-ECDSA-AES128-GCM-SHA256 bits=128/128); Tue, 28 Oct 2025 16:02:32 -0700 (PDT) X-Relaying-Domain: iol.unh.edu Date: Tue, 28 Oct 2025 16:02:32 -0700 (PDT) Message-ID: <69014b88.050a0220.44e04.70d2SMTPIN_ADDED_MISSING@mx.google.com> Received: from [172.21.0.2] (unknown [172.18.0.240]) by postal.iol.unh.edu (Postfix) with ESMTP id BD72C60003F4; Tue, 28 Oct 2025 19:02:31 -0400 (EDT) Subject: |WARNING| pw158189 [PATCH] doc: fix doxygen errors with v1.15.0 From: dpdklab@iol.unh.edu To: Test Report Cc: dpdk-test-reports@iol.unh.edu In-Reply-To: <20251028141159.177727-1-jerinj@marvell.com> References: <20251028141159.177727-1-jerinj@marvell.com> Content-Type: text/plain X-BeenThere: test-report@dpdk.org X-Mailman-Version: 2.1.29 Precedence: list List-Id: automatic DPDK test reports List-Unsubscribe: , List-Archive: List-Post: List-Help: List-Subscribe: , Errors-To: test-report-bounces@dpdk.org Test-Label: iol-compile-amd64-testing Test-Status: WARNING http://dpdk.org/patch/158189 _Testing issues_ Submitter: Jerin Jacob Date: Tuesday, October 28 2025 14:11:59 DPDK git baseline: Repo:dpdk Branch: master CommitID:39b54f2dcf44ad1f91eabc7080cd5dea763607fd 158189 --> testing issues Upstream job id: Windows-Compile-DPDK-Native#31954 Test environment and result as below: +-------------------------------+--------------------+-------------------+------------------+-------------------+-------------------------+----------------------+ | Environment | dpdk_meson_compile | dpdk_compile_spdk | dpdk_compile_ovs | dpdk_msvc_compile | dpdk_llvm_clang_compile | dpdk_mingw64_compile | +===============================+====================+===================+==================+===================+=========================+======================+ | FreeBSD 14.2 | PASS | SKIPPED | SKIPPED | SKIPPED | SKIPPED | SKIPPED | +-------------------------------+--------------------+-------------------+------------------+-------------------+-------------------------+----------------------+ | Ubuntu 20.04 | PASS | SKIPPED | SKIPPED | SKIPPED | SKIPPED | SKIPPED | +-------------------------------+--------------------+-------------------+------------------+-------------------+-------------------------+----------------------+ | CentOS Stream 9 | PASS | WARN | SKIPPED | SKIPPED | SKIPPED | SKIPPED | +-------------------------------+--------------------+-------------------+------------------+-------------------+-------------------------+----------------------+ | CentOS Stream 10 | PASS | SKIPPED | SKIPPED | SKIPPED | SKIPPED | SKIPPED | +-------------------------------+--------------------+-------------------+------------------+-------------------+-------------------------+----------------------+ | Debian GNU/Linux 12 | PASS | WARN | SKIPPED | SKIPPED | SKIPPED | SKIPPED | +-------------------------------+--------------------+-------------------+------------------+-------------------+-------------------------+----------------------+ | Fedora Linux 42 | PASS | WARN | PASS | SKIPPED | SKIPPED | SKIPPED | +-------------------------------+--------------------+-------------------+------------------+-------------------+-------------------------+----------------------+ | openSUSE Leap 15.6 | PASS | SKIPPED | SKIPPED | SKIPPED | SKIPPED | SKIPPED | +-------------------------------+--------------------+-------------------+------------------+-------------------+-------------------------+----------------------+ | Red Hat Enterprise Linux 8.10 | PASS | SKIPPED | SKIPPED | SKIPPED | SKIPPED | SKIPPED | +-------------------------------+--------------------+-------------------+------------------+-------------------+-------------------------+----------------------+ | Red Hat Enterprise Linux 9.5 | PASS | SKIPPED | SKIPPED | SKIPPED | SKIPPED | SKIPPED | +-------------------------------+--------------------+-------------------+------------------+-------------------+-------------------------+----------------------+ | Ubuntu 22.04 | PASS | WARN | SKIPPED | SKIPPED | SKIPPED | SKIPPED | +-------------------------------+--------------------+-------------------+------------------+-------------------+-------------------------+----------------------+ | Ubuntu 24.04 | PASS | WARN | PASS | SKIPPED | SKIPPED | SKIPPED | +-------------------------------+--------------------+-------------------+------------------+-------------------+-------------------------+----------------------+ | Alpine Linux 3.22.0 | PASS | SKIPPED | SKIPPED | SKIPPED | SKIPPED | SKIPPED | +-------------------------------+--------------------+-------------------+------------------+-------------------+-------------------------+----------------------+ | Windows Server 2022 | SKIPPED | SKIPPED | SKIPPED | PASS | PASS | PASS | +-------------------------------+--------------------+-------------------+------------------+-------------------+-------------------------+----------------------+ ==== 20 line log output for Ubuntu 24.04 (dpdk_compile_spdk): ==== --- Failed to get log output --- ==== End log output ==== FreeBSD 14.2 Kernel: 14.2-RELEASE Compiler: clang 18.1.6 Ubuntu 20.04 Kernel: 4.19 Compiler: gcc gcc (Ubuntu 9.4.0-1ubuntu1~20.04.2) 9.4.0 CentOS Stream 9 Kernel: 5.15 Compiler: gcc gcc (GCC) 11.5.0 20240719 (Red Hat 11.5.0-11) CentOS Stream 10 Kernel: 5.15 Compiler: gcc gcc (GCC) 14.2.1 20250110 (Red Hat 14.2.1-8) Debian GNU/Linux 12 Kernel: 5.15 Compiler: gcc gcc (Debian 12.2.0-14+deb12u1) 12.2.0 Fedora Linux 42 Kernel: 5.15 Compiler: clang gcc (GCC) 15.2.1 20250808 (Red Hat 15.2.1-1) openSUSE Leap 15.6 Kernel: 5.15 Compiler: gcc gcc (SUSE Linux) 7.5.0 Red Hat Enterprise Linux 8.10 Kernel: 5.15 Compiler: gcc gcc (GCC) 8.5.0 20210514 (Red Hat 8.5.0-22) Red Hat Enterprise Linux 9.5 Kernel: 5.15 Compiler: gcc gcc (GCC) 11.5.0 20240719 (Red Hat 11.5.0-2) Ubuntu 22.04 Kernel: 5.15 Compiler: gcc gcc (Ubuntu 11.4.0-1ubuntu1~22.04) 11.4.0 Ubuntu 24.04 Kernel: 5.15 Compiler: gcc gcc (Ubuntu 13.3.0-6ubuntu2~24.04) 13.3.0 Alpine Linux 3.22.0 Kernel: 5.15 Compiler: gcc gcc (Alpine 14.2.0) 14.2.0 Windows Server 2022 Kernel: 10.0.20348.2031 Compiler: clang 15.0.7, gcc 14.1.0 (MinGW), and MSVC VS 19.39.33521 To view detailed results, visit: https://lab.dpdk.org/results/dashboard/patchsets/34403/ UNH-IOL DPDK Community Lab To manage your email subscriptions, visit: https://lab.dpdk.org/results/dashboard/preferences/subscriptions/