From mboxrd@z Thu Jan 1 00:00:00 1970 Return-Path: Received: from mails.dpdk.org (mails.dpdk.org [217.70.189.124]) by inbox.dpdk.org (Postfix) with ESMTP id 3030848A0C for ; Wed, 29 Oct 2025 00:03:15 +0100 (CET) Received: from mails.dpdk.org (localhost [127.0.0.1]) by mails.dpdk.org (Postfix) with ESMTP id 2C1CA40262; Wed, 29 Oct 2025 00:03:15 +0100 (CET) Received: from mail-pf1-f226.google.com (mail-pf1-f226.google.com [209.85.210.226]) by mails.dpdk.org (Postfix) with ESMTP id 4037F40262 for ; Wed, 29 Oct 2025 00:03:14 +0100 (CET) Received: by mail-pf1-f226.google.com with SMTP id d2e1a72fcca58-7a26dab3a97so4108699b3a.0 for ; Tue, 28 Oct 2025 16:03:14 -0700 (PDT) DKIM-Signature: v=1; a=rsa-sha256; c=relaxed/relaxed; d=iol.unh.edu; s=unh-iol; t=1761692593; x=1762297393; darn=dpdk.org; h=references:in-reply-to:cc:to:from:subject:message-id:date:from:to :cc:subject:date:message-id:reply-to; bh=zvZzv3tQdvOePgl1X2BeqR7oqidFoNcghxtRJQ8xj80=; b=SV3BSxJEqIfjNNuUE0meQg1I+m+cOSSM4QECQLabWAYrJ4dX3xij3F841SjoYkHPaV q5hvGcwJnuylddwwft68OljC0ww1SLwa7v8Q27GrXLYkBrq67pk+6JZJG631dOYFvTso h26EMLtXfcmqSnD2Y1CIWC6Iif7O+PD/Fw9i4= X-Google-DKIM-Signature: v=1; a=rsa-sha256; c=relaxed/relaxed; d=1e100.net; s=20230601; t=1761692593; x=1762297393; h=references:in-reply-to:cc:to:from:subject:message-id:date :x-gm-message-state:from:to:cc:subject:date:message-id:reply-to; bh=zvZzv3tQdvOePgl1X2BeqR7oqidFoNcghxtRJQ8xj80=; b=D2IA5Hc4j0YAlRzyNovEuRRxG1BWAc4Cbw/M6E+1fFBuszzp06t491NjlFIt6eCL/J egudD3hEmaUHMut5qzPO3C6M5nwONRiYSh/PLNRvlPhaXo6FC+I6uPXzmLncDqpeB26q IE4DPnKQ3mgREXMTfGEFxGQIWiFK5ih4mMcoDYnWvreAj3mYuyk3kg7FbUMOi3hS0NBb m+tSAe0BX66+wx5w1zG21LKQyLOl7WDICzf7fdft0Y47NNwQ1h2dTAbT6R+xfFCLiw6a Z9MvjRHNyoi70agC/gmIIQBbbvtZg1oHf+OK5bXsFsm0I5NorbXflm3ywqdXYLymCqRB Jo0w== X-Gm-Message-State: AOJu0YwUS8aPSRURGsEOWfxel9S5mCx/zCGadpXkRsGGzuamkaED/kJo krnJOTBOeb6HbMRgUmc3ZmMArALvJXjKNgFsZnuEtIETMF1bjWJz0hiYhRS4hga1XxxiRK1/Xg3 9iQzhfPWYOVRpSEgSTWzW/s9+jt409/P+l/SQdARG9icPp7quHT6vT3llb589 X-Gm-Gg: ASbGncvsI66DWntnxB7SNapHaV3O+O2BTim+ecw/eB2FPOuYdyOTtdk72YQMhymwv0E FvF4NivY/ARylyxTpEUNUVeqJFngediaZ8OGnAipwD/0NkmdFjljcEEZd/skyYU/h33xYBYDs+L vP2kE+TOUUxvptIWvwEJnam5N6kGOMUxuqbo2jpveWnc9g4lng6hiAPJuUz0J5ymZWAXKUmWfxy geKRmrqbf6JOImw27DgsYXhem5HfuQXU8Gx2bjqchLISgzJJ6CekkTYzPyUBOy0t3tqkJdwh90Y 1ejVlQR+5lwKlNTijeIy0naVDBYEFNI8pV45zH4wBKLzpnaOuie9KnBy2ge0NXveMnOnNM3OCGF ZiHWkyBY6 X-Google-Smtp-Source: AGHT+IHazHLKlLyzY13g9kdGjiNdPP85b0N4VQWYnBB/3ghod1MByePRaWG9qaqvJ2w7E//MeCbhabd3TM5U X-Received: by 2002:a05:6a21:3289:b0:334:9fbb:35c3 with SMTP id adf61e73a8af0-3465371efadmr727004637.46.1761692593168; Tue, 28 Oct 2025 16:03:13 -0700 (PDT) Received: from postal.iol.unh.edu (postal.iol.unh.edu. [2606:4100:3880:1234::84]) by smtp-relay.gmail.com with ESMTPS id 41be03b00d2f7-b712e178063sm738922a12.10.2025.10.28.16.03.13 (version=TLS1_2 cipher=ECDHE-ECDSA-AES128-GCM-SHA256 bits=128/128); Tue, 28 Oct 2025 16:03:13 -0700 (PDT) X-Relaying-Domain: iol.unh.edu Date: Tue, 28 Oct 2025 16:03:13 -0700 (PDT) Message-ID: <69014bb1.050a0220.37df9e.2e24SMTPIN_ADDED_MISSING@mx.google.com> Received: from [172.21.0.2] (unknown [172.18.0.240]) by postal.iol.unh.edu (Postfix) with ESMTP id 758906051830; Tue, 28 Oct 2025 19:03:12 -0400 (EDT) Subject: |SUCCESS| pw158203 [PATCH] [v3] fib6: implement RCU rule reclamation From: dpdklab@iol.unh.edu To: Test Report Cc: dpdk-test-reports@iol.unh.edu In-Reply-To: <20251028173703.548656-3-rjarry@redhat.com> References: <20251028173703.548656-3-rjarry@redhat.com> Content-Type: text/plain X-BeenThere: test-report@dpdk.org X-Mailman-Version: 2.1.29 Precedence: list List-Id: automatic DPDK test reports List-Unsubscribe: , List-Archive: List-Post: List-Help: List-Subscribe: , Errors-To: test-report-bounces@dpdk.org Test-Label: iol-unit-amd64-testing Test-Status: SUCCESS http://dpdk.org/patch/158203 _Testing PASS_ Submitter: Robin Jarry Date: Tuesday, October 28 2025 17:37:05 DPDK git baseline: Repo:dpdk Branch: master CommitID:39b54f2dcf44ad1f91eabc7080cd5dea763607fd 158203 --> testing pass Upstream job id: Generic-Unit-Test-DPDK#386345 Test environment and result as below: +-------------------------------+----------------+ | Environment | dpdk_unit_test | +===============================+================+ | CentOS Stream 9 | PASS | +-------------------------------+----------------+ | CentOS Stream 10 | PASS | +-------------------------------+----------------+ | Debian GNU/Linux 12 | PASS | +-------------------------------+----------------+ | Fedora Linux 40 | PASS | +-------------------------------+----------------+ | Fedora Linux 41 | PASS | +-------------------------------+----------------+ | Red Hat Enterprise Linux 8.10 | PASS | +-------------------------------+----------------+ | Fedora Linux 42 | PASS | +-------------------------------+----------------+ | Red Hat Enterprise Linux 9.5 | PASS | +-------------------------------+----------------+ | Ubuntu 20.04 | PASS | +-------------------------------+----------------+ | Ubuntu 24.04 | PASS | +-------------------------------+----------------+ | Ubuntu 22.04 | PASS | +-------------------------------+----------------+ CentOS Stream 9 Kernel: 5.15 Compiler: gcc gcc (GCC) 11.5.0 20240719 (Red Hat 11.5.0-11) CentOS Stream 10 Kernel: 5.15 Compiler: gcc gcc (GCC) 14.2.1 20250110 (Red Hat 14.2.1-8) Debian GNU/Linux 12 Kernel: 5.15 Compiler: gcc gcc (Debian 12.2.0-14+deb12u1) 12.2.0 Fedora Linux 40 Kernel: 5.15 Compiler: gcc gcc (GCC) 14.2.1 20240912 (Red Hat 14.2.1-3) Fedora Linux 41 Kernel: 5.15 Compiler: gcc gcc (GCC) 14.3.1 20250523 (Red Hat 14.3.1-1) Red Hat Enterprise Linux 8.10 Kernel: 5.15 Compiler: gcc gcc (GCC) 8.5.0 20210514 (Red Hat 8.5.0-22) Fedora Linux 42 Kernel: 5.15 Compiler: clang gcc (GCC) 15.2.1 20250808 (Red Hat 15.2.1-1) Red Hat Enterprise Linux 9.5 Kernel: 5.15 Compiler: gcc gcc (GCC) 11.5.0 20240719 (Red Hat 11.5.0-2) Ubuntu 20.04 Kernel: 5.15 Compiler: gcc gcc (Ubuntu 9.4.0-1ubuntu1~20.04.2) 9.4.0 Ubuntu 24.04 Kernel: 5.15 Compiler: gcc gcc (Ubuntu 13.3.0-6ubuntu2~24.04) 13.3.0 Ubuntu 22.04 Kernel: 5.15 Compiler: gcc gcc (Ubuntu 11.4.0-1ubuntu1~22.04) 11.4.0 To view detailed results, visit: https://lab.dpdk.org/results/dashboard/patchsets/34407/ UNH-IOL DPDK Community Lab To manage your email subscriptions, visit: https://lab.dpdk.org/results/dashboard/preferences/subscriptions/