From mboxrd@z Thu Jan 1 00:00:00 1970 Return-Path: Received: from mails.dpdk.org (mails.dpdk.org [217.70.189.124]) by inbox.dpdk.org (Postfix) with ESMTP id 755BA48A0C for ; Wed, 29 Oct 2025 00:05:20 +0100 (CET) Received: from mails.dpdk.org (localhost [127.0.0.1]) by mails.dpdk.org (Postfix) with ESMTP id 599D440262; Wed, 29 Oct 2025 00:05:20 +0100 (CET) Received: from mail-oa1-f98.google.com (mail-oa1-f98.google.com [209.85.160.98]) by mails.dpdk.org (Postfix) with ESMTP id 9CF8840262 for ; Wed, 29 Oct 2025 00:05:19 +0100 (CET) Received: by mail-oa1-f98.google.com with SMTP id 586e51a60fabf-3d5bb03d5c2so1324649fac.1 for ; Tue, 28 Oct 2025 16:05:19 -0700 (PDT) DKIM-Signature: v=1; a=rsa-sha256; c=relaxed/relaxed; d=iol.unh.edu; s=unh-iol; t=1761692719; x=1762297519; darn=dpdk.org; h=references:in-reply-to:cc:to:from:subject:message-id:date:from:to :cc:subject:date:message-id:reply-to; bh=udiSGNBVq/KP9dLQKOnW8ExEKEfURSCWVk3lMdhyjMU=; b=a1XjKlIhC+7eK25L2YrFpEbc/dzVatQ4aep66Z+qvIOqD94r1h1Mk0ibF7c/NgkVUF Gxm6PIX7y5slXn3AZ9Df/Ao4TDqETRZOFMIWc+yxP9AGPfYjA3ePj27V9SomChBv/2/b i2DeQxD/bC+dzck8WzYJq99cRnw26HCocfdyQ= X-Google-DKIM-Signature: v=1; a=rsa-sha256; c=relaxed/relaxed; d=1e100.net; s=20230601; t=1761692719; x=1762297519; h=references:in-reply-to:cc:to:from:subject:message-id:date :x-gm-message-state:from:to:cc:subject:date:message-id:reply-to; bh=udiSGNBVq/KP9dLQKOnW8ExEKEfURSCWVk3lMdhyjMU=; b=kvmLTUWqizTdbt7W1ObIYkeugPiewWFCknpM8nVWVlbxNrmgBhcy9TpR26561NSIXt 6ZQN74PcOnSqF7tjlqvaV2pvkvbdTpGzFl3+lPpv/Gv6U/u6x3sJk453hf2o3Za+1qBj bLQ63wBl5E5ubVhT5m3rB80ecP6VPoBuuQupcc8fas5KNbo7HAoC6eSUyStcJ4ILWiH6 qdGr5he09b0U4H3LZDiPLkJmZDKRXXO+6q7JuwU7yqn/vcoXvR5pzdwN89cNdTk2tWN5 HWLbFlk2dq8QnVLGkJa5Em69g2ltJLhl8fipAg8jvIk6/zR6y7IYrPCYzS+w/kPi1Uy4 7VDw== X-Gm-Message-State: AOJu0Yy4UJUpedOqXA/NUr7mvrqYKTKCUGA7XW0a7FfPzFtKStrjFQfe Ar6iJPN04i6AhlLUkcVcyRUgeEwadpkX+i7lZLO4z9HhIMmfyvmqlMwVlrc1yxQhTGkQEyKF0za 9B1ZIoonwFnGfVZYGG6xMgdsKOV0Lcq/KSyTPheUglKNSSA6QQU4tYP9wwmEr X-Gm-Gg: ASbGnctMQP7cO6cqnmr9+n0PMVDpQxD/SoX5o/N5FpJquJRGBH0JdCJ21s+X66wCkrb UucAlY7y2AWYDE2NjdKjCOkqA0jjL51h3/sT1XjbXJ6/azppZ07da8C6TsunGf0IY0ND0d1Yo8c UmZAdl21Ll7veOfkVH5IpNGoAFi1ylJIhUgP/DnloO8RxWi9TTDoo6rwLlO+lb1Aw0UbaMuEsgA arhtinhpE27mMJnyXivUp8R1gGHs866alt0xiqsTS5baLbJVJkwBZfbg1wtTKbcvtvKsHeZCuyc xinY0VNq+qICKQ2Yyfh6G4Ol4AKWtXOo7YaJQNCOXYZRGqGXcwwdlqfIMYgo5HyPphCgc12mJge PJJ0v0+nC X-Google-Smtp-Source: AGHT+IHg+2fBFm5F1Y0h4+AbcAkM0MpxOAfAfna3FET7gOqJvNmI5/NYXBaNvXYUMDZkiASDsu3cdUyPNHxP X-Received: by 2002:a05:6870:82a5:b0:3d3:740e:d5fd with SMTP id 586e51a60fabf-3d74566f9e1mr460969fac.8.1761692718809; Tue, 28 Oct 2025 16:05:18 -0700 (PDT) Received: from postal.iol.unh.edu (postal.iol.unh.edu. [2606:4100:3880:1234::84]) by smtp-relay.gmail.com with ESMTPS id 586e51a60fabf-3d1e2e34b72sm809838fac.10.2025.10.28.16.05.18 (version=TLS1_2 cipher=ECDHE-ECDSA-AES128-GCM-SHA256 bits=128/128); Tue, 28 Oct 2025 16:05:18 -0700 (PDT) X-Relaying-Domain: iol.unh.edu Date: Tue, 28 Oct 2025 16:05:18 -0700 (PDT) Message-ID: <69014c2e.050a0220.1b1603.5774SMTPIN_ADDED_MISSING@mx.google.com> Received: from [172.21.0.3] (unknown [172.18.0.240]) by postal.iol.unh.edu (Postfix) with ESMTP id 4DE0B6051830; Tue, 28 Oct 2025 19:05:18 -0400 (EDT) Subject: |WARNING| pw158190-158192 [PATCH] [v10,3/3] doc: note on unsupported From: dpdklab@iol.unh.edu To: Test Report Cc: dpdk-test-reports@iol.unh.edu, Bruce Richardson In-Reply-To: <20251028142202.137392-4-shaiq.wani@intel.com> References: <20251028142202.137392-4-shaiq.wani@intel.com> Content-Type: text/plain X-BeenThere: test-report@dpdk.org X-Mailman-Version: 2.1.29 Precedence: list List-Id: automatic DPDK test reports List-Unsubscribe: , List-Archive: List-Post: List-Help: List-Subscribe: , Errors-To: test-report-bounces@dpdk.org Test-Label: iol-compile-amd64-testing Test-Status: WARNING http://dpdk.org/patch/158192 _Testing issues_ Submitter: Shaiq Wani Date: Tuesday, October 28 2025 14:22:02 DPDK git baseline: Repo:dpdk-next-net-intel Branch: master CommitID:6b997d6b9ffdbb4f8ecd14d1f217da69cdc783af 158190-158192 --> testing issues Upstream job id: Windows-Compile-DPDK-Native#31955 Test environment and result as below: +-------------------------------+--------------------+-------------------+------------------+-------------------+-------------------------+ | Environment | dpdk_meson_compile | dpdk_compile_spdk | dpdk_compile_ovs | dpdk_msvc_compile | dpdk_llvm_clang_compile | +===============================+====================+===================+==================+===================+=========================+ | Ubuntu 20.04 | PASS | SKIPPED | SKIPPED | SKIPPED | SKIPPED | +-------------------------------+--------------------+-------------------+------------------+-------------------+-------------------------+ | FreeBSD 14.2 | PASS | SKIPPED | SKIPPED | SKIPPED | SKIPPED | +-------------------------------+--------------------+-------------------+------------------+-------------------+-------------------------+ | CentOS Stream 9 | PASS | WARN | SKIPPED | SKIPPED | SKIPPED | +-------------------------------+--------------------+-------------------+------------------+-------------------+-------------------------+ | CentOS Stream 10 | PASS | SKIPPED | SKIPPED | SKIPPED | SKIPPED | +-------------------------------+--------------------+-------------------+------------------+-------------------+-------------------------+ | Debian GNU/Linux 12 | PASS | WARN | SKIPPED | SKIPPED | SKIPPED | +-------------------------------+--------------------+-------------------+------------------+-------------------+-------------------------+ | Fedora Linux 42 | PASS | WARN | PASS | SKIPPED | SKIPPED | +-------------------------------+--------------------+-------------------+------------------+-------------------+-------------------------+ | openSUSE Leap 15.6 | PASS | SKIPPED | SKIPPED | SKIPPED | SKIPPED | +-------------------------------+--------------------+-------------------+------------------+-------------------+-------------------------+ | Red Hat Enterprise Linux 8.10 | PASS | SKIPPED | SKIPPED | SKIPPED | SKIPPED | +-------------------------------+--------------------+-------------------+------------------+-------------------+-------------------------+ | Red Hat Enterprise Linux 9.5 | PASS | SKIPPED | SKIPPED | SKIPPED | SKIPPED | +-------------------------------+--------------------+-------------------+------------------+-------------------+-------------------------+ | Ubuntu 22.04 | PASS | WARN | SKIPPED | SKIPPED | SKIPPED | +-------------------------------+--------------------+-------------------+------------------+-------------------+-------------------------+ | Ubuntu 24.04 | PASS | WARN | PASS | SKIPPED | SKIPPED | +-------------------------------+--------------------+-------------------+------------------+-------------------+-------------------------+ | Alpine Linux 3.22.0 | PASS | SKIPPED | SKIPPED | SKIPPED | SKIPPED | +-------------------------------+--------------------+-------------------+------------------+-------------------+-------------------------+ | Windows Server 2022 | SKIPPED | SKIPPED | SKIPPED | PASS | PASS | +-------------------------------+--------------------+-------------------+------------------+-------------------+-------------------------+ ==== 20 line log output for Ubuntu 24.04 (dpdk_compile_spdk): ==== --- Failed to get log output --- ==== End log output ==== Ubuntu 20.04 Kernel: 4.19 Compiler: gcc gcc (Ubuntu 9.4.0-1ubuntu1~20.04.2) 9.4.0 FreeBSD 14.2 Kernel: 14.2-RELEASE Compiler: clang 18.1.6 CentOS Stream 9 Kernel: 5.15 Compiler: gcc gcc (GCC) 11.5.0 20240719 (Red Hat 11.5.0-11) CentOS Stream 10 Kernel: 5.15 Compiler: gcc gcc (GCC) 14.2.1 20250110 (Red Hat 14.2.1-8) Debian GNU/Linux 12 Kernel: 5.15 Compiler: gcc gcc (Debian 12.2.0-14+deb12u1) 12.2.0 Fedora Linux 42 Kernel: 5.15 Compiler: clang gcc (GCC) 15.2.1 20250808 (Red Hat 15.2.1-1) openSUSE Leap 15.6 Kernel: 5.15 Compiler: gcc gcc (SUSE Linux) 7.5.0 Red Hat Enterprise Linux 8.10 Kernel: 5.15 Compiler: gcc gcc (GCC) 8.5.0 20210514 (Red Hat 8.5.0-22) Red Hat Enterprise Linux 9.5 Kernel: 5.15 Compiler: gcc gcc (GCC) 11.5.0 20240719 (Red Hat 11.5.0-2) Ubuntu 22.04 Kernel: 5.15 Compiler: gcc gcc (Ubuntu 11.4.0-1ubuntu1~22.04) 11.4.0 Ubuntu 24.04 Kernel: 5.15 Compiler: gcc gcc (Ubuntu 13.3.0-6ubuntu2~24.04) 13.3.0 Alpine Linux 3.22.0 Kernel: 5.15 Compiler: gcc gcc (Alpine 14.2.0) 14.2.0 Windows Server 2022 Kernel: 10.0.20348.2031 Compiler: clang 15.0.7, gcc 14.1.0 (MinGW), and MSVC VS 19.39.33521 To view detailed results, visit: https://lab.dpdk.org/results/dashboard/patchsets/34404/ UNH-IOL DPDK Community Lab To manage your email subscriptions, visit: https://lab.dpdk.org/results/dashboard/preferences/subscriptions/