From mboxrd@z Thu Jan 1 00:00:00 1970 Return-Path: Received: from mails.dpdk.org (mails.dpdk.org [217.70.189.124]) by inbox.dpdk.org (Postfix) with ESMTP id 8A6BA48A0C for ; Wed, 29 Oct 2025 00:06:40 +0100 (CET) Received: from mails.dpdk.org (localhost [127.0.0.1]) by mails.dpdk.org (Postfix) with ESMTP id 84EBE40262; Wed, 29 Oct 2025 00:06:40 +0100 (CET) Received: from mail-io1-f100.google.com (mail-io1-f100.google.com [209.85.166.100]) by mails.dpdk.org (Postfix) with ESMTP id E45BD40262 for ; Wed, 29 Oct 2025 00:06:39 +0100 (CET) Received: by mail-io1-f100.google.com with SMTP id ca18e2360f4ac-945a42fd465so147118839f.3 for ; Tue, 28 Oct 2025 16:06:39 -0700 (PDT) DKIM-Signature: v=1; a=rsa-sha256; c=relaxed/relaxed; d=iol.unh.edu; s=unh-iol; t=1761692799; x=1762297599; darn=dpdk.org; h=references:in-reply-to:cc:to:from:subject:message-id:date:from:to :cc:subject:date:message-id:reply-to; bh=m2VGh2GWHKDQSxEZYk7872ADVl8A/mjxcjeXM0/Yd4M=; b=CDtpvwWj/UIVd2FReZwMfam0OSNCOSC71gT/+zJ9qaR+wx3IPXCr/AiymVUOUnEXZl c7pCYAqtkbQxU8Y7Kq/ncb+NwnWcPWS1cJJk0WahBiNxUMSg/M4yUPDqaw/1izJ7yWqD g1VJDeu7zW940WO6BnSxkRGA7ibzf2gKeyR1c= X-Google-DKIM-Signature: v=1; a=rsa-sha256; c=relaxed/relaxed; d=1e100.net; s=20230601; t=1761692799; x=1762297599; h=references:in-reply-to:cc:to:from:subject:message-id:date :x-gm-message-state:from:to:cc:subject:date:message-id:reply-to; bh=m2VGh2GWHKDQSxEZYk7872ADVl8A/mjxcjeXM0/Yd4M=; b=YjeeRuD1v4Xn+ruv6omVitrQw1Iasmitzyb0IXWM77PH9iQviHtdSIFb7dXhiQaYv4 8rqEk1ir1FYzpDHNoXo/BLwYVSqAA55uOYPJpxLdwCXWgH4jxT/Vhm6rBd7e8DWge8lm bWStA0aJky7dEBhUrBZkOwOAZdkizQcFDG6kvth2aMchybORHxV5LZg+Dqb1xS9Q3wVd t/WoTnEUXDsZ9Iv8vSsB5IzRowyXnjIsMX0iXGg5sEB0ZBn1WtiWvu/Qf9XwLs5rrrBA GwyluU425fDyPAEY3uERtu/1+1PcXboLkism+r8KJGfun2gNFRFzATStHp5+U+628duW fE2Q== X-Gm-Message-State: AOJu0YzjtYvH4Y34HKgmTYRgrWJnpsY6Af3KNAFgXlnV6N0CZ9u1+J/e PQNhiPw+OxZsuLfW0lyu5swjQvT2A0w4ckmp2h93Px6/Po4/X/AOaHlFy6FaEe3Y/tnrVh9+POi meoeq2fDkvvVtR/KNxsN8ALEwt9o/I4H2uxxsXOkQ+bnL X-Gm-Gg: ASbGncusckA5gPXlAOrZyvYEn9jopgW9A1QmdD30PSEr+5VlxaIF0GcpHvgHaohlkr/ ucQV1DWYSjl2pXqKc/9YQHjAa0ui5cogkYVb3ERW6fjeAJTlMps5gBBX1NlO05FicuyAwX2xJem k+6VhctspAZIQTvlQ+MFR7ISE4OTIUZkAArKRUZffm2qlBzOhxY+VypblIBE9FpHSR/Cn2XwaaH VLxHWQGZ3EyS6/Eqca3NTM442DWEqsI2H1k0OGuCNAuHml+04z9zAcHcfNh3Fi9WSj/EPBR05Qk kWNuN4ILK4ZDtVopvkUZKkv0sAr23v2ShE5al7fo/OZ2TIsyUA1KMgte05z2ij+tzLz6OdI1Qet 7iemzQKDDPcVoE5wzMZZwxKgvc3kn62Q= X-Google-Smtp-Source: AGHT+IHUvkJq9tte9oz1+5D907naO8UgJX4mYdg/zZ/uiOkx1N+eASRMGLCXS6AjJ6QnDrxo1bDoccL2dezX X-Received: by 2002:a05:6e02:8e:b0:430:c491:583b with SMTP id e9e14a558f8ab-432f8fbc1ffmr15707125ab.14.1761692799168; Tue, 28 Oct 2025 16:06:39 -0700 (PDT) Received: from postal.iol.unh.edu (postal.iol.unh.edu. [132.177.123.84]) by smtp-relay.gmail.com with ESMTPS id e9e14a558f8ab-431f689a184sm11732055ab.27.2025.10.28.16.06.39 (version=TLS1_2 cipher=ECDHE-ECDSA-AES128-GCM-SHA256 bits=128/128); Tue, 28 Oct 2025 16:06:39 -0700 (PDT) X-Relaying-Domain: iol.unh.edu Date: Tue, 28 Oct 2025 16:06:39 -0700 (PDT) Message-ID: <69014c7f.050a0220.332832.642eSMTPIN_ADDED_MISSING@mx.google.com> Received: from [172.21.0.3] (unknown [172.18.0.240]) by postal.iol.unh.edu (Postfix) with ESMTP id 9F2656051830; Tue, 28 Oct 2025 19:06:38 -0400 (EDT) Subject: |WARNING| pw158190-158192 [PATCH] [v10,3/3] doc: note on unsupported From: dpdklab@iol.unh.edu To: Test Report Cc: dpdk-test-reports@iol.unh.edu, Bruce Richardson In-Reply-To: <20251028142202.137392-4-shaiq.wani@intel.com> References: <20251028142202.137392-4-shaiq.wani@intel.com> Content-Type: text/plain X-BeenThere: test-report@dpdk.org X-Mailman-Version: 2.1.29 Precedence: list List-Id: automatic DPDK test reports List-Unsubscribe: , List-Archive: List-Post: List-Help: List-Subscribe: , Errors-To: test-report-bounces@dpdk.org Test-Label: iol-compile-amd64-testing Test-Status: WARNING http://dpdk.org/patch/158192 _Testing issues_ Submitter: Shaiq Wani Date: Tuesday, October 28 2025 14:22:02 DPDK git baseline: Repo:dpdk-next-net-intel Branch: master CommitID:6b997d6b9ffdbb4f8ecd14d1f217da69cdc783af 158190-158192 --> testing issues Upstream job id: Windows-Compile-DPDK-Native#31956 Test environment and result as below: +-------------------------------+--------------------+-------------------+------------------+-------------------+-------------------------+----------------------+ | Environment | dpdk_meson_compile | dpdk_compile_spdk | dpdk_compile_ovs | dpdk_msvc_compile | dpdk_llvm_clang_compile | dpdk_mingw64_compile | +===============================+====================+===================+==================+===================+=========================+======================+ | Ubuntu 20.04 | PASS | SKIPPED | SKIPPED | SKIPPED | SKIPPED | SKIPPED | +-------------------------------+--------------------+-------------------+------------------+-------------------+-------------------------+----------------------+ | FreeBSD 14.2 | PASS | SKIPPED | SKIPPED | SKIPPED | SKIPPED | SKIPPED | +-------------------------------+--------------------+-------------------+------------------+-------------------+-------------------------+----------------------+ | CentOS Stream 9 | PASS | WARN | SKIPPED | SKIPPED | SKIPPED | SKIPPED | +-------------------------------+--------------------+-------------------+------------------+-------------------+-------------------------+----------------------+ | CentOS Stream 10 | PASS | SKIPPED | SKIPPED | SKIPPED | SKIPPED | SKIPPED | +-------------------------------+--------------------+-------------------+------------------+-------------------+-------------------------+----------------------+ | Debian GNU/Linux 12 | PASS | WARN | SKIPPED | SKIPPED | SKIPPED | SKIPPED | +-------------------------------+--------------------+-------------------+------------------+-------------------+-------------------------+----------------------+ | Fedora Linux 42 | PASS | WARN | PASS | SKIPPED | SKIPPED | SKIPPED | +-------------------------------+--------------------+-------------------+------------------+-------------------+-------------------------+----------------------+ | openSUSE Leap 15.6 | PASS | SKIPPED | SKIPPED | SKIPPED | SKIPPED | SKIPPED | +-------------------------------+--------------------+-------------------+------------------+-------------------+-------------------------+----------------------+ | Red Hat Enterprise Linux 8.10 | PASS | SKIPPED | SKIPPED | SKIPPED | SKIPPED | SKIPPED | +-------------------------------+--------------------+-------------------+------------------+-------------------+-------------------------+----------------------+ | Red Hat Enterprise Linux 9.5 | PASS | SKIPPED | SKIPPED | SKIPPED | SKIPPED | SKIPPED | +-------------------------------+--------------------+-------------------+------------------+-------------------+-------------------------+----------------------+ | Ubuntu 22.04 | PASS | WARN | SKIPPED | SKIPPED | SKIPPED | SKIPPED | +-------------------------------+--------------------+-------------------+------------------+-------------------+-------------------------+----------------------+ | Ubuntu 24.04 | PASS | WARN | PASS | SKIPPED | SKIPPED | SKIPPED | +-------------------------------+--------------------+-------------------+------------------+-------------------+-------------------------+----------------------+ | Alpine Linux 3.22.0 | PASS | SKIPPED | SKIPPED | SKIPPED | SKIPPED | SKIPPED | +-------------------------------+--------------------+-------------------+------------------+-------------------+-------------------------+----------------------+ | Windows Server 2022 | SKIPPED | SKIPPED | SKIPPED | PASS | PASS | PASS | +-------------------------------+--------------------+-------------------+------------------+-------------------+-------------------------+----------------------+ ==== 20 line log output for Ubuntu 24.04 (dpdk_compile_spdk): ==== --- Failed to get log output --- ==== End log output ==== Ubuntu 20.04 Kernel: 4.19 Compiler: gcc gcc (Ubuntu 9.4.0-1ubuntu1~20.04.2) 9.4.0 FreeBSD 14.2 Kernel: 14.2-RELEASE Compiler: clang 18.1.6 CentOS Stream 9 Kernel: 5.15 Compiler: gcc gcc (GCC) 11.5.0 20240719 (Red Hat 11.5.0-11) CentOS Stream 10 Kernel: 5.15 Compiler: gcc gcc (GCC) 14.2.1 20250110 (Red Hat 14.2.1-8) Debian GNU/Linux 12 Kernel: 5.15 Compiler: gcc gcc (Debian 12.2.0-14+deb12u1) 12.2.0 Fedora Linux 42 Kernel: 5.15 Compiler: clang gcc (GCC) 15.2.1 20250808 (Red Hat 15.2.1-1) openSUSE Leap 15.6 Kernel: 5.15 Compiler: gcc gcc (SUSE Linux) 7.5.0 Red Hat Enterprise Linux 8.10 Kernel: 5.15 Compiler: gcc gcc (GCC) 8.5.0 20210514 (Red Hat 8.5.0-22) Red Hat Enterprise Linux 9.5 Kernel: 5.15 Compiler: gcc gcc (GCC) 11.5.0 20240719 (Red Hat 11.5.0-2) Ubuntu 22.04 Kernel: 5.15 Compiler: gcc gcc (Ubuntu 11.4.0-1ubuntu1~22.04) 11.4.0 Ubuntu 24.04 Kernel: 5.15 Compiler: gcc gcc (Ubuntu 13.3.0-6ubuntu2~24.04) 13.3.0 Alpine Linux 3.22.0 Kernel: 5.15 Compiler: gcc gcc (Alpine 14.2.0) 14.2.0 Windows Server 2022 Kernel: 10.0.20348.2031 Compiler: clang 15.0.7, gcc 14.1.0 (MinGW), and MSVC VS 19.39.33521 To view detailed results, visit: https://lab.dpdk.org/results/dashboard/patchsets/34404/ UNH-IOL DPDK Community Lab To manage your email subscriptions, visit: https://lab.dpdk.org/results/dashboard/preferences/subscriptions/