From mboxrd@z Thu Jan 1 00:00:00 1970 Return-Path: Received: from mails.dpdk.org (mails.dpdk.org [217.70.189.124]) by inbox.dpdk.org (Postfix) with ESMTP id 9721A48A0C for ; Wed, 29 Oct 2025 00:06:48 +0100 (CET) Received: from mails.dpdk.org (localhost [127.0.0.1]) by mails.dpdk.org (Postfix) with ESMTP id 92BF140262; Wed, 29 Oct 2025 00:06:48 +0100 (CET) Received: from mail-pl1-f228.google.com (mail-pl1-f228.google.com [209.85.214.228]) by mails.dpdk.org (Postfix) with ESMTP id 878F540262 for ; Wed, 29 Oct 2025 00:06:47 +0100 (CET) Received: by mail-pl1-f228.google.com with SMTP id d9443c01a7336-29476dc9860so51013975ad.0 for ; Tue, 28 Oct 2025 16:06:47 -0700 (PDT) DKIM-Signature: v=1; a=rsa-sha256; c=relaxed/relaxed; d=iol.unh.edu; s=unh-iol; t=1761692807; x=1762297607; darn=dpdk.org; h=references:in-reply-to:cc:to:from:subject:message-id:date:from:to :cc:subject:date:message-id:reply-to; bh=B1FfcHx6Du+zk/uEsBv76eL//gCo4cIvnrIPeJZ6JfQ=; b=QnmMhMWQoUvl2gsn9RVPRJiyVdsnkuyiRxr29JEM+QCdxcqrHPx/WsLndEDS3KILju Zl1NvelpNwtlFLXD0dU9DevCtlcm1rN/qcdd21WW01emPaYHGSNg9xKw2T7LSbOHyBsY MsxGF/f3pm75RsgYUr0XwmqILo8GkU7cwsB+c= X-Google-DKIM-Signature: v=1; a=rsa-sha256; c=relaxed/relaxed; d=1e100.net; s=20230601; t=1761692807; x=1762297607; h=references:in-reply-to:cc:to:from:subject:message-id:date :x-gm-message-state:from:to:cc:subject:date:message-id:reply-to; bh=B1FfcHx6Du+zk/uEsBv76eL//gCo4cIvnrIPeJZ6JfQ=; b=lmRqtwZQLofCJvaSXRUKUz5xqQbyilLMRCxvi4idsSgOmEt0I11rMYFGHKkW18PHs+ rbN+RDhMnJC/NiDamJIcg6LqR7twjlTFavTrrPAM/ClVb2otCcMbb3+c/lm17SaKpZlQ mlHtof62OrkQsunGr5y4OE+lE2ZSbRq3MIJ+N9bS5rCi4Pfv8elP8pKAyU/gZ45dTo8g NitTbHMHNK8pHRFzKUZeVYnl/kI6Mlrl4GatFJUUDV/VkBWeD/zgM35SIMyTzawsZFEd vaEDiIFpEEVeN5ZqIEUaouJD3nxB99OutNBFGB7AJND3b54P8pBHEN1FPp6TU3MGk+5J tUiQ== X-Gm-Message-State: AOJu0YwlWgNYDrPWo/PJERRjWaPX9DilrJLOv0R2kG+ZEYhChKQWoyK4 vtOKm7NXmslsZXkb14qAYL/yB6YrmdI891H/FJ7TkDKU5VP+BT5A4J+M4/3VI4pv2x8XubHBE4L sga1TMgU3JK4iNpZFEWcBwok1NF1ZFXPFqtapKG8x6cdHuuzqiHUAMT1+0V9c X-Gm-Gg: ASbGncvyOTKr8q/SzgGp4X7ymCt1H29uW/fc9OeoKLiMbcrC55ljp3wrDXyJmxbimP+ 9SxFWagZwNRXW2mu/U0aKRPFmytATp/eePNXCQuIyEnO1w2894P0lWR3nVyxo+0HZZZGk5aw6JX c7DfLrvgrEYZv0eQTzhw2zk6bhDwim8NtnukTBb4SCO1F84UYxyRHSNkk1ZvckQQjlwxp/6xf+h F28FNsvtONYEKZixxMEV8wNZ3Utu8/Z8Uth9SvyU4KeXZqRk0h3/ELb5vQhNC4GCAGD/dUkIc9x aRhygi0uKkZM5xmFEXEyakSLFpOaJ5UUdZwM3hjGd0TyBA4phyGaJ/Yv41f2c6IE+N/if78rY9R FHBOU3P6U X-Google-Smtp-Source: AGHT+IEU8K6g78u8M/cI3EiUugXeddXdXEBcv2cyEyguaz/KcwDJleuLy/r0S/SZijOInAXHYbeB86/laZm3 X-Received: by 2002:a17:903:2f92:b0:273:c463:7b2c with SMTP id d9443c01a7336-294dedf3dbemr9861365ad.3.1761692806725; Tue, 28 Oct 2025 16:06:46 -0700 (PDT) Received: from postal.iol.unh.edu (postal.iol.unh.edu. [2606:4100:3880:1234::84]) by smtp-relay.gmail.com with ESMTPS id d2e1a72fcca58-7a4140c47a0sm810351b3a.11.2025.10.28.16.06.46 (version=TLS1_2 cipher=ECDHE-ECDSA-AES128-GCM-SHA256 bits=128/128); Tue, 28 Oct 2025 16:06:46 -0700 (PDT) X-Relaying-Domain: iol.unh.edu Date: Tue, 28 Oct 2025 16:06:46 -0700 (PDT) Message-ID: <69014c86.050a0220.3b9465.650bSMTPIN_ADDED_MISSING@mx.google.com> Received: from [172.21.0.2] (unknown [172.18.0.240]) by postal.iol.unh.edu (Postfix) with ESMTP id 045176051830; Tue, 28 Oct 2025 19:06:46 -0400 (EDT) Subject: |WARNING| pw158203 [PATCH] [v3] fib6: implement RCU rule reclamation From: dpdklab@iol.unh.edu To: Test Report Cc: dpdk-test-reports@iol.unh.edu In-Reply-To: <20251028173703.548656-3-rjarry@redhat.com> References: <20251028173703.548656-3-rjarry@redhat.com> Content-Type: text/plain X-BeenThere: test-report@dpdk.org X-Mailman-Version: 2.1.29 Precedence: list List-Id: automatic DPDK test reports List-Unsubscribe: , List-Archive: List-Post: List-Help: List-Subscribe: , Errors-To: test-report-bounces@dpdk.org Test-Label: iol-compile-amd64-testing Test-Status: WARNING http://dpdk.org/patch/158203 _Testing issues_ Submitter: Robin Jarry Date: Tuesday, October 28 2025 17:37:05 DPDK git baseline: Repo:dpdk Branch: master CommitID:39b54f2dcf44ad1f91eabc7080cd5dea763607fd 158203 --> testing issues Upstream job id: Generic-DPDK-Compile-Meson#438726 Test environment and result as below: +-------------------------------+--------------------+-------------------+-------------------+------------------+ | Environment | dpdk_meson_compile | dpdk_msvc_compile | dpdk_compile_spdk | dpdk_compile_ovs | +===============================+====================+===================+===================+==================+ | FreeBSD 14.2 | PASS | SKIPPED | SKIPPED | SKIPPED | +-------------------------------+--------------------+-------------------+-------------------+------------------+ | Ubuntu 20.04 | PASS | SKIPPED | SKIPPED | SKIPPED | +-------------------------------+--------------------+-------------------+-------------------+------------------+ | CentOS Stream 10 | PASS | SKIPPED | SKIPPED | SKIPPED | +-------------------------------+--------------------+-------------------+-------------------+------------------+ | CentOS Stream 9 | PASS | SKIPPED | WARN | SKIPPED | +-------------------------------+--------------------+-------------------+-------------------+------------------+ | Debian GNU/Linux 12 | PASS | SKIPPED | WARN | SKIPPED | +-------------------------------+--------------------+-------------------+-------------------+------------------+ | Fedora Linux 42 | PASS | SKIPPED | WARN | PASS | +-------------------------------+--------------------+-------------------+-------------------+------------------+ | Red Hat Enterprise Linux 8.10 | PASS | SKIPPED | SKIPPED | SKIPPED | +-------------------------------+--------------------+-------------------+-------------------+------------------+ | Red Hat Enterprise Linux 9.5 | PASS | SKIPPED | SKIPPED | SKIPPED | +-------------------------------+--------------------+-------------------+-------------------+------------------+ | openSUSE Leap 15.6 | PASS | SKIPPED | SKIPPED | SKIPPED | +-------------------------------+--------------------+-------------------+-------------------+------------------+ | Ubuntu 22.04 | PASS | SKIPPED | WARN | SKIPPED | +-------------------------------+--------------------+-------------------+-------------------+------------------+ | Ubuntu 24.04 | PASS | SKIPPED | WARN | PASS | +-------------------------------+--------------------+-------------------+-------------------+------------------+ | Alpine Linux 3.22.0 | PASS | SKIPPED | SKIPPED | SKIPPED | +-------------------------------+--------------------+-------------------+-------------------+------------------+ | Windows Server 2022 | SKIPPED | PASS | SKIPPED | SKIPPED | +-------------------------------+--------------------+-------------------+-------------------+------------------+ ==== 20 line log output for Ubuntu 24.04 (dpdk_compile_spdk): ==== --- Failed to get log output --- ==== End log output ==== FreeBSD 14.2 Kernel: 14.2-RELEASE Compiler: clang 18.1.6 Ubuntu 20.04 Kernel: 4.19 Compiler: gcc gcc (Ubuntu 9.4.0-1ubuntu1~20.04.2) 9.4.0 CentOS Stream 10 Kernel: 5.15 Compiler: gcc gcc (GCC) 14.2.1 20250110 (Red Hat 14.2.1-8) CentOS Stream 9 Kernel: 5.15 Compiler: gcc gcc (GCC) 11.5.0 20240719 (Red Hat 11.5.0-11) Debian GNU/Linux 12 Kernel: 5.15 Compiler: gcc gcc (Debian 12.2.0-14+deb12u1) 12.2.0 Fedora Linux 42 Kernel: 5.15 Compiler: clang gcc (GCC) 15.2.1 20250808 (Red Hat 15.2.1-1) Red Hat Enterprise Linux 8.10 Kernel: 5.15 Compiler: gcc gcc (GCC) 8.5.0 20210514 (Red Hat 8.5.0-22) Red Hat Enterprise Linux 9.5 Kernel: 5.15 Compiler: gcc gcc (GCC) 11.5.0 20240719 (Red Hat 11.5.0-2) openSUSE Leap 15.6 Kernel: 5.15 Compiler: gcc gcc (SUSE Linux) 7.5.0 Ubuntu 22.04 Kernel: 5.15 Compiler: gcc gcc (Ubuntu 11.4.0-1ubuntu1~22.04) 11.4.0 Ubuntu 24.04 Kernel: 5.15 Compiler: gcc gcc (Ubuntu 13.3.0-6ubuntu2~24.04) 13.3.0 Alpine Linux 3.22.0 Kernel: 5.15 Compiler: gcc gcc (Alpine 14.2.0) 14.2.0 Windows Server 2022 Kernel: 10.0.20348.2031 Compiler: clang 15.0.7, gcc 14.1.0 (MinGW), and MSVC VS 19.39.33521 To view detailed results, visit: https://lab.dpdk.org/results/dashboard/patchsets/34407/ UNH-IOL DPDK Community Lab To manage your email subscriptions, visit: https://lab.dpdk.org/results/dashboard/preferences/subscriptions/