From mboxrd@z Thu Jan 1 00:00:00 1970 Return-Path: Received: from mails.dpdk.org (mails.dpdk.org [217.70.189.124]) by inbox.dpdk.org (Postfix) with ESMTP id 07A7D48A0E for ; Wed, 29 Oct 2025 00:09:26 +0100 (CET) Received: from mails.dpdk.org (localhost [127.0.0.1]) by mails.dpdk.org (Postfix) with ESMTP id D730740262; Wed, 29 Oct 2025 00:09:25 +0100 (CET) Received: from mail-pl1-f225.google.com (mail-pl1-f225.google.com [209.85.214.225]) by mails.dpdk.org (Postfix) with ESMTP id DAFD540262 for ; Wed, 29 Oct 2025 00:09:24 +0100 (CET) Received: by mail-pl1-f225.google.com with SMTP id d9443c01a7336-294df925292so1848685ad.1 for ; Tue, 28 Oct 2025 16:09:24 -0700 (PDT) DKIM-Signature: v=1; a=rsa-sha256; c=relaxed/relaxed; d=iol.unh.edu; s=unh-iol; t=1761692964; x=1762297764; darn=dpdk.org; h=references:in-reply-to:cc:to:from:subject:message-id:date:from:to :cc:subject:date:message-id:reply-to; bh=75l8fk91S1+d/+ALGtA4ZxF5mK83KayslTiiiCEsbic=; b=W+EJTu0DcGThs5u+4i9FpTXXkxPir76n56eKQi/5XapHrscH9iTVP8vYxaz2MMb5ZE 3NgB0scUwK51KeC4l2eH95z97V5OFfKEw7YlOr22IUlydrgPddf2sUT/J4lfwAWT3Y2J ARH+nocjG92PT5hhw9DWbrGVSlqv/uE/Weyxw= X-Google-DKIM-Signature: v=1; a=rsa-sha256; c=relaxed/relaxed; d=1e100.net; s=20230601; t=1761692964; x=1762297764; h=references:in-reply-to:cc:to:from:subject:message-id:date :x-gm-message-state:from:to:cc:subject:date:message-id:reply-to; bh=75l8fk91S1+d/+ALGtA4ZxF5mK83KayslTiiiCEsbic=; b=NYzzGuYzlGPiCqjMwi/k/2LNB61dZxXUy/bb+aMlZlw818s06wANYX48I1IG/4lbz9 LEqZD52/e0SxJBtfsYZuWJrzTmpww88QKrhySQBCqNgShlDC9EAxaCcJl6nro2dk5dn5 FI/470Nh9JJa/YdvF7K+KHy0ZEHa/WORacjJZVw0iBwSkMA+IvmRC3RzgVW+wWpHCH05 964WxonegjOBkAn+94Sf5fo+9/cfHCiyApwTm0kEhYu0+QK7WDP+i0+rD3ROqFtSq+9w QWtwhcTuIPKp4TVWviov1sXfiwEL1Zv2/STXc+wkSCU/TNdf3cda+/rt2kVDU2HOZCSJ F/gA== X-Gm-Message-State: AOJu0Yx48Dpe+u0Kl07+zuPAFOoaoB+4jT7Ydrb0LJbX3erBDu4jfaIt Grq9BHnTvplDeblGtIVKsw46phifOrjHXbYrtv7NLqR84soWV/zzc7oZnks4N46zSpx/Sv+FuXN j6mPJy/+NOQLubGQbkBOf6tYtCCOx6oRAc+k8uvq00XK9E8ohGqueqaZv0nuZ X-Gm-Gg: ASbGnctdK0OSCRsGGlehnZxwwd3X6KOWVRrEjVnq/MZYd7EQPDpyhy1Sl8K7WMbdecy c7B3J+yBcihrMWAQxgjLuYcPapB/3olz6ebNukYUO5N+ig+781YhT3fdRWFoQFx+OuPsrZAQ4kQ iWodZlEMkPJmvwqBwx+UgHO0nsN25JKPfd/bUBjF56RrXDVu/iLPb1q4ijR2yZBYKTnQMA8mLK2 mvgt3vNo9c7vapWVdujyGW1YwRjPjoofvT1ZElz5cLCspR/Gba/84vqcNyxKEW0t7Cblozq/xwY 5rOuBw02qNueIltioe9DWYgvuJeArSZiZ+dqf6EHEafa+5cy2t6XC87e8PsDqshY95RhEnF7m+Y o8w1t3Olb X-Google-Smtp-Source: AGHT+IGHd8XZ4mMwAcGRoJc/NIHhLXpCMMNivgFHUDNVbyg4KSjS6dkVXJbmDMI3P9I3FiA02QM0ROVeuwTj X-Received: by 2002:a17:902:e752:b0:290:af0e:1191 with SMTP id d9443c01a7336-294dee4967cmr10825395ad.21.1761692964030; Tue, 28 Oct 2025 16:09:24 -0700 (PDT) Received: from postal.iol.unh.edu (postal.iol.unh.edu. [2606:4100:3880:1234::84]) by smtp-relay.gmail.com with ESMTPS id d9443c01a7336-29498d0c33asm11521815ad.25.2025.10.28.16.09.23 (version=TLS1_2 cipher=ECDHE-ECDSA-AES128-GCM-SHA256 bits=128/128); Tue, 28 Oct 2025 16:09:24 -0700 (PDT) X-Relaying-Domain: iol.unh.edu Date: Tue, 28 Oct 2025 16:09:24 -0700 (PDT) Message-ID: <69014d24.170a0220.2ee997.67d8SMTPIN_ADDED_MISSING@mx.google.com> Received: from [172.21.0.4] (unknown [172.18.0.240]) by postal.iol.unh.edu (Postfix) with ESMTP id 2C8EB6051830; Tue, 28 Oct 2025 19:09:23 -0400 (EDT) Subject: |WARNING| pw158193 [PATCH] trace: fix build with clang 21 From: dpdklab@iol.unh.edu To: Test Report Cc: dpdk-test-reports@iol.unh.edu In-Reply-To: <20251028143952.4160487-1-david.marchand@redhat.com> References: <20251028143952.4160487-1-david.marchand@redhat.com> Content-Type: text/plain X-BeenThere: test-report@dpdk.org X-Mailman-Version: 2.1.29 Precedence: list List-Id: automatic DPDK test reports List-Unsubscribe: , List-Archive: List-Post: List-Help: List-Subscribe: , Errors-To: test-report-bounces@dpdk.org Test-Label: iol-compile-amd64-testing Test-Status: WARNING http://dpdk.org/patch/158193 _Testing issues_ Submitter: David Marchand Date: Tuesday, October 28 2025 14:39:52 DPDK git baseline: Repo:dpdk Branch: master CommitID:39b54f2dcf44ad1f91eabc7080cd5dea763607fd 158193 --> testing issues Upstream job id: Windows-Compile-DPDK-Native#31957 Test environment and result as below: +-------------------------------+--------------------+-------------------+------------------+-------------------+-------------------------+ | Environment | dpdk_meson_compile | dpdk_compile_spdk | dpdk_compile_ovs | dpdk_msvc_compile | dpdk_llvm_clang_compile | +===============================+====================+===================+==================+===================+=========================+ | FreeBSD 14.2 | PASS | SKIPPED | SKIPPED | SKIPPED | SKIPPED | +-------------------------------+--------------------+-------------------+------------------+-------------------+-------------------------+ | Ubuntu 20.04 | PASS | SKIPPED | SKIPPED | SKIPPED | SKIPPED | +-------------------------------+--------------------+-------------------+------------------+-------------------+-------------------------+ | CentOS Stream 9 | PASS | WARN | SKIPPED | SKIPPED | SKIPPED | +-------------------------------+--------------------+-------------------+------------------+-------------------+-------------------------+ | CentOS Stream 10 | PASS | SKIPPED | SKIPPED | SKIPPED | SKIPPED | +-------------------------------+--------------------+-------------------+------------------+-------------------+-------------------------+ | Debian GNU/Linux 12 | PASS | WARN | SKIPPED | SKIPPED | SKIPPED | +-------------------------------+--------------------+-------------------+------------------+-------------------+-------------------------+ | Fedora Linux 42 | PASS | WARN | PASS | SKIPPED | SKIPPED | +-------------------------------+--------------------+-------------------+------------------+-------------------+-------------------------+ | Red Hat Enterprise Linux 8.10 | PASS | SKIPPED | SKIPPED | SKIPPED | SKIPPED | +-------------------------------+--------------------+-------------------+------------------+-------------------+-------------------------+ | openSUSE Leap 15.6 | PASS | SKIPPED | SKIPPED | SKIPPED | SKIPPED | +-------------------------------+--------------------+-------------------+------------------+-------------------+-------------------------+ | Red Hat Enterprise Linux 9.5 | PASS | SKIPPED | SKIPPED | SKIPPED | SKIPPED | +-------------------------------+--------------------+-------------------+------------------+-------------------+-------------------------+ | Ubuntu 22.04 | PASS | WARN | SKIPPED | SKIPPED | SKIPPED | +-------------------------------+--------------------+-------------------+------------------+-------------------+-------------------------+ | Ubuntu 24.04 | PASS | WARN | PASS | SKIPPED | SKIPPED | +-------------------------------+--------------------+-------------------+------------------+-------------------+-------------------------+ | Alpine Linux 3.22.0 | PASS | SKIPPED | SKIPPED | SKIPPED | SKIPPED | +-------------------------------+--------------------+-------------------+------------------+-------------------+-------------------------+ | Windows Server 2022 | SKIPPED | SKIPPED | SKIPPED | PASS | PASS | +-------------------------------+--------------------+-------------------+------------------+-------------------+-------------------------+ ==== 20 line log output for Ubuntu 24.04 (dpdk_compile_spdk): ==== --- Failed to get log output --- ==== End log output ==== FreeBSD 14.2 Kernel: 14.2-RELEASE Compiler: clang 18.1.6 Ubuntu 20.04 Kernel: 4.19 Compiler: gcc gcc (Ubuntu 9.4.0-1ubuntu1~20.04.2) 9.4.0 CentOS Stream 9 Kernel: 5.15 Compiler: gcc gcc (GCC) 11.5.0 20240719 (Red Hat 11.5.0-11) CentOS Stream 10 Kernel: 5.15 Compiler: gcc gcc (GCC) 14.2.1 20250110 (Red Hat 14.2.1-8) Debian GNU/Linux 12 Kernel: 5.15 Compiler: gcc gcc (Debian 12.2.0-14+deb12u1) 12.2.0 Fedora Linux 42 Kernel: 5.15 Compiler: clang gcc (GCC) 15.2.1 20250808 (Red Hat 15.2.1-1) Red Hat Enterprise Linux 8.10 Kernel: 5.15 Compiler: gcc gcc (GCC) 8.5.0 20210514 (Red Hat 8.5.0-22) openSUSE Leap 15.6 Kernel: 5.15 Compiler: gcc gcc (SUSE Linux) 7.5.0 Red Hat Enterprise Linux 9.5 Kernel: 5.15 Compiler: gcc gcc (GCC) 11.5.0 20240719 (Red Hat 11.5.0-2) Ubuntu 22.04 Kernel: 5.15 Compiler: gcc gcc (Ubuntu 11.4.0-1ubuntu1~22.04) 11.4.0 Ubuntu 24.04 Kernel: 5.15 Compiler: gcc gcc (Ubuntu 13.3.0-6ubuntu2~24.04) 13.3.0 Alpine Linux 3.22.0 Kernel: 5.15 Compiler: gcc gcc (Alpine 14.2.0) 14.2.0 Windows Server 2022 Kernel: 10.0.20348.2031 Compiler: clang 15.0.7, gcc 14.1.0 (MinGW), and MSVC VS 19.39.33521 To view detailed results, visit: https://lab.dpdk.org/results/dashboard/patchsets/34405/ UNH-IOL DPDK Community Lab To manage your email subscriptions, visit: https://lab.dpdk.org/results/dashboard/preferences/subscriptions/