From mboxrd@z Thu Jan 1 00:00:00 1970 Return-Path: Received: from mails.dpdk.org (mails.dpdk.org [217.70.189.124]) by inbox.dpdk.org (Postfix) with ESMTP id 1FEFC48A0E for ; Wed, 29 Oct 2025 00:10:39 +0100 (CET) Received: from mails.dpdk.org (localhost [127.0.0.1]) by mails.dpdk.org (Postfix) with ESMTP id 1B3B740262; Wed, 29 Oct 2025 00:10:39 +0100 (CET) Received: from mail-oa1-f98.google.com (mail-oa1-f98.google.com [209.85.160.98]) by mails.dpdk.org (Postfix) with ESMTP id A72CC40297 for ; Wed, 29 Oct 2025 00:10:29 +0100 (CET) Received: by mail-oa1-f98.google.com with SMTP id 586e51a60fabf-3c9c379af8aso310596fac.1 for ; Tue, 28 Oct 2025 16:10:29 -0700 (PDT) DKIM-Signature: v=1; a=rsa-sha256; c=relaxed/relaxed; d=iol.unh.edu; s=unh-iol; t=1761693029; x=1762297829; darn=dpdk.org; h=references:in-reply-to:cc:to:from:subject:message-id:date:from:to :cc:subject:date:message-id:reply-to; bh=Z/iwgah5UGtQjlno2NvyEMzfPKb4FcemD/10HWncCjw=; b=QiKzhSY+0TwAtMooaX8XImCFY7zKxdplKl8FEmdisvfULrbxVok0gjz0ow572v+clk ro0F60GjiepryCwthFtWGCqopTTMd13DYqcJweAK3tIIYOdoQEezbKxwyklY+llgPUC/ ND36PMKT26LVryN1Lvlnf0NrJtmxPXGkCwt2M= X-Google-DKIM-Signature: v=1; a=rsa-sha256; c=relaxed/relaxed; d=1e100.net; s=20230601; t=1761693029; x=1762297829; h=references:in-reply-to:cc:to:from:subject:message-id:date :x-gm-message-state:from:to:cc:subject:date:message-id:reply-to; bh=Z/iwgah5UGtQjlno2NvyEMzfPKb4FcemD/10HWncCjw=; b=QwHaqkOEZV10EgIIMzeJ8qiTnDUY5fbhocOICoOR4Zkw17xt93VNpSkgGpdOhBayGS uCr47jo7rsAGJFQwrkgpKSpONTUK5lAJSEc91UXWuezg8JJbnLiSIoxT7JWBVz2aNe4o xzQNIR9t5tvQsVtIuXaOJnRuand6dNQAHxFBANxI8JttiQL27/tH0opmSHastnsSjkup upbo9fMTKiBPHLSBwKh4t62geV7rNJZwbLZvvnCqbffqa8IsKoy/yJVopt0rGtLKG/VD w93ROxiJoPiiDvBWcYRp4VEycfj3fBM6vv4Am3lotV9VHPD0CYOn2SuCLM7vf9RLME/y AdRQ== X-Gm-Message-State: AOJu0YwebmDjbNWjAPf5royhuRKoYt7MOcTCKrEhnIVLEMWJvmZZxMJ6 /rjXopdhcGgh4Btgzmg/yVGP33VuOGTljJLljiH2tqpIvBPgfijh2CxnxNGXj0MDiPeAZhcbOSd kNJWhGbdjQPaR3usUUpoJ1KqduX/ZPBKKgtjpdfe6Yysd4N0RSig2ikjDsMAm X-Gm-Gg: ASbGnctzw1XwHM+ZBKB9eh0sxuTY1LZGCoi9RFiS2Vr9rFNg1wwC7xkWgPuiubhEv4K E2SmZ1hafrzMQy7n4dIkRbu+by+CXNOgUiMdKqNRDTTo70LJFCK7zYHu4utMbPMprD0JBpRbagX EPpmePjfYyY5tjudOn//dgwMwi8gCu0153g481Pl1JqE1VKLgF3UsoRsQ29ToVOxqjaITjyehAz 7OrlOeP44MTBShKmCA438DELHAQ6/nMBF52JVuSNXXW1qcMZdyU+Ssrgo1EubmSzoKAuW27X5t1 OEC9GqRFkyo/k3nL/tyvcZabvyYdO+XPIjfG61yIppP5rAS1vrIY2DuHuRJWvJNPJx+ugbjHSu+ 16+hWC8Bv X-Google-Smtp-Source: AGHT+IF4+s/TwotGKWkkWCt35GpVSCy8XwQ1x+jUeKqFzW53j4/acXqgIMIRwlGV9OeU151oPBoEKXeoZHiq X-Received: by 2002:a05:6870:91d4:b0:3d2:1a91:2f1e with SMTP id 586e51a60fabf-3d5e59aab98mr2042644fac.8.1761693028945; Tue, 28 Oct 2025 16:10:28 -0700 (PDT) Received: from postal.iol.unh.edu (postal.iol.unh.edu. [2606:4100:3880:1234::84]) by smtp-relay.gmail.com with ESMTPS id 586e51a60fabf-3d1e2e2f20bsm1131510fac.8.2025.10.28.16.10.28 (version=TLS1_2 cipher=ECDHE-ECDSA-AES128-GCM-SHA256 bits=128/128); Tue, 28 Oct 2025 16:10:28 -0700 (PDT) X-Relaying-Domain: iol.unh.edu Date: Tue, 28 Oct 2025 16:10:28 -0700 (PDT) Message-ID: <69014d64.050a0220.1cc7c1.447cSMTPIN_ADDED_MISSING@mx.google.com> Received: from [172.21.0.2] (unknown [172.18.0.240]) by postal.iol.unh.edu (Postfix) with ESMTP id 73A946051830; Tue, 28 Oct 2025 19:10:28 -0400 (EDT) Subject: |WARNING| pw158193 [PATCH] trace: fix build with clang 21 From: dpdklab@iol.unh.edu To: Test Report Cc: dpdk-test-reports@iol.unh.edu In-Reply-To: <20251028143952.4160487-1-david.marchand@redhat.com> References: <20251028143952.4160487-1-david.marchand@redhat.com> Content-Type: text/plain X-BeenThere: test-report@dpdk.org X-Mailman-Version: 2.1.29 Precedence: list List-Id: automatic DPDK test reports List-Unsubscribe: , List-Archive: List-Post: List-Help: List-Subscribe: , Errors-To: test-report-bounces@dpdk.org Test-Label: iol-compile-amd64-testing Test-Status: WARNING http://dpdk.org/patch/158193 _Testing issues_ Submitter: David Marchand Date: Tuesday, October 28 2025 14:39:52 DPDK git baseline: Repo:dpdk Branch: master CommitID:39b54f2dcf44ad1f91eabc7080cd5dea763607fd 158193 --> testing issues Upstream job id: Windows-Compile-DPDK-Native#31958 Test environment and result as below: +-------------------------------+--------------------+-------------------+------------------+-------------------+-------------------------+----------------------+ | Environment | dpdk_meson_compile | dpdk_compile_spdk | dpdk_compile_ovs | dpdk_msvc_compile | dpdk_llvm_clang_compile | dpdk_mingw64_compile | +===============================+====================+===================+==================+===================+=========================+======================+ | FreeBSD 14.2 | PASS | SKIPPED | SKIPPED | SKIPPED | SKIPPED | SKIPPED | +-------------------------------+--------------------+-------------------+------------------+-------------------+-------------------------+----------------------+ | Ubuntu 20.04 | PASS | SKIPPED | SKIPPED | SKIPPED | SKIPPED | SKIPPED | +-------------------------------+--------------------+-------------------+------------------+-------------------+-------------------------+----------------------+ | CentOS Stream 9 | PASS | WARN | SKIPPED | SKIPPED | SKIPPED | SKIPPED | +-------------------------------+--------------------+-------------------+------------------+-------------------+-------------------------+----------------------+ | CentOS Stream 10 | PASS | SKIPPED | SKIPPED | SKIPPED | SKIPPED | SKIPPED | +-------------------------------+--------------------+-------------------+------------------+-------------------+-------------------------+----------------------+ | Debian GNU/Linux 12 | PASS | WARN | SKIPPED | SKIPPED | SKIPPED | SKIPPED | +-------------------------------+--------------------+-------------------+------------------+-------------------+-------------------------+----------------------+ | Fedora Linux 42 | PASS | WARN | PASS | SKIPPED | SKIPPED | SKIPPED | +-------------------------------+--------------------+-------------------+------------------+-------------------+-------------------------+----------------------+ | Red Hat Enterprise Linux 8.10 | PASS | SKIPPED | SKIPPED | SKIPPED | SKIPPED | SKIPPED | +-------------------------------+--------------------+-------------------+------------------+-------------------+-------------------------+----------------------+ | openSUSE Leap 15.6 | PASS | SKIPPED | SKIPPED | SKIPPED | SKIPPED | SKIPPED | +-------------------------------+--------------------+-------------------+------------------+-------------------+-------------------------+----------------------+ | Red Hat Enterprise Linux 9.5 | PASS | SKIPPED | SKIPPED | SKIPPED | SKIPPED | SKIPPED | +-------------------------------+--------------------+-------------------+------------------+-------------------+-------------------------+----------------------+ | Ubuntu 22.04 | PASS | WARN | SKIPPED | SKIPPED | SKIPPED | SKIPPED | +-------------------------------+--------------------+-------------------+------------------+-------------------+-------------------------+----------------------+ | Ubuntu 24.04 | PASS | WARN | PASS | SKIPPED | SKIPPED | SKIPPED | +-------------------------------+--------------------+-------------------+------------------+-------------------+-------------------------+----------------------+ | Alpine Linux 3.22.0 | PASS | SKIPPED | SKIPPED | SKIPPED | SKIPPED | SKIPPED | +-------------------------------+--------------------+-------------------+------------------+-------------------+-------------------------+----------------------+ | Windows Server 2022 | SKIPPED | SKIPPED | SKIPPED | PASS | PASS | PASS | +-------------------------------+--------------------+-------------------+------------------+-------------------+-------------------------+----------------------+ ==== 20 line log output for Ubuntu 24.04 (dpdk_compile_spdk): ==== --- Failed to get log output --- ==== End log output ==== FreeBSD 14.2 Kernel: 14.2-RELEASE Compiler: clang 18.1.6 Ubuntu 20.04 Kernel: 4.19 Compiler: gcc gcc (Ubuntu 9.4.0-1ubuntu1~20.04.2) 9.4.0 CentOS Stream 9 Kernel: 5.15 Compiler: gcc gcc (GCC) 11.5.0 20240719 (Red Hat 11.5.0-11) CentOS Stream 10 Kernel: 5.15 Compiler: gcc gcc (GCC) 14.2.1 20250110 (Red Hat 14.2.1-8) Debian GNU/Linux 12 Kernel: 5.15 Compiler: gcc gcc (Debian 12.2.0-14+deb12u1) 12.2.0 Fedora Linux 42 Kernel: 5.15 Compiler: clang gcc (GCC) 15.2.1 20250808 (Red Hat 15.2.1-1) Red Hat Enterprise Linux 8.10 Kernel: 5.15 Compiler: gcc gcc (GCC) 8.5.0 20210514 (Red Hat 8.5.0-22) openSUSE Leap 15.6 Kernel: 5.15 Compiler: gcc gcc (SUSE Linux) 7.5.0 Red Hat Enterprise Linux 9.5 Kernel: 5.15 Compiler: gcc gcc (GCC) 11.5.0 20240719 (Red Hat 11.5.0-2) Ubuntu 22.04 Kernel: 5.15 Compiler: gcc gcc (Ubuntu 11.4.0-1ubuntu1~22.04) 11.4.0 Ubuntu 24.04 Kernel: 5.15 Compiler: gcc gcc (Ubuntu 13.3.0-6ubuntu2~24.04) 13.3.0 Alpine Linux 3.22.0 Kernel: 5.15 Compiler: gcc gcc (Alpine 14.2.0) 14.2.0 Windows Server 2022 Kernel: 10.0.20348.2031 Compiler: clang 15.0.7, gcc 14.1.0 (MinGW), and MSVC VS 19.39.33521 To view detailed results, visit: https://lab.dpdk.org/results/dashboard/patchsets/34405/ UNH-IOL DPDK Community Lab To manage your email subscriptions, visit: https://lab.dpdk.org/results/dashboard/preferences/subscriptions/