From mboxrd@z Thu Jan 1 00:00:00 1970 Return-Path: Received: from mails.dpdk.org (mails.dpdk.org [217.70.189.124]) by inbox.dpdk.org (Postfix) with ESMTP id 6123A48A0E for ; Wed, 29 Oct 2025 00:12:40 +0100 (CET) Received: from mails.dpdk.org (localhost [127.0.0.1]) by mails.dpdk.org (Postfix) with ESMTP id 4945240262; Wed, 29 Oct 2025 00:12:40 +0100 (CET) Received: from mail-io1-f99.google.com (mail-io1-f99.google.com [209.85.166.99]) by mails.dpdk.org (Postfix) with ESMTP id F28C240262 for ; Wed, 29 Oct 2025 00:12:38 +0100 (CET) Received: by mail-io1-f99.google.com with SMTP id ca18e2360f4ac-940d327df21so270465239f.1 for ; Tue, 28 Oct 2025 16:12:38 -0700 (PDT) DKIM-Signature: v=1; a=rsa-sha256; c=relaxed/relaxed; d=iol.unh.edu; s=unh-iol; t=1761693158; x=1762297958; darn=dpdk.org; h=references:in-reply-to:cc:to:from:subject:message-id:date:from:to :cc:subject:date:message-id:reply-to; bh=IqsJnepsgRQxu6Rwgqb8OtgK30ibXuLj48Yu0GSR8Sg=; b=gv4c32XU3TJ2Y4+W+fy3aaCYH+UycW3W/qAh8OykB1Ggk9xSq+hNJNRwt2Q11JiK6t 8OTZvaXe098rwRMv9lisGJoVZgC/N5vC8d3DfAkYrm1nYXIl3pgv9bacevz80MbbOR/I e2C6jWVqT8BnWJoC+8dJuotcw4fRjN/E/eWKE= X-Google-DKIM-Signature: v=1; a=rsa-sha256; c=relaxed/relaxed; d=1e100.net; s=20230601; t=1761693158; x=1762297958; h=references:in-reply-to:cc:to:from:subject:message-id:date :x-gm-message-state:from:to:cc:subject:date:message-id:reply-to; bh=IqsJnepsgRQxu6Rwgqb8OtgK30ibXuLj48Yu0GSR8Sg=; b=v0HcWe0RT6rDoErpSgR4hPEu8R3LirnZBsz06uDrOKuASHlUvoIAVqm2bTGPnU6mKS Ly/HA9Xxqm2Z9htlZOkLPFF94q5Qe+C1R4OWSHDE5afvNzw4dsRB7kMBeuO/VqB90ADE sXgzgKn2XOgMx3d9GBSzIUnuObbTpxiFVmco1QKR9YirfuAirgDvpqj3hAdyitDrg7cr DXOD7v9z5Sk40shpglWFhpu2y0XC+i2tmElsG0AOPHoyMTNHcPfX3qSRTJMSn9Bg4QzL 1G9flMpqNDXtSWJq/fb5wI34haYk4TIsNyl2nGIE8hIg/vns6xnxgdL6y3cxG0WrWb+I FXXg== X-Gm-Message-State: AOJu0YxkxJ4LlnjPgJSud/B5aqZs230OrgPXdCYgxArYGbHt3GuJTR+k 4r3iHUjaqy/afJ9WkorSt1cjzOisJM69HcSfEWGPrWTu8d/dFkaCaXi+ftHECtTwRFEll3zWiYJ UJozRdrKAgB+P4zuBS8vTHYMUA732Xy5z+MZ/729g/xdV X-Gm-Gg: ASbGnctGperca36i5Jb0omUiFrvrQDjCDFyNmif+IXx1d5mQFsffG1SYftJySLpI5Mx oC0cbwo3rFXNyGllCfdlGnnn8rtigtP6H6dXFmFZrjXtLNxBplQR6pIdz/DGNEllPzgqQI2lu+e KVDqXviYP3glgcYvq2TL/XY56LA6xUBvvn7bZR3oaQFhrQdF60AtCan8LwC+PyBjJ8D4Q5rcZ21 PyvhbsRdeq6wiw5yOITFQlCathA7oQr/ERgw/HzIm6HL3VI0xmXAkS1aJVgsBQs3mqfzXk6dWyv xvLjCRFk84lzZ/b8pDp5IzLXYvhshuodYAs/U52z0CHkOh6gA7F1upBd31ovGPtwbjDiUDhGFSg ifGFzfNzxNw4P/r4aXl69lx9Fnci2Eq8= X-Google-Smtp-Source: AGHT+IE84fqSq8CfFwiCohzxjI/xJz3tKN/bM3vjZrHN8iD7GBflSeqbuaSCHtNTRtAv4eWq4UlFSKtpnzIl X-Received: by 2002:a05:6e02:3181:b0:42f:9353:c7bc with SMTP id e9e14a558f8ab-432f8f81ba3mr14784085ab.6.1761693158196; Tue, 28 Oct 2025 16:12:38 -0700 (PDT) Received: from postal.iol.unh.edu (postal.iol.unh.edu. [132.177.123.84]) by smtp-relay.gmail.com with ESMTPS id e9e14a558f8ab-431f688c4ecsm11293535ab.19.2025.10.28.16.12.38 (version=TLS1_2 cipher=ECDHE-ECDSA-AES128-GCM-SHA256 bits=128/128); Tue, 28 Oct 2025 16:12:38 -0700 (PDT) X-Relaying-Domain: iol.unh.edu Date: Tue, 28 Oct 2025 16:12:38 -0700 (PDT) Message-ID: <69014de6.050a0220.2a4cbc.4c3aSMTPIN_ADDED_MISSING@mx.google.com> Received: from [172.21.0.4] (unknown [172.18.0.240]) by postal.iol.unh.edu (Postfix) with ESMTP id CEF47604D420; Tue, 28 Oct 2025 19:12:37 -0400 (EDT) Subject: |SUCCESS| pw158188 [PATCH] vhost: fix external buffer in VDUSE From: dpdklab@iol.unh.edu To: Test Report Cc: dpdk-test-reports@iol.unh.edu, Chenbo Xia , Maxime Coquelin In-Reply-To: <20251028123453.4127525-1-david.marchand@redhat.com> References: <20251028123453.4127525-1-david.marchand@redhat.com> Content-Type: text/plain X-BeenThere: test-report@dpdk.org X-Mailman-Version: 2.1.29 Precedence: list List-Id: automatic DPDK test reports List-Unsubscribe: , List-Archive: List-Post: List-Help: List-Subscribe: , Errors-To: test-report-bounces@dpdk.org Test-Label: iol-compile-arm64-testing Test-Status: SUCCESS http://dpdk.org/patch/158188 _Testing PASS_ Submitter: David Marchand Date: Tuesday, October 28 2025 12:34:53 DPDK git baseline: Repo:dpdk-next-virtio Branch: master CommitID:a62b0fbf8e367c88d28d78210db1b28c8eac4b1b 158188 --> testing pass Upstream job id: Generic-DPDK-Compile-Meson#438596 Test environment and result as below: +------------------------------+--------------------+ | Environment | dpdk_meson_compile | +==============================+====================+ | Red Hat Enterprise Linux 9.5 | PASS | +------------------------------+--------------------+ | Ubuntu 20.04 | PASS | +------------------------------+--------------------+ | Debian GNU/Linux 12 | PASS | +------------------------------+--------------------+ | Fedora Linux 42 | PASS | +------------------------------+--------------------+ | Ubuntu 22.04 | PASS | +------------------------------+--------------------+ | Ubuntu 24.04 | PASS | +------------------------------+--------------------+ | CentOS Stream 9 | PASS | +------------------------------+--------------------+ | CentOS Stream 10 | PASS | +------------------------------+--------------------+ Red Hat Enterprise Linux 9.5 Kernel: 5.4 Compiler: gcc gcc (GCC) 11.5.0 20240719 (Red Hat 11.5.0-2) Ubuntu 20.04 Kernel: 5.15 Compiler: aarch64-linux-gnu-gcc gcc (Ubuntu 9.4.0-1ubuntu1~20.04.2) 9.4.0 Debian GNU/Linux 12 Kernel: 5.4 Compiler: gcc gcc (Debian 12.2.0-14+deb12u1) 12.2.0 Fedora Linux 42 Kernel: 5.4 Compiler: gcc gcc (GCC) 15.2.1 20250808 (Red Hat 15.2.1-1) Ubuntu 22.04 Kernel: 5.4 Compiler: gcc gcc (Ubuntu 11.4.0-1ubuntu1~22.04) 11.4.0 Ubuntu 24.04 Kernel: 5.4 Compiler: gcc gcc (Ubuntu 13.3.0-6ubuntu2~24.04) 13.3.0 CentOS Stream 9 Kernel: 5.4 Compiler: gcc gcc (GCC) 11.5.0 20240719 (Red Hat 11.5.0-11) CentOS Stream 10 Kernel: 5.4 Compiler: gcc gcc (GCC) 14.2.1 20250110 (Red Hat 14.2.1-8) To view detailed results, visit: https://lab.dpdk.org/results/dashboard/patchsets/34402/ UNH-IOL DPDK Community Lab To manage your email subscriptions, visit: https://lab.dpdk.org/results/dashboard/preferences/subscriptions/