From mboxrd@z Thu Jan 1 00:00:00 1970 Return-Path: Received: from mails.dpdk.org (mails.dpdk.org [217.70.189.124]) by inbox.dpdk.org (Postfix) with ESMTP id 6BA4348A0F for ; Wed, 29 Oct 2025 00:13:29 +0100 (CET) Received: from mails.dpdk.org (localhost [127.0.0.1]) by mails.dpdk.org (Postfix) with ESMTP id 66F7B40262; Wed, 29 Oct 2025 00:13:29 +0100 (CET) Received: from mail-pj1-f99.google.com (mail-pj1-f99.google.com [209.85.216.99]) by mails.dpdk.org (Postfix) with ESMTP id 00E4640262 for ; Wed, 29 Oct 2025 00:13:28 +0100 (CET) Received: by mail-pj1-f99.google.com with SMTP id 98e67ed59e1d1-33badfbbc48so8301231a91.2 for ; Tue, 28 Oct 2025 16:13:27 -0700 (PDT) DKIM-Signature: v=1; a=rsa-sha256; c=relaxed/relaxed; d=iol.unh.edu; s=unh-iol; t=1761693207; x=1762298007; darn=dpdk.org; h=references:in-reply-to:cc:to:from:subject:message-id:date:from:to :cc:subject:date:message-id:reply-to; bh=W015vfMbZdFzMOUt1Si2Y/viWpNvGBDmENXyMj9tPWs=; b=CTHOJ+yagVIvjYaGyC3qXhUCUtnZgwHn/1hCN0dw5QfoeCUTPXOpUqjPMxHFncPydc fGfKHyx+7gJTFd86YKs3R83X+4ArNKsfrO2b6kfx6X7KfPT1oOXjEKR7LM8nctLFcOqK g7+LrnUlpkP/IVJcCRpJhM6D6HLgv9aZTmfsk= X-Google-DKIM-Signature: v=1; a=rsa-sha256; c=relaxed/relaxed; d=1e100.net; s=20230601; t=1761693207; x=1762298007; h=references:in-reply-to:cc:to:from:subject:message-id:date :x-gm-message-state:from:to:cc:subject:date:message-id:reply-to; bh=W015vfMbZdFzMOUt1Si2Y/viWpNvGBDmENXyMj9tPWs=; b=iGtPRQfwPFOh5L88UYmy/ajoHVatvHxtgL+UHtYXonh2PQ5QRB3t3+++co2cp4SN58 0U0P2P6GAp91bbflZjy468G2jPENZ1aD+OF0hWkTuK3l84ZC4VVr7x2+dgF7D4MATBDl ZjaH5k6uHwSbs3uyCY2WSzKQp54WNHEHf67VUAj5SEcTnmN6DqebMSqR58Qmfleu2Vqr vbWoxDAC3qdBVGEo154kkRyv11jD/uFd4Gpk3tHRlMRIKes+d9xo75DO8XoiyBHxY6uG wbE6qIuEzfHehbbkf/gjdYaJuLqbA/UqfsIop8mgxlc8XqTb/kvT/oGWRp6PCTJXswLH MrXA== X-Gm-Message-State: AOJu0YzHGe4uP+g0qpLsnzo+ANBeBCNapkm5X2De7jn+wVjSg92fM/2Z zIcJgsmwivHDibk/pui0SgggIMMovd4SMeEgikx5+n5yrGhPdAJWvzIktu1qQbZardG7Amy076L gOUZ2K/J/IW8ybK+M/FOG2ygQjYr7FQ7YDGUZLAsmdwHc X-Gm-Gg: ASbGncv7g0XuLsch+1YvwsY2G+KlDsUoJYUZ7mS5mG1Gr5g3/biL4fhOLHElU9SehFj 3m26qUt8oKL7PqpOC3qiorCmTYyOyDieKn8iXPXfKeUDxe2WXCQ/prd3Pjvei1lFJ9B/Tr4bffS lqw9KyX7+N/CY3NuQEYektoO3gSBF9OFiULdihQh2f2tr5tu3nKGWWpaw0WSL/IAKyELOfnbrbu e8ygEI28kO96axPwAEl+DtNi2w8YwLUKBxFEM5eG8m+1cDd3BcjP69RkxYEjJmsOOat0PoOkoU3 k5nSZSFI4lamW7ZKPlHWLpadwrRwWjVswg3KXxb9rtseX6aMeTwGAzgElWSWUz1foXHrJrPdbkw TScaXchd3EipVbjJKqZvJ8dd8WlDUUqY= X-Google-Smtp-Source: AGHT+IH4z4/c9Q3+HvqzhVykOhFlqObEZWZ+pO1ymvadUWehLGnFQ3myzN4SctdEh17MjVeRdY/a4nAMJCNi X-Received: by 2002:a17:90b:1a85:b0:33e:2d0f:479b with SMTP id 98e67ed59e1d1-3403a141952mr808784a91.6.1761693207037; Tue, 28 Oct 2025 16:13:27 -0700 (PDT) Received: from postal.iol.unh.edu (postal.iol.unh.edu. [132.177.123.84]) by smtp-relay.gmail.com with ESMTPS id 98e67ed59e1d1-33fed7ce6bdsm1206594a91.6.2025.10.28.16.13.26 (version=TLS1_2 cipher=ECDHE-ECDSA-AES128-GCM-SHA256 bits=128/128); Tue, 28 Oct 2025 16:13:27 -0700 (PDT) X-Relaying-Domain: iol.unh.edu Date: Tue, 28 Oct 2025 16:13:27 -0700 (PDT) Message-ID: <69014e17.170a0220.ed1c8.7f3bSMTPIN_ADDED_MISSING@mx.google.com> Received: from [172.21.0.3] (unknown [172.18.0.240]) by postal.iol.unh.edu (Postfix) with ESMTP id 5008C604D420; Tue, 28 Oct 2025 19:13:26 -0400 (EDT) Subject: |WARNING| pw158194-158201 [PATCH] [v1,8/8] vfio: deprecate group-bas From: dpdklab@iol.unh.edu To: Test Report Cc: dpdk-test-reports@iol.unh.edu In-Reply-To: References: Content-Type: text/plain X-BeenThere: test-report@dpdk.org X-Mailman-Version: 2.1.29 Precedence: list List-Id: automatic DPDK test reports List-Unsubscribe: , List-Archive: List-Post: List-Help: List-Subscribe: , Errors-To: test-report-bounces@dpdk.org Test-Label: iol-compile-amd64-testing Test-Status: WARNING http://dpdk.org/patch/158201 _Testing issues_ Submitter: Anatoly Burakov Date: Tuesday, October 28 2025 16:43:21 DPDK git baseline: Repo:dpdk Branch: master CommitID:39b54f2dcf44ad1f91eabc7080cd5dea763607fd 158194-158201 --> testing issues Upstream job id: Windows-Compile-DPDK-Native#31959 Test environment and result as below: +-------------------------------+--------------------+-------------------+-------------------+------------------+-------------------------+ | Environment | dpdk_meson_compile | dpdk_msvc_compile | dpdk_compile_spdk | dpdk_compile_ovs | dpdk_llvm_clang_compile | +===============================+====================+===================+===================+==================+=========================+ | Ubuntu 20.04 | PASS | SKIPPED | SKIPPED | SKIPPED | SKIPPED | +-------------------------------+--------------------+-------------------+-------------------+------------------+-------------------------+ | FreeBSD 14.2 | PASS | SKIPPED | SKIPPED | SKIPPED | SKIPPED | +-------------------------------+--------------------+-------------------+-------------------+------------------+-------------------------+ | CentOS Stream 9 | PASS | SKIPPED | WARN | SKIPPED | SKIPPED | +-------------------------------+--------------------+-------------------+-------------------+------------------+-------------------------+ | CentOS Stream 10 | PASS | SKIPPED | SKIPPED | SKIPPED | SKIPPED | +-------------------------------+--------------------+-------------------+-------------------+------------------+-------------------------+ | Fedora Linux 42 | PASS | SKIPPED | WARN | PASS | SKIPPED | +-------------------------------+--------------------+-------------------+-------------------+------------------+-------------------------+ | Debian GNU/Linux 12 | PASS | SKIPPED | WARN | SKIPPED | SKIPPED | +-------------------------------+--------------------+-------------------+-------------------+------------------+-------------------------+ | openSUSE Leap 15.6 | PASS | SKIPPED | SKIPPED | SKIPPED | SKIPPED | +-------------------------------+--------------------+-------------------+-------------------+------------------+-------------------------+ | Red Hat Enterprise Linux 8.10 | PASS | SKIPPED | SKIPPED | SKIPPED | SKIPPED | +-------------------------------+--------------------+-------------------+-------------------+------------------+-------------------------+ | Red Hat Enterprise Linux 9.5 | PASS | SKIPPED | SKIPPED | SKIPPED | SKIPPED | +-------------------------------+--------------------+-------------------+-------------------+------------------+-------------------------+ | Ubuntu 22.04 | PASS | SKIPPED | WARN | SKIPPED | SKIPPED | +-------------------------------+--------------------+-------------------+-------------------+------------------+-------------------------+ | Ubuntu 24.04 | PASS | SKIPPED | WARN | PASS | SKIPPED | +-------------------------------+--------------------+-------------------+-------------------+------------------+-------------------------+ | Alpine Linux 3.22.0 | PASS | SKIPPED | SKIPPED | SKIPPED | SKIPPED | +-------------------------------+--------------------+-------------------+-------------------+------------------+-------------------------+ | Windows Server 2022 | SKIPPED | PASS | SKIPPED | SKIPPED | PASS | +-------------------------------+--------------------+-------------------+-------------------+------------------+-------------------------+ ==== 20 line log output for Ubuntu 24.04 (dpdk_compile_spdk): ==== --- Failed to get log output --- ==== End log output ==== Ubuntu 20.04 Kernel: 4.19 Compiler: gcc gcc (Ubuntu 9.4.0-1ubuntu1~20.04.2) 9.4.0 FreeBSD 14.2 Kernel: 14.2-RELEASE Compiler: clang 18.1.6 CentOS Stream 9 Kernel: 5.15 Compiler: gcc gcc (GCC) 11.5.0 20240719 (Red Hat 11.5.0-11) CentOS Stream 10 Kernel: 5.15 Compiler: gcc gcc (GCC) 14.2.1 20250110 (Red Hat 14.2.1-8) Fedora Linux 42 Kernel: 5.15 Compiler: clang gcc (GCC) 15.2.1 20250808 (Red Hat 15.2.1-1) Debian GNU/Linux 12 Kernel: 5.15 Compiler: gcc gcc (Debian 12.2.0-14+deb12u1) 12.2.0 openSUSE Leap 15.6 Kernel: 5.15 Compiler: gcc gcc (SUSE Linux) 7.5.0 Red Hat Enterprise Linux 8.10 Kernel: 5.15 Compiler: gcc gcc (GCC) 8.5.0 20210514 (Red Hat 8.5.0-22) Red Hat Enterprise Linux 9.5 Kernel: 5.15 Compiler: gcc gcc (GCC) 11.5.0 20240719 (Red Hat 11.5.0-2) Ubuntu 22.04 Kernel: 5.15 Compiler: gcc gcc (Ubuntu 11.4.0-1ubuntu1~22.04) 11.4.0 Ubuntu 24.04 Kernel: 5.15 Compiler: gcc gcc (Ubuntu 13.3.0-6ubuntu2~24.04) 13.3.0 Alpine Linux 3.22.0 Kernel: 5.15 Compiler: gcc gcc (Alpine 14.2.0) 14.2.0 Windows Server 2022 Kernel: 10.0.20348.2031 Compiler: clang 15.0.7, gcc 14.1.0 (MinGW), and MSVC VS 19.39.33521 To view detailed results, visit: https://lab.dpdk.org/results/dashboard/patchsets/34406/ UNH-IOL DPDK Community Lab To manage your email subscriptions, visit: https://lab.dpdk.org/results/dashboard/preferences/subscriptions/