From mboxrd@z Thu Jan 1 00:00:00 1970 Return-Path: Received: from mails.dpdk.org (mails.dpdk.org [217.70.189.124]) by inbox.dpdk.org (Postfix) with ESMTP id BED3D48A11 for ; Wed, 29 Oct 2025 00:16:27 +0100 (CET) Received: from mails.dpdk.org (localhost [127.0.0.1]) by mails.dpdk.org (Postfix) with ESMTP id A902E40262; Wed, 29 Oct 2025 00:16:27 +0100 (CET) Received: from mail-il1-f226.google.com (mail-il1-f226.google.com [209.85.166.226]) by mails.dpdk.org (Postfix) with ESMTP id BEE0540262 for ; Wed, 29 Oct 2025 00:16:25 +0100 (CET) Received: by mail-il1-f226.google.com with SMTP id e9e14a558f8ab-430ae09ea23so26966465ab.0 for ; Tue, 28 Oct 2025 16:16:25 -0700 (PDT) DKIM-Signature: v=1; a=rsa-sha256; c=relaxed/relaxed; d=iol.unh.edu; s=unh-iol; t=1761693385; x=1762298185; darn=dpdk.org; h=references:in-reply-to:cc:to:from:subject:message-id:date:from:to :cc:subject:date:message-id:reply-to; bh=QEb1WsCp8Ui+IKewbm2rZ/0yO9vDQM24MxrYdut5dVg=; b=gwopaXQ/CUGKuDzndth7ZJETYBHmZXpi/2posHU5SsMqM8MFdZmMHdWH7REOZa8vNK bcUHSzXrHD7ovNu41ZHf94ljkp03YFy/caVFDEtWOplEYKZRWduMuWG9TFmSiDNyMXNr DYxyRYYaDkXWyaYxSZIq3VUUxrtdRgbMasWQk= X-Google-DKIM-Signature: v=1; a=rsa-sha256; c=relaxed/relaxed; d=1e100.net; s=20230601; t=1761693385; x=1762298185; h=references:in-reply-to:cc:to:from:subject:message-id:date :x-gm-message-state:from:to:cc:subject:date:message-id:reply-to; bh=QEb1WsCp8Ui+IKewbm2rZ/0yO9vDQM24MxrYdut5dVg=; b=UPT19qX/dGCGyluwBXVSQtyTS7KyKH8f3J5cg2CLIN3R83AXZdUMWUT/2BFAlDx5PG ou1LfdfHEXDoB82jQzlGb7O8YlLa6g8bJgUbyJiosFfb8/ybNo5Mg2fM24NSfN1kJj4g 8r2VXvl+LEzRb11aq4wcDTowZnZz5hD/ODlBnapBizh5skVs/Pj6o7g3+lStBi0SjvgJ qwLulRJu5tWFasaO2H5iPBarFPLzX7I0efXHpXxSG7ikAYmu5MKEIdmg4zlZ+rwpQgpG wg2FzCDoFbQphOBmMvAq0SSPeDdXhbOFirdB/pbnbbcGUuKxp0e1hiVu1vweUUXZD5Gd CH0A== X-Gm-Message-State: AOJu0Ywv9T8Vtiat6iD1nzPQJNheFT1isaGrnuYBTxBcsA0S/tSnmu6O 4c0nWH+diBlZCbLJRG/4EwV0F6sZokr+0iiuF2Kfb2DqsACRvu4H/AvXciMr7Op6Ry+EKNrtoDK 3kkICjTbtcHl8Tbvq4gs3F3As8VpSAUp782aI8LmltTEx X-Gm-Gg: ASbGncuAp8St12qPTwgK2X9ALT9yh7DnTTIA+q6j79faw16WwfMY3Z/sCShSG4r3NXI 9oaG46NDpemCREbPi4wpVMyUQpMwVuh3DMpc8UZm5VBTndifmBR+Mtk57TIG/meRDJYG+xGK58g jTdybnGhQHjNW9VwNDfdql3/Fz348/Fbl/P3N5JliHGyZryKamgJwgyhWDHdsnn53f6ZyXEP/I3 7ruVG7G+VDQ1JE6acOA4O/eoQdw1fITEAarIb79l6o8bcSy3/Cxft4K0DDedKigYPm3UMrv4pVK TtjOVI6DE9SzKozOLkZVS+VYA3ycN54PsD66pJw1LxknMzdsztBN5byixvl3YeYgggQyPjSpwQy r2c87Tsu7k+FA5BXRuiKdqcEEg4ay19o= X-Google-Smtp-Source: AGHT+IFoIa1K3o51ix3NNrla06ewvjoQzHRm3x76GCMWo6W1wxXkLsyC22JaKwrI0RJ8w1zaYqSf4kRv9elc X-Received: by 2002:a05:6e02:13:b0:426:c373:25f5 with SMTP id e9e14a558f8ab-432f9028807mr13692515ab.17.1761693384990; Tue, 28 Oct 2025 16:16:24 -0700 (PDT) Received: from postal.iol.unh.edu (postal.iol.unh.edu. [132.177.123.84]) by smtp-relay.gmail.com with ESMTPS id e9e14a558f8ab-431f67ea498sm11452375ab.6.2025.10.28.16.16.24 (version=TLS1_2 cipher=ECDHE-ECDSA-AES128-GCM-SHA256 bits=128/128); Tue, 28 Oct 2025 16:16:24 -0700 (PDT) X-Relaying-Domain: iol.unh.edu Date: Tue, 28 Oct 2025 16:16:24 -0700 (PDT) Message-ID: <69014ec8.050a0220.38876d.746eSMTPIN_ADDED_MISSING@mx.google.com> Received: from [172.21.0.2] (unknown [172.18.0.240]) by postal.iol.unh.edu (Postfix) with ESMTP id 8A1B4604D420; Tue, 28 Oct 2025 19:16:24 -0400 (EDT) Subject: |WARNING| pw158194-158201 [PATCH] [v1,8/8] vfio: deprecate group-bas From: dpdklab@iol.unh.edu To: Test Report Cc: dpdk-test-reports@iol.unh.edu In-Reply-To: References: Content-Type: text/plain X-BeenThere: test-report@dpdk.org X-Mailman-Version: 2.1.29 Precedence: list List-Id: automatic DPDK test reports List-Unsubscribe: , List-Archive: List-Post: List-Help: List-Subscribe: , Errors-To: test-report-bounces@dpdk.org Test-Label: iol-compile-amd64-testing Test-Status: WARNING http://dpdk.org/patch/158201 _Testing issues_ Submitter: Anatoly Burakov Date: Tuesday, October 28 2025 16:43:21 DPDK git baseline: Repo:dpdk Branch: master CommitID:39b54f2dcf44ad1f91eabc7080cd5dea763607fd 158194-158201 --> testing issues Upstream job id: Windows-Compile-DPDK-Native#31960 Test environment and result as below: +-------------------------------+--------------------+-------------------+-------------------+------------------+-------------------------+----------------------+ | Environment | dpdk_meson_compile | dpdk_msvc_compile | dpdk_compile_spdk | dpdk_compile_ovs | dpdk_llvm_clang_compile | dpdk_mingw64_compile | +===============================+====================+===================+===================+==================+=========================+======================+ | Ubuntu 20.04 | PASS | SKIPPED | SKIPPED | SKIPPED | SKIPPED | SKIPPED | +-------------------------------+--------------------+-------------------+-------------------+------------------+-------------------------+----------------------+ | FreeBSD 14.2 | PASS | SKIPPED | SKIPPED | SKIPPED | SKIPPED | SKIPPED | +-------------------------------+--------------------+-------------------+-------------------+------------------+-------------------------+----------------------+ | CentOS Stream 9 | PASS | SKIPPED | WARN | SKIPPED | SKIPPED | SKIPPED | +-------------------------------+--------------------+-------------------+-------------------+------------------+-------------------------+----------------------+ | CentOS Stream 10 | PASS | SKIPPED | SKIPPED | SKIPPED | SKIPPED | SKIPPED | +-------------------------------+--------------------+-------------------+-------------------+------------------+-------------------------+----------------------+ | Fedora Linux 42 | PASS | SKIPPED | WARN | PASS | SKIPPED | SKIPPED | +-------------------------------+--------------------+-------------------+-------------------+------------------+-------------------------+----------------------+ | Debian GNU/Linux 12 | PASS | SKIPPED | WARN | SKIPPED | SKIPPED | SKIPPED | +-------------------------------+--------------------+-------------------+-------------------+------------------+-------------------------+----------------------+ | openSUSE Leap 15.6 | PASS | SKIPPED | SKIPPED | SKIPPED | SKIPPED | SKIPPED | +-------------------------------+--------------------+-------------------+-------------------+------------------+-------------------------+----------------------+ | Red Hat Enterprise Linux 8.10 | PASS | SKIPPED | SKIPPED | SKIPPED | SKIPPED | SKIPPED | +-------------------------------+--------------------+-------------------+-------------------+------------------+-------------------------+----------------------+ | Red Hat Enterprise Linux 9.5 | PASS | SKIPPED | SKIPPED | SKIPPED | SKIPPED | SKIPPED | +-------------------------------+--------------------+-------------------+-------------------+------------------+-------------------------+----------------------+ | Ubuntu 22.04 | PASS | SKIPPED | WARN | SKIPPED | SKIPPED | SKIPPED | +-------------------------------+--------------------+-------------------+-------------------+------------------+-------------------------+----------------------+ | Ubuntu 24.04 | PASS | SKIPPED | WARN | PASS | SKIPPED | SKIPPED | +-------------------------------+--------------------+-------------------+-------------------+------------------+-------------------------+----------------------+ | Alpine Linux 3.22.0 | PASS | SKIPPED | SKIPPED | SKIPPED | SKIPPED | SKIPPED | +-------------------------------+--------------------+-------------------+-------------------+------------------+-------------------------+----------------------+ | Windows Server 2022 | SKIPPED | PASS | SKIPPED | SKIPPED | PASS | PASS | +-------------------------------+--------------------+-------------------+-------------------+------------------+-------------------------+----------------------+ ==== 20 line log output for Ubuntu 24.04 (dpdk_compile_spdk): ==== --- Failed to get log output --- ==== End log output ==== Ubuntu 20.04 Kernel: 4.19 Compiler: gcc gcc (Ubuntu 9.4.0-1ubuntu1~20.04.2) 9.4.0 FreeBSD 14.2 Kernel: 14.2-RELEASE Compiler: clang 18.1.6 CentOS Stream 9 Kernel: 5.15 Compiler: gcc gcc (GCC) 11.5.0 20240719 (Red Hat 11.5.0-11) CentOS Stream 10 Kernel: 5.15 Compiler: gcc gcc (GCC) 14.2.1 20250110 (Red Hat 14.2.1-8) Fedora Linux 42 Kernel: 5.15 Compiler: clang gcc (GCC) 15.2.1 20250808 (Red Hat 15.2.1-1) Debian GNU/Linux 12 Kernel: 5.15 Compiler: gcc gcc (Debian 12.2.0-14+deb12u1) 12.2.0 openSUSE Leap 15.6 Kernel: 5.15 Compiler: gcc gcc (SUSE Linux) 7.5.0 Red Hat Enterprise Linux 8.10 Kernel: 5.15 Compiler: gcc gcc (GCC) 8.5.0 20210514 (Red Hat 8.5.0-22) Red Hat Enterprise Linux 9.5 Kernel: 5.15 Compiler: gcc gcc (GCC) 11.5.0 20240719 (Red Hat 11.5.0-2) Ubuntu 22.04 Kernel: 5.15 Compiler: gcc gcc (Ubuntu 11.4.0-1ubuntu1~22.04) 11.4.0 Ubuntu 24.04 Kernel: 5.15 Compiler: gcc gcc (Ubuntu 13.3.0-6ubuntu2~24.04) 13.3.0 Alpine Linux 3.22.0 Kernel: 5.15 Compiler: gcc gcc (Alpine 14.2.0) 14.2.0 Windows Server 2022 Kernel: 10.0.20348.2031 Compiler: clang 15.0.7, gcc 14.1.0 (MinGW), and MSVC VS 19.39.33521 To view detailed results, visit: https://lab.dpdk.org/results/dashboard/patchsets/34406/ UNH-IOL DPDK Community Lab To manage your email subscriptions, visit: https://lab.dpdk.org/results/dashboard/preferences/subscriptions/