From mboxrd@z Thu Jan 1 00:00:00 1970 Return-Path: Received: from mails.dpdk.org (mails.dpdk.org [217.70.189.124]) by inbox.dpdk.org (Postfix) with ESMTP id 1327748A11 for ; Wed, 29 Oct 2025 00:19:08 +0100 (CET) Received: from mails.dpdk.org (localhost [127.0.0.1]) by mails.dpdk.org (Postfix) with ESMTP id 094A240262; Wed, 29 Oct 2025 00:19:08 +0100 (CET) Received: from mail-pj1-f100.google.com (mail-pj1-f100.google.com [209.85.216.100]) by mails.dpdk.org (Postfix) with ESMTP id 2498E40262 for ; Wed, 29 Oct 2025 00:19:06 +0100 (CET) Received: by mail-pj1-f100.google.com with SMTP id 98e67ed59e1d1-33255011eafso6166715a91.1 for ; Tue, 28 Oct 2025 16:19:06 -0700 (PDT) DKIM-Signature: v=1; a=rsa-sha256; c=relaxed/relaxed; d=iol.unh.edu; s=unh-iol; t=1761693545; x=1762298345; darn=dpdk.org; h=references:in-reply-to:cc:to:from:subject:message-id:date:from:to :cc:subject:date:message-id:reply-to; bh=VYQ+7fYV+EKscK+Bcgd8L1lZ29DXt4uh3yrrTae93rg=; b=JFBHab5MSv7RDSptbIYWUM34x1jdg+zjhwJoMsvZvcCLUBSGI+h28cF+dTRg3o58Uj l9BdqEjUgXgBScXPM1y/Hwbm9PGfPA8ZsxgqHN/6nJ3TrGE4v5/6Hdp/XKKyXzj36dEs tnK3v1cwK7POJp255ED9dsv1vKFxofZhvdxe4= X-Google-DKIM-Signature: v=1; a=rsa-sha256; c=relaxed/relaxed; d=1e100.net; s=20230601; t=1761693545; x=1762298345; h=references:in-reply-to:cc:to:from:subject:message-id:date :x-gm-message-state:from:to:cc:subject:date:message-id:reply-to; bh=VYQ+7fYV+EKscK+Bcgd8L1lZ29DXt4uh3yrrTae93rg=; b=WfdBJ01YRqFnb0clT4SCZ7oy9MO291y05l3GFzvxizk8qSPM36DZatjbG/L7mlOCD4 IlzLuKLegUSUT3lXyaxpB45qn9emw3sASiAUlwUTYZVmY6fPtvn7yjf+VTG8LllwjEGv mMsF9tYkN9NyIsK3dyEl+tvVU4nkEdQ70V6Mx1/GtqzRHZf7SpAKnhxv7ovEvN00z+Ut /+1q7nfESIvn2ctMnG3DwheAaYqMkBC4vJsREeY/K8O+52qnnzbFCoq1vvXQstDTAmrr pZJMZLMO/hCuvOUoLxXvhjZDg8tg3+Owx3FCze0a3CW629eZKXT6qEnloJnbneWzhxtq N7LA== X-Gm-Message-State: AOJu0Ywgyfk/PSBJg2REhKYnLrxZpoJgHmMLZLh4kDqb+BQRJloKpBfU +MR3wlnXu+tD5O0fbQc1XR86L70Rkc6UYxJvrrpD00126hMIbM31SL9lty9ioJeERcUC3lQfe7B ONq5/5VbO+LTz4zUolblDXNX7D8kjtw4Mb9fLStD0HoCARs95bd4jyvT6AW3I X-Gm-Gg: ASbGncurr0I7vL4kK9JLzFCKUOW5/aoa+fizCURjLPQVss+LPG/Vn7ZfGZH6tzWxAyS 8qQJEXIkmCnp/qVmzxrQiyykknQ6QHJ1ka9nyB2YweX9AXaTBKsewp4ipX4qp0lNzkE/L2sq6qq c38BJTQLJaGiU1lOz7y2LvgzC+zWyBpzxt1Wvn08D2kYtVexhSBarCC9sH64vQ4WWOo+LmzWr/H FGDLOCA34AOlz24ljuc8/si0vzc6judq5aT6iYA/If8F+IeUYeqcVT0kZSiSYDCpaX+UdWNxFbQ gFC87gaSiszb69WIei6TN0/8xyYV7lhf1HptSmdp8TRtv6h/728+tgSSyWX4GEtrtab/GChSKA/ OUyKHp1V0 X-Google-Smtp-Source: AGHT+IFm/CGOsW9antFIKrDo1MSNmSYfjLcsYD2/CAnZGvU4tOcTyCiUOsjlrcdYjWnwYh91WXqgJ25WY11q X-Received: by 2002:a17:90b:2dc9:b0:340:29be:c4de with SMTP id 98e67ed59e1d1-3403a2a9673mr780106a91.32.1761693545180; Tue, 28 Oct 2025 16:19:05 -0700 (PDT) Received: from postal.iol.unh.edu (postal.iol.unh.edu. [2606:4100:3880:1234::84]) by smtp-relay.gmail.com with ESMTPS id 98e67ed59e1d1-33fed81483bsm1166543a91.8.2025.10.28.16.19.05 (version=TLS1_2 cipher=ECDHE-ECDSA-AES128-GCM-SHA256 bits=128/128); Tue, 28 Oct 2025 16:19:05 -0700 (PDT) X-Relaying-Domain: iol.unh.edu Date: Tue, 28 Oct 2025 16:19:05 -0700 (PDT) Message-ID: <69014f69.170a0220.1d03ae.6ffcSMTPIN_ADDED_MISSING@mx.google.com> Received: from [172.21.0.2] (unknown [172.18.0.240]) by postal.iol.unh.edu (Postfix) with ESMTP id 70697604D420; Tue, 28 Oct 2025 19:19:04 -0400 (EDT) Subject: |WARNING| pw158203 [PATCH] [v3] fib6: implement RCU rule reclamation From: dpdklab@iol.unh.edu To: Test Report Cc: dpdk-test-reports@iol.unh.edu In-Reply-To: <20251028173703.548656-3-rjarry@redhat.com> References: <20251028173703.548656-3-rjarry@redhat.com> Content-Type: text/plain X-BeenThere: test-report@dpdk.org X-Mailman-Version: 2.1.29 Precedence: list List-Id: automatic DPDK test reports List-Unsubscribe: , List-Archive: List-Post: List-Help: List-Subscribe: , Errors-To: test-report-bounces@dpdk.org Test-Label: iol-compile-amd64-testing Test-Status: WARNING http://dpdk.org/patch/158203 _Testing issues_ Submitter: Robin Jarry Date: Tuesday, October 28 2025 17:37:05 DPDK git baseline: Repo:dpdk Branch: master CommitID:39b54f2dcf44ad1f91eabc7080cd5dea763607fd 158203 --> testing issues Upstream job id: Windows-Compile-DPDK-Native#31961 Test environment and result as below: +-------------------------------+--------------------+-------------------+-------------------+------------------+-------------------------+ | Environment | dpdk_meson_compile | dpdk_msvc_compile | dpdk_compile_spdk | dpdk_compile_ovs | dpdk_llvm_clang_compile | +===============================+====================+===================+===================+==================+=========================+ | FreeBSD 14.2 | PASS | SKIPPED | SKIPPED | SKIPPED | SKIPPED | +-------------------------------+--------------------+-------------------+-------------------+------------------+-------------------------+ | Ubuntu 20.04 | PASS | SKIPPED | SKIPPED | SKIPPED | SKIPPED | +-------------------------------+--------------------+-------------------+-------------------+------------------+-------------------------+ | CentOS Stream 10 | PASS | SKIPPED | SKIPPED | SKIPPED | SKIPPED | +-------------------------------+--------------------+-------------------+-------------------+------------------+-------------------------+ | CentOS Stream 9 | PASS | SKIPPED | WARN | SKIPPED | SKIPPED | +-------------------------------+--------------------+-------------------+-------------------+------------------+-------------------------+ | Debian GNU/Linux 12 | PASS | SKIPPED | WARN | SKIPPED | SKIPPED | +-------------------------------+--------------------+-------------------+-------------------+------------------+-------------------------+ | Fedora Linux 42 | PASS | SKIPPED | WARN | PASS | SKIPPED | +-------------------------------+--------------------+-------------------+-------------------+------------------+-------------------------+ | Red Hat Enterprise Linux 8.10 | PASS | SKIPPED | SKIPPED | SKIPPED | SKIPPED | +-------------------------------+--------------------+-------------------+-------------------+------------------+-------------------------+ | Red Hat Enterprise Linux 9.5 | PASS | SKIPPED | SKIPPED | SKIPPED | SKIPPED | +-------------------------------+--------------------+-------------------+-------------------+------------------+-------------------------+ | openSUSE Leap 15.6 | PASS | SKIPPED | SKIPPED | SKIPPED | SKIPPED | +-------------------------------+--------------------+-------------------+-------------------+------------------+-------------------------+ | Ubuntu 22.04 | PASS | SKIPPED | WARN | SKIPPED | SKIPPED | +-------------------------------+--------------------+-------------------+-------------------+------------------+-------------------------+ | Ubuntu 24.04 | PASS | SKIPPED | WARN | PASS | SKIPPED | +-------------------------------+--------------------+-------------------+-------------------+------------------+-------------------------+ | Alpine Linux 3.22.0 | PASS | SKIPPED | SKIPPED | SKIPPED | SKIPPED | +-------------------------------+--------------------+-------------------+-------------------+------------------+-------------------------+ | Windows Server 2022 | SKIPPED | PASS | SKIPPED | SKIPPED | PASS | +-------------------------------+--------------------+-------------------+-------------------+------------------+-------------------------+ ==== 20 line log output for Ubuntu 24.04 (dpdk_compile_spdk): ==== --- Failed to get log output --- ==== End log output ==== FreeBSD 14.2 Kernel: 14.2-RELEASE Compiler: clang 18.1.6 Ubuntu 20.04 Kernel: 4.19 Compiler: gcc gcc (Ubuntu 9.4.0-1ubuntu1~20.04.2) 9.4.0 CentOS Stream 10 Kernel: 5.15 Compiler: gcc gcc (GCC) 14.2.1 20250110 (Red Hat 14.2.1-8) CentOS Stream 9 Kernel: 5.15 Compiler: gcc gcc (GCC) 11.5.0 20240719 (Red Hat 11.5.0-11) Debian GNU/Linux 12 Kernel: 5.15 Compiler: gcc gcc (Debian 12.2.0-14+deb12u1) 12.2.0 Fedora Linux 42 Kernel: 5.15 Compiler: clang gcc (GCC) 15.2.1 20250808 (Red Hat 15.2.1-1) Red Hat Enterprise Linux 8.10 Kernel: 5.15 Compiler: gcc gcc (GCC) 8.5.0 20210514 (Red Hat 8.5.0-22) Red Hat Enterprise Linux 9.5 Kernel: 5.15 Compiler: gcc gcc (GCC) 11.5.0 20240719 (Red Hat 11.5.0-2) openSUSE Leap 15.6 Kernel: 5.15 Compiler: gcc gcc (SUSE Linux) 7.5.0 Ubuntu 22.04 Kernel: 5.15 Compiler: gcc gcc (Ubuntu 11.4.0-1ubuntu1~22.04) 11.4.0 Ubuntu 24.04 Kernel: 5.15 Compiler: gcc gcc (Ubuntu 13.3.0-6ubuntu2~24.04) 13.3.0 Alpine Linux 3.22.0 Kernel: 5.15 Compiler: gcc gcc (Alpine 14.2.0) 14.2.0 Windows Server 2022 Kernel: 10.0.20348.2031 Compiler: clang 15.0.7, gcc 14.1.0 (MinGW), and MSVC VS 19.39.33521 To view detailed results, visit: https://lab.dpdk.org/results/dashboard/patchsets/34407/ UNH-IOL DPDK Community Lab To manage your email subscriptions, visit: https://lab.dpdk.org/results/dashboard/preferences/subscriptions/