From mboxrd@z Thu Jan 1 00:00:00 1970 Return-Path: Received: from mails.dpdk.org (mails.dpdk.org [217.70.189.124]) by inbox.dpdk.org (Postfix) with ESMTP id 5FA5448A11 for ; Wed, 29 Oct 2025 00:21:55 +0100 (CET) Received: from mails.dpdk.org (localhost [127.0.0.1]) by mails.dpdk.org (Postfix) with ESMTP id 4A49940262; Wed, 29 Oct 2025 00:21:55 +0100 (CET) Received: from mail-qv1-f98.google.com (mail-qv1-f98.google.com [209.85.219.98]) by mails.dpdk.org (Postfix) with ESMTP id 99EA840262 for ; Wed, 29 Oct 2025 00:21:53 +0100 (CET) Received: by mail-qv1-f98.google.com with SMTP id 6a1803df08f44-7ea50f94045so4132256d6.1 for ; Tue, 28 Oct 2025 16:21:53 -0700 (PDT) DKIM-Signature: v=1; a=rsa-sha256; c=relaxed/relaxed; d=iol.unh.edu; s=unh-iol; t=1761693713; x=1762298513; darn=dpdk.org; h=references:in-reply-to:cc:to:from:subject:message-id:date:from:to :cc:subject:date:message-id:reply-to; bh=UiQPPVax3ureDSD7E8L9S8eyojoPJO5QUxNvxF7zwl8=; b=crfAsvLD9ItMJwRpRgCJDMnncwZhOlBOb29dTSs1JasHrreuo8AqB8W85a+0D2ty41 gWJr4MbpARi8wRKoouKdfwEY8lO4uoHLGnNZHBsNnUsoZeiFN9TylGIPHY/szGQlGK8L xb0/r0ZzLniLZfsSXdU82XcX6YxPBLExoIz/o= X-Google-DKIM-Signature: v=1; a=rsa-sha256; c=relaxed/relaxed; d=1e100.net; s=20230601; t=1761693713; x=1762298513; h=references:in-reply-to:cc:to:from:subject:message-id:date :x-gm-message-state:from:to:cc:subject:date:message-id:reply-to; bh=UiQPPVax3ureDSD7E8L9S8eyojoPJO5QUxNvxF7zwl8=; b=gdvAItIL3FpkKoLBjOQg2gGixo4kLsZ+Md6iDIl8Cljol2ThMWC3k/giZ2gRZH8cZU phasplLtfwX3lPZEWRQbTx9OZ2ljuNW/8nxpQmDISSm0UG2HgANbFZYtLfXdX1okC2Wj oBpgcselZvcQGv4rUMp2w0goJPYBOACP76nIO8GFvDgp3kJgFgpknrIxImPVCd0JbSAk GXrEwJP+snuRd+1ox0Hdqyvy3KvAhMDlj5JIAnXApx5sJJKvAlhDJpszGnzXzE8e8Ou4 CpzaxGCXGOSWRJQxUs3pbuWqKvI6Oc1HtUxRLzvmtMEzRmu00EPEsW0tffvu4EAR8REU pxOg== X-Gm-Message-State: AOJu0YzSDDYACrSEHq0yywMvKmI0kZXoxer5cMOLQtMRQ+o/OIvkbUYx plqcWFQD8B/mqswHZvN12oaZ7yG5QDaAuysLBpjLguICEM4mw8vgqtvflsUOxAomgsVjILPF0fz fhkoly9jslBFonq/KbIDjfbKtdb7Jc+G1du+f2DcUESH1SXwrDJhdLBc+kbMO X-Gm-Gg: ASbGncszJAYUhmWpwCd6oVdogP3o0qoUFRXNkNnoSjOQQFhU7mKblyx7Xrf8W5xhNTB htEhw+XbvD+TRr7RT6cQYPOQpF/oROBbICVBv8plpG46PrggvQGncOjAIZ/JKBCUHFB6eLyhdXh iDjeclGETSiUR43q7feAYWDEeO2DCbe6PsHW/k4mUlfE0F0Ot74qT9h3DcDf3vB5V21QkrZJvs7 XilqsrP0a+2Qo9oNzWbi5mt+o5tgJ+bbdjiPwn/Oi05MRpTe/VqXO3f15M+WzzGzZHSv4lulbqz hfPvyVWlFrO4CeMZl4FjRXLQ0BQ1lo9vC3KpuaOFBImQvKzgv4ODMwWeYvKJHM/ut833mE+HvcA 7agYfsIaZ X-Google-Smtp-Source: AGHT+IFst5ItNviAMuwLlbKLOpGz9uq/QfpS/AqItA+t8TL9TVhxbkgo2wA/mAwyCB2TpRkzn7QgoHmWmXTk X-Received: by 2002:a05:6214:f23:b0:78f:48ef:d8c with SMTP id 6a1803df08f44-880093474e6mr15079556d6.22.1761693712852; Tue, 28 Oct 2025 16:21:52 -0700 (PDT) Received: from postal.iol.unh.edu (postal.iol.unh.edu. [2606:4100:3880:1234::84]) by smtp-relay.gmail.com with ESMTPS id 6a1803df08f44-87fc496b54fsm11897246d6.20.2025.10.28.16.21.52 (version=TLS1_2 cipher=ECDHE-ECDSA-AES128-GCM-SHA256 bits=128/128); Tue, 28 Oct 2025 16:21:52 -0700 (PDT) X-Relaying-Domain: iol.unh.edu Date: Tue, 28 Oct 2025 16:21:52 -0700 (PDT) Message-ID: <69015010.d40a0220.30f413.74e7SMTPIN_ADDED_MISSING@mx.google.com> Received: from [172.21.0.2] (unknown [172.18.0.240]) by postal.iol.unh.edu (Postfix) with ESMTP id 8ECFA604D420; Tue, 28 Oct 2025 19:21:52 -0400 (EDT) Subject: |WARNING| pw158203 [PATCH] [v3] fib6: implement RCU rule reclamation From: dpdklab@iol.unh.edu To: Test Report Cc: dpdk-test-reports@iol.unh.edu In-Reply-To: <20251028173703.548656-3-rjarry@redhat.com> References: <20251028173703.548656-3-rjarry@redhat.com> Content-Type: text/plain X-BeenThere: test-report@dpdk.org X-Mailman-Version: 2.1.29 Precedence: list List-Id: automatic DPDK test reports List-Unsubscribe: , List-Archive: List-Post: List-Help: List-Subscribe: , Errors-To: test-report-bounces@dpdk.org Test-Label: iol-compile-amd64-testing Test-Status: WARNING http://dpdk.org/patch/158203 _Testing issues_ Submitter: Robin Jarry Date: Tuesday, October 28 2025 17:37:05 DPDK git baseline: Repo:dpdk Branch: master CommitID:39b54f2dcf44ad1f91eabc7080cd5dea763607fd 158203 --> testing issues Upstream job id: Windows-Compile-DPDK-Native#31962 Test environment and result as below: +-------------------------------+--------------------+-------------------+-------------------+------------------+-------------------------+----------------------+ | Environment | dpdk_meson_compile | dpdk_msvc_compile | dpdk_compile_spdk | dpdk_compile_ovs | dpdk_llvm_clang_compile | dpdk_mingw64_compile | +===============================+====================+===================+===================+==================+=========================+======================+ | FreeBSD 14.2 | PASS | SKIPPED | SKIPPED | SKIPPED | SKIPPED | SKIPPED | +-------------------------------+--------------------+-------------------+-------------------+------------------+-------------------------+----------------------+ | Ubuntu 20.04 | PASS | SKIPPED | SKIPPED | SKIPPED | SKIPPED | SKIPPED | +-------------------------------+--------------------+-------------------+-------------------+------------------+-------------------------+----------------------+ | CentOS Stream 10 | PASS | SKIPPED | SKIPPED | SKIPPED | SKIPPED | SKIPPED | +-------------------------------+--------------------+-------------------+-------------------+------------------+-------------------------+----------------------+ | CentOS Stream 9 | PASS | SKIPPED | WARN | SKIPPED | SKIPPED | SKIPPED | +-------------------------------+--------------------+-------------------+-------------------+------------------+-------------------------+----------------------+ | Debian GNU/Linux 12 | PASS | SKIPPED | WARN | SKIPPED | SKIPPED | SKIPPED | +-------------------------------+--------------------+-------------------+-------------------+------------------+-------------------------+----------------------+ | Fedora Linux 42 | PASS | SKIPPED | WARN | PASS | SKIPPED | SKIPPED | +-------------------------------+--------------------+-------------------+-------------------+------------------+-------------------------+----------------------+ | Red Hat Enterprise Linux 8.10 | PASS | SKIPPED | SKIPPED | SKIPPED | SKIPPED | SKIPPED | +-------------------------------+--------------------+-------------------+-------------------+------------------+-------------------------+----------------------+ | Red Hat Enterprise Linux 9.5 | PASS | SKIPPED | SKIPPED | SKIPPED | SKIPPED | SKIPPED | +-------------------------------+--------------------+-------------------+-------------------+------------------+-------------------------+----------------------+ | openSUSE Leap 15.6 | PASS | SKIPPED | SKIPPED | SKIPPED | SKIPPED | SKIPPED | +-------------------------------+--------------------+-------------------+-------------------+------------------+-------------------------+----------------------+ | Ubuntu 22.04 | PASS | SKIPPED | WARN | SKIPPED | SKIPPED | SKIPPED | +-------------------------------+--------------------+-------------------+-------------------+------------------+-------------------------+----------------------+ | Ubuntu 24.04 | PASS | SKIPPED | WARN | PASS | SKIPPED | SKIPPED | +-------------------------------+--------------------+-------------------+-------------------+------------------+-------------------------+----------------------+ | Alpine Linux 3.22.0 | PASS | SKIPPED | SKIPPED | SKIPPED | SKIPPED | SKIPPED | +-------------------------------+--------------------+-------------------+-------------------+------------------+-------------------------+----------------------+ | Windows Server 2022 | SKIPPED | PASS | SKIPPED | SKIPPED | PASS | PASS | +-------------------------------+--------------------+-------------------+-------------------+------------------+-------------------------+----------------------+ ==== 20 line log output for Ubuntu 24.04 (dpdk_compile_spdk): ==== --- Failed to get log output --- ==== End log output ==== FreeBSD 14.2 Kernel: 14.2-RELEASE Compiler: clang 18.1.6 Ubuntu 20.04 Kernel: 4.19 Compiler: gcc gcc (Ubuntu 9.4.0-1ubuntu1~20.04.2) 9.4.0 CentOS Stream 10 Kernel: 5.15 Compiler: gcc gcc (GCC) 14.2.1 20250110 (Red Hat 14.2.1-8) CentOS Stream 9 Kernel: 5.15 Compiler: gcc gcc (GCC) 11.5.0 20240719 (Red Hat 11.5.0-11) Debian GNU/Linux 12 Kernel: 5.15 Compiler: gcc gcc (Debian 12.2.0-14+deb12u1) 12.2.0 Fedora Linux 42 Kernel: 5.15 Compiler: clang gcc (GCC) 15.2.1 20250808 (Red Hat 15.2.1-1) Red Hat Enterprise Linux 8.10 Kernel: 5.15 Compiler: gcc gcc (GCC) 8.5.0 20210514 (Red Hat 8.5.0-22) Red Hat Enterprise Linux 9.5 Kernel: 5.15 Compiler: gcc gcc (GCC) 11.5.0 20240719 (Red Hat 11.5.0-2) openSUSE Leap 15.6 Kernel: 5.15 Compiler: gcc gcc (SUSE Linux) 7.5.0 Ubuntu 22.04 Kernel: 5.15 Compiler: gcc gcc (Ubuntu 11.4.0-1ubuntu1~22.04) 11.4.0 Ubuntu 24.04 Kernel: 5.15 Compiler: gcc gcc (Ubuntu 13.3.0-6ubuntu2~24.04) 13.3.0 Alpine Linux 3.22.0 Kernel: 5.15 Compiler: gcc gcc (Alpine 14.2.0) 14.2.0 Windows Server 2022 Kernel: 10.0.20348.2031 Compiler: clang 15.0.7, gcc 14.1.0 (MinGW), and MSVC VS 19.39.33521 To view detailed results, visit: https://lab.dpdk.org/results/dashboard/patchsets/34407/ UNH-IOL DPDK Community Lab To manage your email subscriptions, visit: https://lab.dpdk.org/results/dashboard/preferences/subscriptions/