From mboxrd@z Thu Jan 1 00:00:00 1970 Return-Path: Received: from mails.dpdk.org (mails.dpdk.org [217.70.189.124]) by inbox.dpdk.org (Postfix) with ESMTP id 9573948A15 for ; Wed, 29 Oct 2025 00:24:29 +0100 (CET) Received: from mails.dpdk.org (localhost [127.0.0.1]) by mails.dpdk.org (Postfix) with ESMTP id 832BB40262; Wed, 29 Oct 2025 00:24:29 +0100 (CET) Received: from mail-pl1-f228.google.com (mail-pl1-f228.google.com [209.85.214.228]) by mails.dpdk.org (Postfix) with ESMTP id 38CA840262 for ; Wed, 29 Oct 2025 00:24:28 +0100 (CET) Received: by mail-pl1-f228.google.com with SMTP id d9443c01a7336-27d4d6b7ab5so98160355ad.2 for ; Tue, 28 Oct 2025 16:24:28 -0700 (PDT) DKIM-Signature: v=1; a=rsa-sha256; c=relaxed/relaxed; d=iol.unh.edu; s=unh-iol; t=1761693867; x=1762298667; darn=dpdk.org; h=references:in-reply-to:cc:to:from:subject:message-id:date:from:to :cc:subject:date:message-id:reply-to; bh=StTbNWxPOGCtZZWvNCvSqTXajGpzJVsE5m1gqcO/yNw=; b=XuDKMJ6U6ZwK8p8RQ+aU1A4l4+aO46tu4kwoFU0WRvsyJ1YjZ/8e3F055+eZsgJ+i7 59MtMkgXEUP1rNVK5b+BMKylWIY5K32PmWYZQ4FIVEI+U/k6IAokGW3wg8zYiJsap9bw LOYOOVfS3TP1O95/xKSaXd3CXBxn65kCODNBI= X-Google-DKIM-Signature: v=1; a=rsa-sha256; c=relaxed/relaxed; d=1e100.net; s=20230601; t=1761693867; x=1762298667; h=references:in-reply-to:cc:to:from:subject:message-id:date :x-gm-message-state:from:to:cc:subject:date:message-id:reply-to; bh=StTbNWxPOGCtZZWvNCvSqTXajGpzJVsE5m1gqcO/yNw=; b=Tum+rw2wMkwgHpR5rqRVrOWsvYU6C7suEVIlsMI+rDwP9GvHC52cYsZaFMHTQuN40n 3/H/jWwbtlFwgLiVXXtJnwSODcLjjBPEajzg5Q6RQ97GkIZkV97yrg385aJ8vNewGAPO pO7X22A43Ox/jbmhRRLr/TSIRJ9XB55Hcsh8o4lKX2kvjq3Ua8sq/Mx7nnceC9XrZFbC lVeveIZSHUKUg2pFcB9Vlwzjp7zAlHSOQNtgJFCEBNknlMmtiQZq3km5ummmHTqH3uAD niqNqS2kZZhmaxWA3u9fWiELkOhuBUVA5+FimFoWLW7Hx6y2gsGwZD9lsi530txzJyPj KtRg== X-Gm-Message-State: AOJu0YwyWLD9Qp0L8KAhVnW3XzhV0/RkQFYbYRVlmdXlCHos8NSrr8Fa GGhhTeGnkWj4R6dlRHA+oZ13Fo7ogwyglblfQ+T3+x1sH3RsyWigD0+g6Oe0MypXR5Os2riAr34 dThmnlZdiOXhEdqvhGGvM1EWS9vJou5FR8zuM5H1kTk3F X-Gm-Gg: ASbGnct+US4ebUUTKsasQriQIAk01wBnbaPLLppQJvIKwygWbp90kBx/vwssJ2+bj44 kiSs4rBYwNjrWpMcjPz5umZA3n/QQXbHxoqGCDFLl+4LZ6NkWcbA6QX+4NYTuwiatoXO0bs14ZP BoK1ndRPeBqVXm4AxWoBdzZY85cCUE88jDUqGqyz4oleAe/a2SUAUR+tzRweDQqGaVLWDtucTTv 974986aS4c3LtB8Xw8QU2DS4pUWZJLEfd7mDhHIViciXgcl8APUC3B8iDVPPmqUApWNWLJ4I71s 25lOwzYDw8jGfWhyfXNhbH9GSh9hPWkqku+GJAV282FU36rxKPrcb37zs2RKR8PwzCRq9HBgVtA acj0S9wNZgbZcd8aT3KU80bQN7I7H9Tc= X-Google-Smtp-Source: AGHT+IFFXPghQIJVnMaetMeZa3yf2MdRE+He0QzwMIc7XVlF8AG76qCg4Iz/u0AQuZsPobubgKqN+rSoe6AS X-Received: by 2002:a17:902:da47:b0:290:bfb7:376f with SMTP id d9443c01a7336-294def0183bmr9513155ad.51.1761693867298; Tue, 28 Oct 2025 16:24:27 -0700 (PDT) Received: from postal.iol.unh.edu (postal.iol.unh.edu. [132.177.123.84]) by smtp-relay.gmail.com with ESMTPS id d9443c01a7336-29498d0aae9sm11674575ad.22.2025.10.28.16.24.27 (version=TLS1_2 cipher=ECDHE-ECDSA-AES128-GCM-SHA256 bits=128/128); Tue, 28 Oct 2025 16:24:27 -0700 (PDT) X-Relaying-Domain: iol.unh.edu Date: Tue, 28 Oct 2025 16:24:27 -0700 (PDT) Message-ID: <690150ab.170a0220.36ecff.6a5eSMTPIN_ADDED_MISSING@mx.google.com> Received: from [172.21.0.2] (unknown [172.18.0.240]) by postal.iol.unh.edu (Postfix) with ESMTP id 823DD604D420; Tue, 28 Oct 2025 19:24:26 -0400 (EDT) Subject: |SUCCESS| pw158185-158187 [PATCH] [v11,3/3] dts: add Rx Tx offload t From: dpdklab@iol.unh.edu To: Test Report Cc: dpdk-test-reports@iol.unh.edu In-Reply-To: <20251028122240.112773-4-abailey@iol.unh.edu> References: <20251028122240.112773-4-abailey@iol.unh.edu> Content-Type: text/plain X-BeenThere: test-report@dpdk.org X-Mailman-Version: 2.1.29 Precedence: list List-Id: automatic DPDK test reports List-Unsubscribe: , List-Archive: List-Post: List-Help: List-Subscribe: , Errors-To: test-report-bounces@dpdk.org Test-Label: iol-unit-arm64-testing Test-Status: SUCCESS http://dpdk.org/patch/158187 _Testing PASS_ Submitter: Andrew Bailey Date: Tuesday, October 28 2025 12:22:40 DPDK git baseline: Repo:dpdk-next-dts Branch: master CommitID:39b54f2dcf44ad1f91eabc7080cd5dea763607fd 158185-158187 --> testing pass Upstream job id: Generic-Unit-Test-DPDK#386162 Test environment and result as below: +------------------------------+----------------+--------------+---------------------------+------------------------------+ | Environment | dpdk_unit_test | lpm_autotest | cryptodev_sw_zuc_autotest | cryptodev_sw_snow3g_autotest | +==============================+================+==============+===========================+==============================+ | CentOS Stream 10 | PASS | SKIPPED | SKIPPED | SKIPPED | +------------------------------+----------------+--------------+---------------------------+------------------------------+ | Fedora Linux 40 | PASS | SKIPPED | SKIPPED | SKIPPED | +------------------------------+----------------+--------------+---------------------------+------------------------------+ | Ubuntu 22.04 | PASS | SKIPPED | SKIPPED | SKIPPED | +------------------------------+----------------+--------------+---------------------------+------------------------------+ | Fedora Linux 41 | PASS | SKIPPED | SKIPPED | SKIPPED | +------------------------------+----------------+--------------+---------------------------+------------------------------+ | Debian GNU/Linux 12 | PASS | SKIPPED | SKIPPED | SKIPPED | +------------------------------+----------------+--------------+---------------------------+------------------------------+ | CentOS Stream 9 | PASS | SKIPPED | SKIPPED | SKIPPED | +------------------------------+----------------+--------------+---------------------------+------------------------------+ | Red Hat Enterprise Linux 9.5 | PASS | SKIPPED | SKIPPED | SKIPPED | +------------------------------+----------------+--------------+---------------------------+------------------------------+ | Fedora Linux 42 | PASS | SKIPPED | SKIPPED | SKIPPED | +------------------------------+----------------+--------------+---------------------------+------------------------------+ | Ubuntu 20.04 | PASS | PASS | SKIPPED | SKIPPED | +------------------------------+----------------+--------------+---------------------------+------------------------------+ | Ubuntu 24.04 | PASS | SKIPPED | SKIPPED | SKIPPED | +------------------------------+----------------+--------------+---------------------------+------------------------------+ | Debian 12 (arm) | SKIPPED | SKIPPED | PASS | PASS | +------------------------------+----------------+--------------+---------------------------+------------------------------+ CentOS Stream 10 Kernel: 5.4 Compiler: gcc gcc (GCC) 14.2.1 20250110 (Red Hat 14.2.1-8) Fedora Linux 40 Kernel: 5.4 Compiler: gcc gcc (GCC) 14.2.1 20240912 (Red Hat 14.2.1-3) Ubuntu 22.04 Kernel: 5.15 Compiler: gcc gcc (Ubuntu 11.4.0-1ubuntu1~22.04.2) 11.4.0 Fedora Linux 41 Kernel: 5.4 Compiler: gcc gcc (GCC) 14.3.1 20250523 (Red Hat 14.3.1-1) Debian GNU/Linux 12 Kernel: 5.4 Compiler: gcc gcc (Debian 12.2.0-14+deb12u1) 12.2.0 CentOS Stream 9 Kernel: 5.4 Compiler: gcc gcc (GCC) 11.5.0 20240719 (Red Hat 11.5.0-11) Red Hat Enterprise Linux 9.5 Kernel: 5.4 Compiler: gcc gcc (GCC) 11.5.0 20240719 (Red Hat 11.5.0-2) Fedora Linux 42 Kernel: 5.4 Compiler: clang gcc (GCC) 15.2.1 20250808 (Red Hat 15.2.1-1) Ubuntu 20.04 Kernel: 5.4 Compiler: gcc gcc (Ubuntu 9.4.0-1ubuntu1~20.04.2) 9.4.0 Ubuntu 24.04 Kernel: 5.4 Compiler: gcc gcc (Ubuntu 13.3.0-6ubuntu2~24.04) 13.3.0 Debian 12 (arm) Kernel: Depends on container host Compiler: gcc (Debian 12.2.0-14) 12.2.0 To view detailed results, visit: https://lab.dpdk.org/results/dashboard/patchsets/34401/ UNH-IOL DPDK Community Lab To manage your email subscriptions, visit: https://lab.dpdk.org/results/dashboard/preferences/subscriptions/