From mboxrd@z Thu Jan 1 00:00:00 1970 Return-Path: Received: from mails.dpdk.org (mails.dpdk.org [217.70.189.124]) by inbox.dpdk.org (Postfix) with ESMTP id 06C8748A15 for ; Wed, 29 Oct 2025 00:27:40 +0100 (CET) Received: from mails.dpdk.org (localhost [127.0.0.1]) by mails.dpdk.org (Postfix) with ESMTP id 00F4340262; Wed, 29 Oct 2025 00:27:40 +0100 (CET) Received: from mail-yx1-f97.google.com (mail-yx1-f97.google.com [74.125.224.97]) by mails.dpdk.org (Postfix) with ESMTP id 5C4A940262 for ; Wed, 29 Oct 2025 00:27:39 +0100 (CET) Received: by mail-yx1-f97.google.com with SMTP id 956f58d0204a3-63e393c4a8aso7790312d50.2 for ; Tue, 28 Oct 2025 16:27:39 -0700 (PDT) DKIM-Signature: v=1; a=rsa-sha256; c=relaxed/relaxed; d=iol.unh.edu; s=unh-iol; t=1761694059; x=1762298859; darn=dpdk.org; h=references:in-reply-to:cc:to:from:subject:message-id:date:from:to :cc:subject:date:message-id:reply-to; bh=ogynLSuKbncjofmIZH/K4gw2PQLg/XRCy+AbhqKxAA4=; b=f17J7XsbHyljRGNX9KQy7VuFtnNwFpKZTLC9Cqg4jTxoY3vYkOxMeTYioSbWRdEMQ+ m99N8/sb3lXycbvGlVoc7NyEzmO6i6yq6iyJt1NfB0z4/bUyubL4kN9rGLWvcua6FsCb 0sOwMAR1PWsPsw5irqOTrKDOqkd0AF7YZoJq8= X-Google-DKIM-Signature: v=1; a=rsa-sha256; c=relaxed/relaxed; d=1e100.net; s=20230601; t=1761694059; x=1762298859; h=references:in-reply-to:cc:to:from:subject:message-id:date :x-gm-message-state:from:to:cc:subject:date:message-id:reply-to; bh=ogynLSuKbncjofmIZH/K4gw2PQLg/XRCy+AbhqKxAA4=; b=CucSxbUSdA6ytYpFZuIczrQi4nkIIEbN69+oXakAjfqOg01bJ0sxCIvEm38D3u7spx ACNg4ao1AF5aRu7GZ9OKouOYCIF5FVMkWZg10k5r8g/FYoxqpN/fdUcGKwndJgP4PF46 +B1/WpzdtMlgR6BUbsMFLeP0cDdK2SN4KeuXZTboiFqyDdLrmZfWyedZgtcjMLXR+V3L CMmi9sEot/zvYAGxbfaBJyth6X9ApGDzn3/pekDlI7p46wLo9Vtkwts65T2dfNvYjNhk b9IPTx4WzZU37MPvBSX6BO8fXivVSRoXh8ieggy7r9KV6EtC9LJ/C6rvjj1obtuNsixe bX3A== X-Gm-Message-State: AOJu0YyFQxrLLPvs2ldsCgHrf/gdPpZsw8gmoW+XiyfEmABX+berHVZW 7WMD0E9e0EX6itn04V9FpMwKJ6d+NqTdSKwdeVZDD1O6301eu6tFK85j+FOSISzVOzPvwYCL5UL 5Fr9ABkuyqOoLH/vtgskbnDL8qBtxy1Dpq+T1Xtk5d+zi X-Gm-Gg: ASbGncvKtuRpdnym2Rr3NuctkHfAiXLaHPtD5vwnFGRW1RQzYRtWXh5o4YKi9UpnjoR uoPs29Bv3TVzqSDv0gsP4Jx5GByPbGrm6T/Tz6hBt6beXIgqz6MmUEsFKJeqcuKm+a393gGfYBA RNCdE4fxQzU1v/0m+3rJ9wvr+L7m4l+H6BVXRDr/HsY4JEQkFEOSSayZdn4tYlgdRw2akaiyFQx P7KOeUwHbblDrStzeuvmoLieSHFdPHioxrGslJfbRh2mn5o8Id+/qNhgipWj7VD8UzYL5T0GEyk f2QO33ds6EVD6RlpNc0YDihipxAZCsrRYQSRMqNRx7as3g0VSwBqxc4XjFvJF2pOTVA7glTOH/y CwIq7+EPSbu3c1gJINv53cMi5dlYWcJY= X-Google-Smtp-Source: AGHT+IEZgQzjs8INJbEn3/c6wazURVyGeU1Jfa3hE0QU/9wg86V2j2wi47goFpE1J0rCGybkfjGCiwCaMWyy X-Received: by 2002:a05:690e:c46:b0:63f:6bbc:ebdf with SMTP id 956f58d0204a3-63f76dae1ecmr1013574d50.43.1761694058727; Tue, 28 Oct 2025 16:27:38 -0700 (PDT) Received: from postal.iol.unh.edu (postal.iol.unh.edu. [132.177.123.84]) by smtp-relay.gmail.com with ESMTPS id 956f58d0204a3-63f4c471471sm927506d50.14.2025.10.28.16.27.38 (version=TLS1_2 cipher=ECDHE-ECDSA-AES128-GCM-SHA256 bits=128/128); Tue, 28 Oct 2025 16:27:38 -0700 (PDT) X-Relaying-Domain: iol.unh.edu Date: Tue, 28 Oct 2025 16:27:38 -0700 (PDT) Message-ID: <6901516a.530a0220.3bfbf6.a656SMTPIN_ADDED_MISSING@mx.google.com> Received: from [172.21.0.2] (unknown [172.18.0.240]) by postal.iol.unh.edu (Postfix) with ESMTP id 4944C604D420; Tue, 28 Oct 2025 19:27:38 -0400 (EDT) Subject: |SUCCESS| pw158203 [PATCH] [v3] fib6: implement RCU rule reclamation From: dpdklab@iol.unh.edu To: Test Report Cc: dpdk-test-reports@iol.unh.edu In-Reply-To: <20251028173703.548656-3-rjarry@redhat.com> References: <20251028173703.548656-3-rjarry@redhat.com> Content-Type: text/plain X-BeenThere: test-report@dpdk.org X-Mailman-Version: 2.1.29 Precedence: list List-Id: automatic DPDK test reports List-Unsubscribe: , List-Archive: List-Post: List-Help: List-Subscribe: , Errors-To: test-report-bounces@dpdk.org Test-Label: iol-unit-amd64-testing Test-Status: SUCCESS http://dpdk.org/patch/158203 _Testing PASS_ Submitter: Robin Jarry Date: Tuesday, October 28 2025 17:37:05 DPDK git baseline: Repo:dpdk Branch: master CommitID:39b54f2dcf44ad1f91eabc7080cd5dea763607fd 158203 --> testing pass Upstream job id: Generic-VM-Unit-Test-DPDK#32135 Test environment and result as below: +-------------------------------+----------------+ | Environment | dpdk_unit_test | +===============================+================+ | CentOS Stream 9 | PASS | +-------------------------------+----------------+ | CentOS Stream 10 | PASS | +-------------------------------+----------------+ | Debian GNU/Linux 12 | PASS | +-------------------------------+----------------+ | Fedora Linux 40 | PASS | +-------------------------------+----------------+ | Fedora Linux 41 | PASS | +-------------------------------+----------------+ | Red Hat Enterprise Linux 8.10 | PASS | +-------------------------------+----------------+ | Fedora Linux 42 | PASS | +-------------------------------+----------------+ | Red Hat Enterprise Linux 9.5 | PASS | +-------------------------------+----------------+ | Ubuntu 20.04 | PASS | +-------------------------------+----------------+ | Ubuntu 24.04 | PASS | +-------------------------------+----------------+ | Ubuntu 22.04 | PASS | +-------------------------------+----------------+ | Windows Server 2022 | PASS | +-------------------------------+----------------+ CentOS Stream 9 Kernel: 5.15 Compiler: gcc gcc (GCC) 11.5.0 20240719 (Red Hat 11.5.0-11) CentOS Stream 10 Kernel: 5.15 Compiler: gcc gcc (GCC) 14.2.1 20250110 (Red Hat 14.2.1-8) Debian GNU/Linux 12 Kernel: 5.15 Compiler: gcc gcc (Debian 12.2.0-14+deb12u1) 12.2.0 Fedora Linux 40 Kernel: 5.15 Compiler: gcc gcc (GCC) 14.2.1 20240912 (Red Hat 14.2.1-3) Fedora Linux 41 Kernel: 5.15 Compiler: gcc gcc (GCC) 14.3.1 20250523 (Red Hat 14.3.1-1) Red Hat Enterprise Linux 8.10 Kernel: 5.15 Compiler: gcc gcc (GCC) 8.5.0 20210514 (Red Hat 8.5.0-22) Fedora Linux 42 Kernel: 5.15 Compiler: clang gcc (GCC) 15.2.1 20250808 (Red Hat 15.2.1-1) Red Hat Enterprise Linux 9.5 Kernel: 5.15 Compiler: gcc gcc (GCC) 11.5.0 20240719 (Red Hat 11.5.0-2) Ubuntu 20.04 Kernel: 5.15 Compiler: gcc gcc (Ubuntu 9.4.0-1ubuntu1~20.04.2) 9.4.0 Ubuntu 24.04 Kernel: 5.15 Compiler: gcc gcc (Ubuntu 13.3.0-6ubuntu2~24.04) 13.3.0 Ubuntu 22.04 Kernel: 5.15 Compiler: gcc gcc (Ubuntu 11.4.0-1ubuntu1~22.04) 11.4.0 Windows Server 2022 Kernel: 10.0.20348.2031 Compiler: clang 15.0.7, gcc 14.1.0 (MinGW), and MSVC VS 19.39.33521 To view detailed results, visit: https://lab.dpdk.org/results/dashboard/patchsets/34407/ UNH-IOL DPDK Community Lab To manage your email subscriptions, visit: https://lab.dpdk.org/results/dashboard/preferences/subscriptions/